Workbook

Sheet Base Model 1
B1: Observed | J1: Base Model | R1: Difference (Base - Observed) | Z1: Percent Difference (Base - Observed)/Observed
C3: Age (years) | K3: Age (years) | S3: Age (years) | AA3: Age (years)
B4: Vehicle Type | C4: 1-5 | D4: 6-10 | E4: 11-15 | F4: 16-20+ | G4: Total | J4: Vehicle Type | K4: 1-5 | L4: 6-10 | M4: 11-15 | N4: 16-20+ | O4: Total | R4: Vehicle Type | S4: 1-5 | T4: 6-10 | U4: 11-15 | V4: 16-20+ | W4: Total | Z4: Vehicle Type | AA4: 1-5 | AB4: 6-10 | AC4: 11-15 | AD4: 16-20+ | AE4: Total
B5: Car-Gas | C5: =Paste!$H$5 -> 35106 | D5: =Paste!$H$10 -> 29243 | E5: =Paste!$H$15 -> 24405 | F5: =Paste!$H$20 -> 21052 | G5: =SUM(C5:F5) -> 109806 | J5: Car-Gas | K5: =Paste!$H$8 -> 35293 | L5: =Paste!$H$13 -> 27082 | M5: =Paste!$H$18 -> 24524 | N5: =Paste!$H$23 -> 20678 | O5: =SUM(K5:N5) -> 107577 | R5: Car-Gas | S5: =K5-C5 -> 187 | T5: =L5-D5 -> -2161 | U5: =M5-E5 -> 119 | V5: =N5-F5 -> -374 | W5: =O5-G5 -> -2229 | Z5: Car-Gas | AA5: =IF(C5>0,S5/C5,"") -> 0.0053267248 | AB5: =IF(D5>0,T5/D5,"") -> -0.073898027 | AC5: =IF(E5>0,U5/E5,"") -> 0.00487605 | AD5: =IF(F5>0,V5/F5,"") -> -0.017765533 | AE5: =IF(G5>0,W5/G5,"") -> -0.020299437
B6: Car-Diesel | C6: =Paste!$H$25 -> 501 | D6: =Paste!$H$30 -> 241 | E6: =Paste!$H$35 -> 201 | F6: =Paste!$H$40 -> 183 | G6: =SUM(C6:F6) -> 1126 | J6: Car-Diesel | K6: =Paste!$H$28 -> 396 | L6: =Paste!$H$33 -> 279 | M6: =Paste!$H$38 -> 216 | N6: =Paste!$H$43 -> 160 | O6: =SUM(K6:N6) -> 1051 | R6: Car-Diesel | S6: =K6-C6 -> -105 | T6: =L6-D6 -> 38 | U6: =M6-E6 -> 15 | V6: =N6-F6 -> -23 | W6: =O6-G6 -> -75 | Z6: Car-Diesel | AA6: =IF(C6>0,S6/C6,"") -> -0.20958084 | AB6: =IF(D6>0,T6/D6,"") -> 0.15767635 | AC6: =IF(E6>0,U6/E6,"") -> 0.074626866 | AD6: =IF(F6>0,V6/F6,"") -> -0.12568306 | AE6: =IF(G6>0,W6/G6,"") -> -0.06660746
B7: Car-Hybrid | C7: =Paste!$H$45 -> 2305 | D7: =Paste!$H$50 -> 1497 | E7: =Paste!$H$55 -> 458 | F7: =Paste!$H$60 -> 27 | G7: =SUM(C7:F7) -> 4287 | J7: Car-Hybrid | K7: =Paste!$H$48 -> 2330 | L7: =Paste!$H$53 -> 972 | M7: =Paste!$H$58 -> 250 | N7: =Paste!$H$63 -> 71 | O7: =SUM(K7:N7) -> 3623 | R7: Car-Hybrid | S7: =K7-C7 -> 25 | T7: =L7-D7 -> -525 | U7: =M7-E7 -> -208 | V7: =N7-F7 -> 44 | W7: =O7-G7 -> -664 | Z7: Car-Hybrid | AA7: =IF(C7>0,S7/C7,"") -> 0.010845987 | AB7: =IF(D7>0,T7/D7,"") -> -0.3507014 | AC7: =IF(E7>0,U7/E7,"") -> -0.45414847 | AD7: =IF(F7>0,V7/F7,"") -> 1.6296296 | AE7: =IF(G7>0,W7/G7,"") -> -0.15488687
B8: Car-PEV | C8: =Paste!$H$65 -> 398 | D8: =Paste!$H$70 -> 24 | E8: =Paste!$H$75 -> 4 | F8: =Paste!$H$80 -> 0 | G8: =SUM(C8:F8) -> 426 | J8: Car-PEV | K8: =Paste!$H$68 -> 332 | L8: =Paste!$H$73 -> 42 | M8: =Paste!$H$78 -> 0 | N8: =Paste!$H$83 -> 1 | O8: =SUM(K8:N8) -> 375 | R8: Car-PEV | S8: =K8-C8 -> -66 | T8: =L8-D8 -> 18 | U8: =M8-E8 -> -4 | V8: =N8-F8 -> 1 | W8: =O8-G8 -> -51 | Z8: Car-PEV | AA8: =IF(C8>0,S8/C8,"") -> -0.16582915 | AB8: =IF(D8>0,T8/D8,"") -> 0.75 | AC8: =IF(E8>0,U8/E8,"") -> -1 | AD8: =IF(F8>0,V8/F8,"") | AE8: =IF(G8>0,W8/G8,"") -> -0.11971831
B9: Car-BEV | C9: =Paste!$H$85 -> 411 | D9: =Paste!$H$90 -> 27 | E9: =Paste!$H$95 -> 2 | F9: =Paste!$H$200 -> 0 | G9: =SUM(C9:F9) -> 440 | J9: Car-BEV | K9: =Paste!$H$88 -> 336 | L9: =Paste!$H$93 -> 42 | M9: =Paste!$H$98 -> 0 | N9: =Paste!$H$203 -> 0 | O9: =SUM(K9:N9) -> 378 | R9: Car-BEV | S9: =K9-C9 -> -75 | T9: =L9-D9 -> 15 | U9: =M9-E9 -> -2 | V9: =N9-F9 -> 0 | W9: =O9-G9 -> -62 | Z9: Car-BEV | AA9: =IF(C9>0,S9/C9,"") -> -0.18248175 | AB9: =IF(D9>0,T9/D9,"") -> 0.55555556 | AC9: =IF(E9>0,U9/E9,"") -> -1 | AD9: =IF(F9>0,V9/F9,"") | AE9: =IF(G9>0,W9/G9,"") -> -0.14090909
B10: Van-Gas | C10: =Paste!$H$105 -> 3344 | D10: =Paste!$H$110 -> 3076 | E10: =Paste!$H$115 -> 3513 | F10: =Paste!$H$120 -> 2489 | G10: =SUM(C10:F10) -> 12422 | J10: Van-Gas | K10: =Paste!$H$108 -> 3375 | L10: =Paste!$H$113 -> 3251 | M10: =Paste!$H$118 -> 4219 | N10: =Paste!$H$123 -> 3050 | O10: =SUM(K10:N10) -> 13895 | R10: Van-Gas | S10: =K10-C10 -> 31 | T10: =L10-D10 -> 175 | U10: =M10-E10 -> 706 | V10: =N10-F10 -> 561 | W10: =O10-G10 -> 1473 | Z10: Van-Gas | AA10: =IF(C10>0,S10/C10,"") -> 0.0092703349 | AB10: =IF(D10>0,T10/D10,"") -> 0.056892068 | AC10: =IF(E10>0,U10/E10,"") -> 0.20096783 | AD10: =IF(F10>0,V10/F10,"") -> 0.22539172 | AE10: =IF(G10>0,W10/G10,"") -> 0.11857994
B11: Van-Diesel | C11: =Paste!$H$125 -> 28 | D11: =Paste!$H$130 -> 13 | E11: =Paste!$H$135 -> 27 | F11: =Paste!$H$140 -> 23 | G11: =SUM(C11:F11) -> 91 | J11: Van-Diesel | K11: =Paste!$H$128 -> 27 | L11: =Paste!$H$133 -> 24 | M11: =Paste!$H$138 -> 27 | N11: =Paste!$H$143 -> 17 | O11: =SUM(K11:N11) -> 95 | R11: Van-Diesel | S11: =K11-C11 -> -1 | T11: =L11-D11 -> 11 | U11: =M11-E11 -> 0 | V11: =N11-F11 -> -6 | W11: =O11-G11 -> 4 | Z11: Van-Diesel | AA11: =IF(C11>0,S11/C11,"") -> -0.035714286 | AB11: =IF(D11>0,T11/D11,"") -> 0.84615385 | AC11: =IF(E11>0,U11/E11,"") -> 0 | AD11: =IF(F11>0,V11/F11,"") -> -0.26086957 | AE11: =IF(G11>0,W11/G11,"") -> 0.043956044
B12: Van-Hybrid | C12: =Paste!$H$145 -> 11 | D12: =Paste!$H$150 -> 1 | E12: =Paste!$H$155 -> 2 | F12: =Paste!$H$160 -> 0 | G12: =SUM(C12:F12) -> 14 | J12: Van-Hybrid | K12: =Paste!$H$148 -> 7 | L12: =Paste!$H$153 -> 3 | M12: =Paste!$H$158 -> 1 | N12: =Paste!$H$163 -> 0 | O12: =SUM(K12:N12) -> 11 | R12: Van-Hybrid | S12: =K12-C12 -> -4 | T12: =L12-D12 -> 2 | U12: =M12-E12 -> -1 | V12: =N12-F12 -> 0 | W12: =O12-G12 -> -3 | Z12: Van-Hybrid | AA12: =IF(C12>0,S12/C12,"") -> -0.36363636 | AB12: =IF(D12>0,T12/D12,"") -> 2 | AC12: =IF(E12>0,U12/E12,"") -> -0.5 | AD12: =IF(F12>0,V12/F12,"") | AE12: =IF(G12>0,W12/G12,"") -> -0.21428571
B13: Van-PEV | C13: =Paste!$H$165 -> 3 | D13: =Paste!$H$170 -> 0 | E13: =Paste!$H$175 -> 0 | F13: =Paste!$H$180 -> 0 | G13: =SUM(C13:F13) -> 3 | J13: Van-PEV | K13: =Paste!$H$168 -> 1 | L13: =Paste!$H$173 -> 0 | M13: =Paste!$H$178 -> 0 | N13: =Paste!$H$183 -> 0 | O13: =SUM(K13:N13) -> 1 | R13: Van-PEV | S13: =K13-C13 -> -2 | T13: =L13-D13 -> 0 | U13: =M13-E13 -> 0 | V13: =N13-F13 -> 0 | W13: =O13-G13 -> -2 | Z13: Van-PEV | AA13: =IF(C13>0,S13/C13,"") -> -0.66666667 | AB13: =IF(D13>0,T13/D13,"") | AC13: =IF(E13>0,U13/E13,"") | AD13: =IF(F13>0,V13/F13,"") | AE13: =IF(G13>0,W13/G13,"") -> -0.66666667
B14: Van-BEV | C14: =Paste!$H$185 -> 1 | D14: =Paste!$H$190 -> 0 | E14: =Paste!$H$195 -> 0 | F14: =Paste!$H$200 -> 0 | G14: =SUM(C14:F14) -> 1 | J14: Van-BEV | K14: =Paste!$H$188 -> 2 | L14: =Paste!$H$193 -> 0 | M14: =Paste!$H$198 -> 0 | N14: =Paste!$H$203 -> 0 | O14: =SUM(K14:N14) -> 2 | R14: Van-BEV | S14: =K14-C14 -> 1 | T14: =L14-D14 -> 0 | U14: =M14-E14 -> 0 | V14: =N14-F14 -> 0 | W14: =O14-G14 -> 1 | Z14: Van-BEV | AA14: =IF(C14>0,S14/C14,"") -> 1 | AB14: =IF(D14>0,T14/D14,"") | AC14: =IF(E14>0,U14/E14,"") | AD14: =IF(F14>0,V14/F14,"") | AE14: =IF(G14>0,W14/G14,"") -> 1
B15: SUV-Gas | C15: =Paste!$H$205 -> 24826 | D15: =Paste!$H$210 -> 14179 | E15: =Paste!$H$215 -> 11355 | F15: =Paste!$H$220 -> 6461 | G15: =SUM(C15:F15) -> 56821 | J15: SUV-Gas | K15: =Paste!$H$208 -> 23914 | L15: =Paste!$H$213 -> 13673 | M15: =Paste!$H$218 -> 7035 | N15: =Paste!$H$223 -> 4740 | O15: =SUM(K15:N15) -> 49362 | R15: SUV-Gas | S15: =K15-C15 -> -912 | T15: =L15-D15 -> -506 | U15: =M15-E15 -> -4320 | V15: =N15-F15 -> -1721 | W15: =O15-G15 -> -7459 | Z15: SUV-Gas | AA15: =IF(C15>0,S15/C15,"") -> -0.03673568 | AB15: =IF(D15>0,T15/D15,"") -> -0.035686579 | AC15: =IF(E15>0,U15/E15,"") -> -0.38044914 | AD15: =IF(F15>0,V15/F15,"") -> -0.26636744 | AE15: =IF(G15>0,W15/G15,"") -> -0.13127189
B16: SUV-Diesel | C16: =Paste!$H$225 -> 203 | D16: =Paste!$H$230 -> 46 | E16: =Paste!$H$235 -> 69 | F16: =Paste!$H$240 -> 43 | G16: =SUM(C16:F16) -> 361 | J16: SUV-Diesel | K16: =Paste!$H$228 -> 163 | L16: =Paste!$H$233 -> 87 | M16: =Paste!$H$238 -> 38 | N16: =Paste!$H$243 -> 22 | O16: =SUM(K16:N16) -> 310 | R16: SUV-Diesel | S16: =K16-C16 -> -40 | T16: =L16-D16 -> 41 | U16: =M16-E16 -> -31 | V16: =N16-F16 -> -21 | W16: =O16-G16 -> -51 | Z16: SUV-Diesel | AA16: =IF(C16>0,S16/C16,"") -> -0.19704433 | AB16: =IF(D16>0,T16/D16,"") -> 0.89130435 | AC16: =IF(E16>0,U16/E16,"") -> -0.44927536 | AD16: =IF(F16>0,V16/F16,"") -> -0.48837209 | AE16: =IF(G16>0,W16/G16,"") -> -0.14127424
B17: SUV-Hybrid | C17: =Paste!$H$245 -> 196 | D17: =Paste!$H$250 -> 217 | E17: =Paste!$H$255 -> 88 | F17: =Paste!$H$260 -> 4 | G17: =SUM(C17:F17) -> 505 | J17: SUV-Hybrid | K17: =Paste!$H$248 -> 309 | L17: =Paste!$H$253 -> 102 | M17: =Paste!$H$258 -> 14 | N17: =Paste!$H$263 -> 3 | O17: =SUM(K17:N17) -> 428 | R17: SUV-Hybrid | S17: =K17-C17 -> 113 | T17: =L17-D17 -> -115 | U17: =M17-E17 -> -74 | V17: =N17-F17 -> -1 | W17: =O17-G17 -> -77 | Z17: SUV-Hybrid | AA17: =IF(C17>0,S17/C17,"") -> 0.57653061 | AB17: =IF(D17>0,T17/D17,"") -> -0.52995392 | AC17: =IF(E17>0,U17/E17,"") -> -0.84090909 | AD17: =IF(F17>0,V17/F17,"") -> -0.25 | AE17: =IF(G17>0,W17/G17,"") -> -0.15247525
B18: SUV-PEV | C18: =Paste!$H$265 -> 16 | D18: =Paste!$H$270 -> 4 | E18: =Paste!$H$275 -> 0 | F18: =Paste!$H$280 -> 0 | G18: =SUM(C18:F18) -> 20 | J18: SUV-PEV | K18: =Paste!$H$268 -> 13 | L18: =Paste!$H$273 -> 1 | M18: =Paste!$H$278 -> 0 | N18: =Paste!$H$283 -> 0 | O18: =SUM(K18:N18) -> 14 | R18: SUV-PEV | S18: =K18-C18 -> -3 | T18: =L18-D18 -> -3 | U18: =M18-E18 -> 0 | V18: =N18-F18 -> 0 | W18: =O18-G18 -> -6 | Z18: SUV-PEV | AA18: =IF(C18>0,S18/C18,"") -> -0.1875 | AB18: =IF(D18>0,T18/D18,"") -> -0.75 | AC18: =IF(E18>0,U18/E18,"") | AD18: =IF(F18>0,V18/F18,"") | AE18: =IF(G18>0,W18/G18,"") -> -0.3
B19: SUV-BEV | C19: =Paste!$H$285 -> 11 | D19: =Paste!$H$290 -> 0 | E19: =Paste!$H$295 -> 0 | F19: =Paste!$H$300 -> 0 | G19: =SUM(C19:F19) -> 11 | J19: SUV-BEV | K19: =Paste!$H$288 -> 13 | L19: =Paste!$H$293 -> 1 | M19: =Paste!$H$298 -> 0 | N19: =Paste!$H$303 -> 0 | O19: =SUM(K19:N19) -> 14 | R19: SUV-BEV | S19: =K19-C19 -> 2 | T19: =L19-D19 -> 1 | U19: =M19-E19 -> 0 | V19: =N19-F19 -> 0 | W19: =O19-G19 -> 3 | Z19: SUV-BEV | AA19: =IF(C19>0,S19/C19,"") -> 0.18181818 | AB19: =IF(D19>0,T19/D19,"") | AC19: =IF(E19>0,U19/E19,"") | AD19: =IF(F19>0,V19/F19,"") | AE19: =IF(G19>0,W19/G19,"") -> 0.27272727
B20: Pickup-Gas | C20: =Paste!$H$305 -> 8781 | D20: =Paste!$H$310 -> 7487 | E20: =Paste!$H$315 -> 9934 | F20: =Paste!$H$320 -> 13399 | G20: =SUM(C20:F20) -> 39601 | J20: Pickup-Gas | K20: =Paste!$H$308 -> 8067 | L20: =Paste!$H$313 -> 9282 | M20: =Paste!$H$318 -> 15127 | N20: =Paste!$H$323 -> 15540 | O20: =SUM(K20:N20) -> 48016 | R20: Pickup-Gas | S20: =K20-C20 -> -714 | T20: =L20-D20 -> 1795 | U20: =M20-E20 -> 5193 | V20: =N20-F20 -> 2141 | W20: =O20-G20 -> 8415 | Z20: Pickup-Gas | AA20: =IF(C20>0,S20/C20,"") -> -0.081311923 | AB20: =IF(D20>0,T20/D20,"") -> 0.2397489 | AC20: =IF(E20>0,U20/E20,"") -> 0.52275015 | AD20: =IF(F20>0,V20/F20,"") -> 0.15978804 | AE20: =IF(G20>0,W20/G20,"") -> 0.21249463
B21: Pickup-Diesel | C21: =Paste!$H$325 -> 1160 | D21: =Paste!$H$330 -> 874 | E21: =Paste!$H$335 -> 1550 | F21: =Paste!$H$340 -> 1318 | G21: =SUM(C21:F21) -> 4902 | J21: Pickup-Diesel | K21: =Paste!$H$328 -> 1146 | L21: =Paste!$H$333 -> 1189 | M21: =Paste!$H$338 -> 1683 | N21: =Paste!$H$343 -> 1528 | O21: =SUM(K21:N21) -> 5546 | R21: Pickup-Diesel | S21: =K21-C21 -> -14 | T21: =L21-D21 -> 315 | U21: =M21-E21 -> 133 | V21: =N21-F21 -> 210 | W21: =O21-G21 -> 644 | Z21: Pickup-Diesel | AA21: =IF(C21>0,S21/C21,"") -> -0.012068966 | AB21: =IF(D21>0,T21/D21,"") -> 0.3604119 | AC21: =IF(E21>0,U21/E21,"") -> 0.085806452 | AD21: =IF(F21>0,V21/F21,"") -> 0.15933232 | AE21: =IF(G21>0,W21/G21,"") -> 0.13137495
B22: Pickup-Hybrid | C22: =Paste!$H$345 -> 3 | D22: =Paste!$H$350 -> 4 | E22: =Paste!$H$355 -> 2 | F22: =Paste!$H$360 -> 1 | G22: =SUM(C22:F22) -> 10 | J22: Pickup-Hybrid | K22: =Paste!$H$348 -> 4 | L22: =Paste!$H$353 -> 2 | M22: =Paste!$H$358 -> 1 | N22: =Paste!$H$363 -> 0 | O22: =SUM(K22:N22) -> 7 | R22: Pickup-Hybrid | S22: =K22-C22 -> 1 | T22: =L22-D22 -> -2 | U22: =M22-E22 -> -1 | V22: =N22-F22 -> -1 | W22: =O22-G22 -> -3 | Z22: Pickup-Hybrid | AA22: =IF(C22>0,S22/C22,"") -> 0.33333333 | AB22: =IF(D22>0,T22/D22,"") -> -0.5 | AC22: =IF(E22>0,U22/E22,"") -> -0.5 | AD22: =IF(F22>0,V22/F22,"") -> -1 | AE22: =IF(G22>0,W22/G22,"") -> -0.3
B23: Pickup-PEV | C23: =Paste!$H$365 -> 0 | D23: =Paste!$H$370 -> 0 | E23: =Paste!$H$375 -> 0 | F23: =Paste!$H$380 -> 0 | G23: =SUM(C23:F23) -> 0 | J23: Pickup-PEV | K23: =Paste!$H$368 -> 0 | L23: =Paste!$H$373 -> 0 | M23: =Paste!$H$378 -> 0 | N23: =Paste!$H$383 -> 0 | O23: =SUM(K23:N23) -> 0 | R23: Pickup-PEV | S23: =K23-C23 -> 0 | T23: =L23-D23 -> 0 | U23: =M23-E23 -> 0 | V23: =N23-F23 -> 0 | W23: =O23-G23 -> 0 | Z23: Pickup-PEV | AA23: =IF(C23>0,S23/C23,"") | AB23: =IF(D23>0,T23/D23,"") | AC23: =IF(E23>0,U23/E23,"") | AD23: =IF(F23>0,V23/F23,"") | AE23: =IF(G23>0,W23/G23,"")
B24: Pickup-BEV | C24: =Paste!$H$385 -> 1 | D24: =Paste!$H$390 -> 0 | E24: =Paste!$H$395 -> 0 | F24: =Paste!$H$400 -> 0 | G24: =SUM(C24:F24) -> 1 | J24: Pickup-BEV | K24: =Paste!$H$388 -> 0 | L24: =Paste!$H$393 -> 0 | M24: =Paste!$H$398 -> 0 | N24: =Paste!$H$403 -> 0 | O24: =SUM(K24:N24) -> 0 | R24: Pickup-BEV | S24: =K24-C24 -> -1 | T24: =L24-D24 -> 0 | U24: =M24-E24 -> 0 | V24: =N24-F24 -> 0 | W24: =O24-G24 -> -1 | Z24: Pickup-BEV | AA24: =IF(C24>0,S24/C24,"") -> -1 | AB24: =IF(D24>0,T24/D24,"") | AC24: =IF(E24>0,U24/E24,"") | AD24: =IF(F24>0,V24/F24,"") | AE24: =IF(G24>0,W24/G24,"") -> -1
B25: Motorcycle-Gas | C25: =Paste!$H$405 -> 1370 | D25: =Paste!$H$410 -> 1637 | E25: =Paste!$H$415 -> 1752 | F25: =Paste!$H$420 -> 1951 | G25: =SUM(C25:F25) -> 6710 | J25: Motorcycle-Gas | K25: =Paste!$H$408 -> 1425 | L25: =Paste!$H$413 -> 1468 | M25: =Paste!$H$418 -> 1855 | N25: =Paste!$H$423 -> 2103 | O25: =SUM(K25:N25) -> 6851 | R25: Motorcycle-Gas | S25: =K25-C25 -> 55 | T25: =L25-D25 -> -169 | U25: =M25-E25 -> 103 | V25: =N25-F25 -> 152 | W25: =O25-G25 -> 141 | Z25: Motorcycle-Gas | AA25: =IF(C25>0,S25/C25,"") -> 0.040145985 | AB25: =IF(D25>0,T25/D25,"") -> -0.10323763 | AC25: =IF(E25>0,U25/E25,"") -> 0.058789954 | AD25: =IF(F25>0,V25/F25,"") -> 0.077908765 | AE25: =IF(G25>0,W25/G25,"") -> 0.021013413
B26: Motorcycle-Diesel | C26: =Paste!$H$425 -> 0 | D26: =Paste!$H$430 -> 0 | E26: =Paste!$H$435 -> 0 | F26: =Paste!$H$440 -> 0 | G26: =SUM(C26:F26) -> 0 | J26: Motorcycle-Diesel | K26: =Paste!$H$428 -> 0 | L26: =Paste!$H$433 -> 0 | M26: =Paste!$H$438 -> 0 | N26: =Paste!$H$443 -> 0 | O26: =SUM(K26:N26) -> 0 | R26: Motorcycle-Diesel | S26: =K26-C26 -> 0 | T26: =L26-D26 -> 0 | U26: =M26-E26 -> 0 | V26: =N26-F26 -> 0 | W26: =O26-G26 -> 0 | Z26: Motorcycle-Diesel | AA26: =IF(C26>0,S26/C26,"") | AB26: =IF(D26>0,T26/D26,"") | AC26: =IF(E26>0,U26/E26,"") | AD26: =IF(F26>0,V26/F26,"") | AE26: =IF(G26>0,W26/G26,"")
B27: Motorcycle-Hybrid | C27: =Paste!$H$445 -> 0 | D27: =Paste!$H$450 -> 0 | E27: =Paste!$H$455 -> 0 | F27: =Paste!$H$460 -> 0 | G27: =SUM(C27:F27) -> 0 | J27: Motorcycle-Hybrid | K27: =Paste!$H$448 -> 0 | L27: =Paste!$H$453 -> 0 | M27: =Paste!$H$458 -> 0 | N27: =Paste!$H$463 -> 0 | O27: =SUM(K27:N27) -> 0 | R27: Motorcycle-Hybrid | S27: =K27-C27 -> 0 | T27: =L27-D27 -> 0 | U27: =M27-E27 -> 0 | V27: =N27-F27 -> 0 | W27: =O27-G27 -> 0 | Z27: Motorcycle-Hybrid | AA27: =IF(C27>0,S27/C27,"") | AB27: =IF(D27>0,T27/D27,"") | AC27: =IF(E27>0,U27/E27,"") | AD27: =IF(F27>0,V27/F27,"") | AE27: =IF(G27>0,W27/G27,"")
B28: Motorcycle-PEV | C28: =Paste!$H$465 -> 0 | D28: =Paste!$H$470 -> 0 | E28: =Paste!$H$475 -> 0 | F28: =Paste!$H$480 -> 0 | G28: =SUM(C28:F28) -> 0 | J28: Motorcycle-PEV | K28: =Paste!$H$468 -> 0 | L28: =Paste!$H$473 -> 0 | M28: =Paste!$H$478 -> 0 | N28: =Paste!$H$483 -> 0 | O28: =SUM(K28:N28) -> 0 | R28: Motorcycle-PEV | S28: =K28-C28 -> 0 | T28: =L28-D28 -> 0 | U28: =M28-E28 -> 0 | V28: =N28-F28 -> 0 | W28: =O28-G28 -> 0 | Z28: Motorcycle-PEV | AA28: =IF(C28>0,S28/C28,"") | AB28: =IF(D28>0,T28/D28,"") | AC28: =IF(E28>0,U28/E28,"") | AD28: =IF(F28>0,V28/F28,"") | AE28: =IF(G28>0,W28/G28,"")
B29: Motorcycle-BEV | C29: =Paste!$H$485 -> 12 | D29: =Paste!$H$490 -> 7 | E29: =Paste!$H$495 -> 0 | F29: =Paste!$H$500 -> 0 | G29: =SUM(C29:F29) -> 19 | J29: Motorcycle-BEV | K29: =Paste!$H$488 -> 14 | L29: =Paste!$H$493 -> 2 | M29: =Paste!$H$498 -> 0 | N29: =Paste!$H$503 -> 0 | O29: =SUM(K29:N29) -> 16 | R29: Motorcycle-BEV | S29: =K29-C29 -> 2 | T29: =L29-D29 -> -5 | U29: =M29-E29 -> 0 | V29: =N29-F29 -> 0 | W29: =O29-G29 -> -3 | Z29: Motorcycle-BEV | AA29: =IF(C29>0,S29/C29,"") -> 0.16666667 | AB29: =IF(D29>0,T29/D29,"") -> -0.71428571 | AC29: =IF(E29>0,U29/E29,"") | AD29: =IF(F29>0,V29/F29,"") | AE29: =IF(G29>0,W29/G29,"") -> -0.15789474
B30: Total | C30: =SUM(C5:C29) -> 78687 | D30: =SUM(D5:D29) -> 58577 | E30: =SUM(E5:E29) -> 53362 | F30: =SUM(F5:F29) -> 46951 | G30: =SUM(G5:G29) -> 237577 | J30: Total | K30: =SUM(K5:K29) -> 77167 | L30: =SUM(L5:L29) -> 57502 | M30: =SUM(M5:M29) -> 54990 | N30: =SUM(N5:N29) -> 47913 | O30: =SUM(K30:N30) -> 237572 | R30: Total | S30: =K30-C30 -> -1520 | T30: =L30-D30 -> -1075 | U30: =M30-E30 -> 1628 | V30: =N30-F30 -> 962 | W30: =O30-G30 -> -5 | Z30: Total | AA30: =IF(C30>0,S30/C30,"") -> -0.019317041 | AB30: =IF(D30>0,T30/D30,"") -> -0.018351913 | AC30: =IF(E30>0,U30/E30,"") -> 0.030508602 | AD30: =IF(F30>0,V30/F30,"") -> 0.020489446 | AE30: =IF(G30>0,W30/G30,"") -> -2.1045808e-05
C32: Fuel Type | K32: Fuel Type | S32: Fuel Type | AA32: Fuel Type
B33: Body Type | C33: Gas | D33: Diesel | E33: Hybrid | F33: PEV | G33: BEV | H33: Total | J33: Body Type | K33: Gas | L33: Diesel | M33: Hybrid | N33: PEV | O33: BEV | P33: Total | R33: Body Type | S33: Gas | T33: Diesel | U33: Hybrid | V33: PEV | W33: BEV | X33: Total | Z33: Body Type | AA33: Gas | AB33: Diesel | AC33: Hybrid | AD33: PEV | AE33: BEV | AF33: Total
B34: Car | C34: =G5 -> 109806 | D34: =G6 -> 1126 | E34: =G7 -> 4287 | F34: =G8 -> 426 | G34: =G9 -> 440 | H34: =SUM(C34:G34) -> 116085 | J34: Car | K34: =O5 -> 107577 | L34: =O6 -> 1051 | M34: =O7 -> 3623 | N34: =O8 -> 375 | O34: =O9 -> 378 | P34: =SUM(K34:O34) -> 113004 | R34: Car | S34: =K34-C34 -> -2229 | T34: =L34-D34 -> -75 | U34: =M34-E34 -> -664 | V34: =N34-F34 -> -51 | W34: =O34-G34 -> -62 | X34: =P34-H34 -> -3081 | Z34: Car | AA34: =IF(C34>0,S34/C34,"") -> -0.020299437 | AB34: =IF(D34>0,T34/D34,"") -> -0.06660746 | AC34: =IF(E34>0,U34/E34,"") -> -0.15488687 | AD34: =IF(F34>0,V34/F34,"") -> -0.11971831 | AE34: =IF(G34>0,W34/G34,"") -> -0.14090909 | AF34: =IF(H34>0,X34/H34,"") -> -0.026540897
B35: Van | C35: =G10 -> 12422 | D35: =G11 -> 91 | E35: =G12 -> 14 | F35: =G13 -> 3 | G35: =G14 -> 1 | H35: =SUM(C35:G35) -> 12531 | J35: Van | K35: =O10 -> 13895 | L35: =O11 -> 95 | M35: =O12 -> 11 | N35: =O13 -> 1 | O35: =O14 -> 2 | P35: =SUM(K35:O35) -> 14004 | R35: Van | S35: =K35-C35 -> 1473 | T35: =L35-D35 -> 4 | U35: =M35-E35 -> -3 | V35: =N35-F35 -> -2 | W35: =O35-G35 -> 1 | X35: =P35-H35 -> 1473 | Z35: Van | AA35: =IF(C35>0,S35/C35,"") -> 0.11857994 | AB35: =IF(D35>0,T35/D35,"") -> 0.043956044 | AC35: =IF(E35>0,U35/E35,"") -> -0.21428571 | AD35: =IF(F35>0,V35/F35,"") -> -0.66666667 | AE35: =IF(G35>0,W35/G35,"") -> 1 | AF35: =IF(H35>0,X35/H35,"") -> 0.11754848
B36: SUV | C36: =G15 -> 56821 | D36: =G16 -> 361 | E36: =G17 -> 505 | F36: =G18 -> 20 | G36: =G19 -> 11 | H36: =SUM(C36:G36) -> 57718 | J36: SUV | K36: =O15 -> 49362 | L36: =O16 -> 310 | M36: =O17 -> 428 | N36: =O18 -> 14 | O36: =O19 -> 14 | P36: =SUM(K36:O36) -> 50128 | R36: SUV | S36: =K36-C36 -> -7459 | T36: =L36-D36 -> -51 | U36: =M36-E36 -> -77 | V36: =N36-F36 -> -6 | W36: =O36-G36 -> 3 | X36: =P36-H36 -> -7590 | Z36: SUV | AA36: =IF(C36>0,S36/C36,"") -> -0.13127189 | AB36: =IF(D36>0,T36/D36,"") -> -0.14127424 | AC36: =IF(E36>0,U36/E36,"") -> -0.15247525 | AD36: =IF(F36>0,V36/F36,"") -> -0.3 | AE36: =IF(G36>0,W36/G36,"") -> 0.27272727 | AF36: =IF(H36>0,X36/H36,"") -> -0.13150144
B37: Pickup | C37: =G20 -> 39601 | D37: =G21 -> 4902 | E37: =G22 -> 10 | F37: =G23 -> 0 | G37: =G24 -> 1 | H37: =SUM(C37:G37) -> 44514 | J37: Pickup | K37: =O20 -> 48016 | L37: =O21 -> 5546 | M37: =O22 -> 7 | N37: =O23 -> 0 | O37: =O24 -> 0 | P37: =SUM(K37:O37) -> 53569 | R37: Pickup | S37: =K37-C37 -> 8415 | T37: =L37-D37 -> 644 | U37: =M37-E37 -> -3 | V37: =N37-F37 -> 0 | W37: =O37-G37 -> -1 | X37: =P37-H37 -> 9055 | Z37: Pickup | AA37: =IF(C37>0,S37/C37,"") -> 0.21249463 | AB37: =IF(D37>0,T37/D37,"") -> 0.13137495 | AC37: =IF(E37>0,U37/E37,"") -> -0.3 | AD37: =IF(F37>0,V37/F37,"") | AE37: =IF(G37>0,W37/G37,"") -> -1 | AF37: =IF(H37>0,X37/H37,"") -> 0.20341915
B38: Motorcycle | C38: =G25 -> 6710 | D38: =G26 -> 0 | E38: =G27 -> 0 | F38: =G28 -> 0 | G38: =G29 -> 19 | H38: =SUM(C38:G38) -> 6729 | J38: Motorcycle | K38: =O25 -> 6851 | L38: =O26 -> 0 | M38: =O27 -> 0 | N38: =O28 -> 0 | O38: =O29 -> 16 | P38: =SUM(K38:O38) -> 6867 | R38: Motorcycle | S38: =K38-C38 -> 141 | T38: =L38-D38 -> 0 | U38: =M38-E38 -> 0 | V38: =N38-F38 -> 0 | W38: =O38-G38 -> -3 | X38: =P38-H38 -> 138 | Z38: Motorcycle | AA38: =IF(C38>0,S38/C38,"") -> 0.021013413 | AB38: =IF(D38>0,T38/D38,"") | AC38: =IF(E38>0,U38/E38,"") | AD38: =IF(F38>0,V38/F38,"") | AE38: =IF(G38>0,W38/G38,"") -> -0.15789474 | AF38: =IF(H38>0,X38/H38,"") -> 0.020508248
B39: Total | C39: =SUM(C34:C38) -> 225360 | D39: =SUM(D34:D38) -> 6480 | E39: =SUM(E34:E38) -> 4816 | F39: =SUM(F34:F38) -> 449 | G39: =SUM(G34:G38) -> 472 | H39: =SUM(C39:G39) -> 237577 | J39: Total | K39: =SUM(K34:K38) -> 225701 | L39: =SUM(L34:L38) -> 7002 | M39: =SUM(M34:M38) -> 4069 | N39: =SUM(N34:N38) -> 390 | O39: =SUM(O34:O38) -> 410 | P39: =SUM(K39:O39) -> 237572 | R39: Total | S39: =K39-C39 -> 341 | T39: =L39-D39 -> 522 | U39: =M39-E39 -> -747 | V39: =N39-F39 -> -59 | W39: =O39-G39 -> -62 | X39: =P39-H39 -> -5 | Z39: Total | AA39: =IF(C39>0,S39/C39,"") -> 0.0015131345 | AB39: =IF(D39>0,T39/D39,"") -> 0.080555556 | AC39: =IF(E39>0,U39/E39,"") -> -0.15510797 | AD39: =IF(F39>0,V39/F39,"") -> -0.13140312 | AE39: =IF(G39>0,W39/G39,"") -> -0.13135593 | AF39: =IF(H39>0,X39/H39,"") -> -2.1045808e-05
C41: Age (years) | K41: Age (years) | S41: Age (years) | AA41: Age (years)
B42: Body Type | C42: 1-5 | D42: 6-10 | E42: 11-15 | F42: 16-20+ | G42: Total | J42: Body Type | K42: 1-5 | L42: 6-10 | M42: 11-15 | N42: 16-20+ | O42: Total | R42: Body Type | S42: 1-5 | T42: 6-10 | U42: 11-15 | V42: 16-20+ | W42: Total | Z42: Body Type | AA42: 1-5 | AB42: 6-10 | AC42: 11-15 | AD42: 16-20+ | AE42: Total
B43: Car | C43: =SUM(C5:C9) -> 38721 | D43: =SUM(D5:D9) -> 31032 | E43: =SUM(E5:E9) -> 25070 | F43: =SUM(F5:F9) -> 21262 | G43: =SUM(G5:G9) -> 116085 | J43: Car | K43: =SUM(K5:K9) -> 38687 | L43: =SUM(L5:L9) -> 28417 | M43: =SUM(M5:M9) -> 24990 | N43: =SUM(N5:N9) -> 20910 | O43: =SUM(O5:O9) -> 113004 | R43: Car | S43: =K43-C43 -> -34 | T43: =L43-D43 -> -2615 | U43: =M43-E43 -> -80 | V43: =N43-F43 -> -352 | W43: =O43-G43 -> -3081 | Z43: Car | AA43: =IF(C43>0,S43/C43,"") -> -0.0008780765 | AB43: =IF(D43>0,T43/D43,"") -> -0.084267853 | AC43: =IF(E43>0,U43/E43,"") -> -0.003191065 | AD43: =IF(F43>0,V43/F43,"") -> -0.016555357 | AE43: =IF(G43>0,W43/G43,"") -> -0.026540897
B44: Van | C44: =SUM(C10:C14) -> 3387 | D44: =SUM(D10:D14) -> 3090 | E44: =SUM(E10:E14) -> 3542 | F44: =SUM(F10:F14) -> 2512 | G44: =SUM(G10:G14) -> 12531 | J44: Van | K44: =SUM(K10:K14) -> 3412 | L44: =SUM(L10:L14) -> 3278 | M44: =SUM(M10:M14) -> 4247 | N44: =SUM(N10:N14) -> 3067 | O44: =SUM(O10:O14) -> 14004 | R44: Van | S44: =K44-C44 -> 25 | T44: =L44-D44 -> 188 | U44: =M44-E44 -> 705 | V44: =N44-F44 -> 555 | W44: =O44-G44 -> 1473 | Z44: Van | AA44: =IF(C44>0,S44/C44,"") -> 0.0073811633 | AB44: =IF(D44>0,T44/D44,"") -> 0.060841424 | AC44: =IF(E44>0,U44/E44,"") -> 0.19904009 | AD44: =IF(F44>0,V44/F44,"") -> 0.22093949 | AE44: =IF(G44>0,W44/G44,"") -> 0.11754848
B45: SUV | C45: =SUM(C15:C19) -> 25252 | D45: =SUM(D15:D19) -> 14446 | E45: =SUM(E15:E19) -> 11512 | F45: =SUM(F15:F19) -> 6508 | G45: =SUM(G15:G19) -> 57718 | J45: SUV | K45: =SUM(K15:K19) -> 24412 | L45: =SUM(L15:L19) -> 13864 | M45: =SUM(M15:M19) -> 7087 | N45: =SUM(N15:N19) -> 4765 | O45: =SUM(O15:O19) -> 50128 | R45: SUV | S45: =K45-C45 -> -840 | T45: =L45-D45 -> -582 | U45: =M45-E45 -> -4425 | V45: =N45-F45 -> -1743 | W45: =O45-G45 -> -7590 | Z45: SUV | AA45: =IF(C45>0,S45/C45,"") -> -0.033264692 | AB45: =IF(D45>0,T45/D45,"") -> -0.040287969 | AC45: =IF(E45>0,U45/E45,"") -> -0.38438151 | AD45: =IF(F45>0,V45/F45,"") -> -0.26782422 | AE45: =IF(G45>0,W45/G45,"") -> -0.13150144
B46: Pickup | C46: =SUM(C20:C24) -> 9945 | D46: =SUM(D20:D24) -> 8365 | E46: =SUM(E20:E24) -> 11486 | F46: =SUM(F20:F24) -> 14718 | G46: =SUM(G20:G24) -> 44514 | J46: Pickup | K46: =SUM(K20:K24) -> 9217 | L46: =SUM(L20:L24) -> 10473 | M46: =SUM(M20:M24) -> 16811 | N46: =SUM(N20:N24) -> 17068 | O46: =SUM(O20:O24) -> 53569 | R46: Pickup | S46: =K46-C46 -> -728 | T46: =L46-D46 -> 2108 | U46: =M46-E46 -> 5325 | V46: =N46-F46 -> 2350 | W46: =O46-G46 -> 9055 | Z46: Pickup | AA46: =IF(C46>0,S46/C46,"") -> -0.073202614 | AB46: =IF(D46>0,T46/D46,"") -> 0.25200239 | AC46: =IF(E46>0,U46/E46,"") -> 0.46360787 | AD46: =IF(F46>0,V46/F46,"") -> 0.15966843 | AE46: =IF(G46>0,W46/G46,"") -> 0.20341915
B47: Motorcycle | C47: =SUM(C25:C29) -> 1382 | D47: =SUM(D25:D29) -> 1644 | E47: =SUM(E25:E29) -> 1752 | F47: =SUM(F25:F29) -> 1951 | G47: =SUM(G25:G29) -> 6729 | J47: Motorcycle | K47: =SUM(K25:K29) -> 1439 | L47: =SUM(L25:L29) -> 1470 | M47: =SUM(M25:M29) -> 1855 | N47: =SUM(N25:N29) -> 2103 | O47: =SUM(O25:O29) -> 6867 | R47: Motorcycle | S47: =K47-C47 -> 57 | T47: =L47-D47 -> -174 | U47: =M47-E47 -> 103 | V47: =N47-F47 -> 152 | W47: =O47-G47 -> 138 | Z47: Motorcycle | AA47: =IF(C47>0,S47/C47,"") -> 0.041244573 | AB47: =IF(D47>0,T47/D47,"") -> -0.10583942 | AC47: =IF(E47>0,U47/E47,"") -> 0.058789954 | AD47: =IF(F47>0,V47/F47,"") -> 0.077908765 | AE47: =IF(G47>0,W47/G47,"") -> 0.020508248
B48: Total | C48: =SUM(C43:C47) -> 78687 | D48: =SUM(D43:D47) -> 58577 | E48: =SUM(E43:E47) -> 53362 | F48: =SUM(F43:F47) -> 46951 | G48: =SUM(G43:G47) -> 237577 | J48: Total | K48: =SUM(K43:K47) -> 77167 | L48: =SUM(L43:L47) -> 57502 | M48: =SUM(M43:M47) -> 54990 | N48: =SUM(N43:N47) -> 47913 | O48: =SUM(O43:O47) -> 237572 | R48: Total | S48: =K48-C48 -> -1520 | T48: =L48-D48 -> -1075 | U48: =M48-E48 -> 1628 | V48: =N48-F48 -> 962 | W48: =O48-G48 -> -5 | Z48: Total | AA48: =IF(C48>0,S48/C48,"") -> -0.019317041 | AB48: =IF(D48>0,T48/D48,"") -> -0.018351913 | AC48: =IF(E48>0,U48/E48,"") -> 0.030508602 | AD48: =IF(F48>0,V48/F48,"") -> 0.020489446 | AE48: =IF(G48>0,W48/G48,"") -> -2.1045808e-05
C50: Age (years) | K50: Age (years) | S50: Age (years) | AA50: Age (years)
B51: Fuel Type | C51: 1-5 | D51: 6-10 | E51: 11-15 | F51: 16-20+ | G51: Total | J51: Fuel Type | K51: 1-5 | L51: 6-10 | M51: 11-15 | N51: 16-20+ | O51: Total | R51: Fuel Type | S51: 1-5 | T51: 6-10 | U51: 11-15 | V51: 16-20+ | W51: Total | Z51: Fuel Type | AA51: 1-5 | AB51: 6-10 | AC51: 11-15 | AD51: 16-20+ | AE51: Total
B52: Gas | C52: =SUM(C5,C10,C15,C20,C25) -> 73427 | D52: =SUM(D5,D10,D15,D20,D25) -> 55622 | E52: =SUM(E5,E10,E15,E20,E25) -> 50959 | F52: =SUM(F5,F10,F15,F20,F25) -> 45352 | G52: =SUM(G5,G10,G15,G20,G25) -> 225360 | J52: Gas | K52: =SUM(K5,K10,K15,K20,K25) -> 72074 | L52: =SUM(L5,L10,L15,L20,L25) -> 54756 | M52: =SUM(M5,M10,M15,M20,M25) -> 52760 | N52: =SUM(N5,N10,N15,N20,N25) -> 46111 | O52: =SUM(O5,O10,O15,O20,O25) -> 225701 | R52: Gas | S52: =K52-C52 -> -1353 | T52: =L52-D52 -> -866 | U52: =M52-E52 -> 1801 | V52: =N52-F52 -> 759 | W52: =O52-G52 -> 341 | Z52: Gas | AA52: =IF(C52>0,S52/C52,"") -> -0.018426464 | AB52: =IF(D52>0,T52/D52,"") -> -0.015569379 | AC52: =IF(E52>0,U52/E52,"") -> 0.035342138 | AD52: =IF(F52>0,V52/F52,"") -> 0.016735756 | AE52: =IF(G52>0,W52/G52,"") -> 0.0015131345
B53: Diesel | C53: =SUM(C6,C11,C16,C21,C26) -> 1892 | D53: =SUM(D6,D11,D16,D21,D26) -> 1174 | E53: =SUM(E6,E11,E16,E21,E26) -> 1847 | F53: =SUM(F6,F11,F16,F21,F26) -> 1567 | G53: =SUM(G6,G11,G16,G21,G26) -> 6480 | J53: Diesel | K53: =SUM(K6,K11,K16,K21,K26) -> 1732 | L53: =SUM(L6,L11,L16,L21,L26) -> 1579 | M53: =SUM(M6,M11,M16,M21,M26) -> 1964 | N53: =SUM(N6,N11,N16,N21,N26) -> 1727 | O53: =SUM(O6,O11,O16,O21,O26) -> 7002 | R53: Diesel | S53: =K53-C53 -> -160 | T53: =L53-D53 -> 405 | U53: =M53-E53 -> 117 | V53: =N53-F53 -> 160 | W53: =O53-G53 -> 522 | Z53: Diesel | AA53: =IF(C53>0,S53/C53,"") -> -0.084566596 | AB53: =IF(D53>0,T53/D53,"") -> 0.34497445 | AC53: =IF(E53>0,U53/E53,"") -> 0.063345966 | AD53: =IF(F53>0,V53/F53,"") -> 0.10210593 | AE53: =IF(G53>0,W53/G53,"") -> 0.080555556
B54: Hybrid | C54: =SUM(C7,C12,C17,C22,C27) -> 2515 | D54: =SUM(D7,D12,D17,D22,D27) -> 1719 | E54: =SUM(E7,E12,E17,E22,E27) -> 550 | F54: =SUM(F7,F12,F17,F22,F27) -> 32 | G54: =SUM(G7,G12,G17,G22,G27) -> 4816 | J54: Hybrid | K54: =SUM(K7,K12,K17,K22,K27) -> 2650 | L54: =SUM(L7,L12,L17,L22,L27) -> 1079 | M54: =SUM(M7,M12,M17,M22,M27) -> 266 | N54: =SUM(N7,N12,N17,N22,N27) -> 74 | O54: =SUM(O7,O12,O17,O22,O27) -> 4069 | R54: Hybrid | S54: =K54-C54 -> 135 | T54: =L54-D54 -> -640 | U54: =M54-E54 -> -284 | V54: =N54-F54 -> 42 | W54: =O54-G54 -> -747 | Z54: Hybrid | AA54: =IF(C54>0,S54/C54,"") -> 0.053677932 | AB54: =IF(D54>0,T54/D54,"") -> -0.37230948 | AC54: =IF(E54>0,U54/E54,"") -> -0.51636364 | AD54: =IF(F54>0,V54/F54,"") -> 1.3125 | AE54: =IF(G54>0,W54/G54,"") -> -0.15510797
B55: PEV | C55: =SUM(C8,C13,C18,C23,C28) -> 417 | D55: =SUM(D8,D13,D18,D23,D28) -> 28 | E55: =SUM(E8,E13,E18,E23,E28) -> 4 | F55: =SUM(F8,F13,F18,F23,F28) -> 0 | G55: =SUM(G8,G13,G18,G23,G28) -> 449 | J55: PEV | K55: =SUM(K8,K13,K18,K23,K28) -> 346 | L55: =SUM(L8,L13,L18,L23,L28) -> 43 | M55: =SUM(M8,M13,M18,M23,M28) -> 0 | N55: =SUM(N8,N13,N18,N23,N28) -> 1 | O55: =SUM(O8,O13,O18,O23,O28) -> 390 | R55: PEV | S55: =K55-C55 -> -71 | T55: =L55-D55 -> 15 | U55: =M55-E55 -> -4 | V55: =N55-F55 -> 1 | W55: =O55-G55 -> -59 | Z55: PEV | AA55: =IF(C55>0,S55/C55,"") -> -0.17026379 | AB55: =IF(D55>0,T55/D55,"") -> 0.53571429 | AC55: =IF(E55>0,U55/E55,"") -> -1 | AD55: =IF(F55>0,V55/F55,"") | AE55: =IF(G55>0,W55/G55,"") -> -0.13140312
B56: BEV | C56: =SUM(C9,C14,C19,C24,C29) -> 436 | D56: =SUM(D9,D14,D19,D24,D29) -> 34 | E56: =SUM(E9,E14,E19,E24,E29) -> 2 | F56: =SUM(F9,F14,F19,F24,F29) -> 0 | G56: =SUM(G9,G14,G19,G24,G29) -> 472 | J56: BEV | K56: =SUM(K9,K14,K19,K24,K29) -> 365 | L56: =SUM(L9,L14,L19,L24,L29) -> 45 | M56: =SUM(M9,M14,M19,M24,M29) -> 0 | N56: =SUM(N9,N14,N19,N24,N29) -> 0 | O56: =SUM(O9,O14,O19,O24,O29) -> 410 | R56: BEV | S56: =K56-C56 -> -71 | T56: =L56-D56 -> 11 | U56: =M56-E56 -> -2 | V56: =N56-F56 -> 0 | W56: =O56-G56 -> -62 | Z56: BEV | AA56: =IF(C56>0,S56/C56,"") -> -0.16284404 | AB56: =IF(D56>0,T56/D56,"") -> 0.32352941 | AC56: =IF(E56>0,U56/E56,"") -> -1 | AD56: =IF(F56>0,V56/F56,"") | AE56: =IF(G56>0,W56/G56,"") -> -0.13135593
B57: Total | C57: =SUM(C52:C56) -> 78687 | D57: =SUM(D52:D56) -> 58577 | E57: =SUM(E52:E56) -> 53362 | F57: =SUM(F52:F56) -> 46951 | G57: =SUM(G52:G56) -> 237577 | J57: Total | K57: =SUM(K52:K56) -> 77167 | L57: =SUM(L52:L56) -> 57502 | M57: =SUM(M52:M56) -> 54990 | N57: =SUM(N52:N56) -> 47913 | O57: =SUM(O52:O56) -> 237572 | R57: Total | S57: =K57-C57 -> -1520 | T57: =L57-D57 -> -1075 | U57: =M57-E57 -> 1628 | V57: =N57-F57 -> 962 | W57: =O57-G57 -> -5 | Z57: Total | AA57: =IF(C57>0,S57/C57,"") -> -0.019317041 | AB57: =IF(D57>0,T57/D57,"") -> -0.018351913 | AC57: =IF(E57>0,U57/E57,"") -> 0.030508602 | AD57: =IF(F57>0,V57/F57,"") -> 0.020489446 | AE57: =IF(G57>0,W57/G57,"") -> -2.1045808e-05

Sheet Base Model 2
B1: Observed | J1: Base Model | R1: Difference (Base - Observed) | Z1: Percent Difference (Base - Observed)/Observed
C3: Age (years) | K3: Age (years) | S3: Age (years) | AA3: Age (years)
B4: Vehicle Type | C4: 1-5 | D4: 6-10 | E4: 11-15 | F4: 16-20+ | G4: Total | J4: Vehicle Type | K4: 1-5 | L4: 6-10 | M4: 11-15 | N4: 16-20+ | O4: Total | R4: Vehicle Type | S4: 1-5 | T4: 6-10 | U4: 11-15 | V4: 16-20+ | W4: Total | Z4: Vehicle Type | AA4: 1-5 | AB4: 6-10 | AC4: 11-15 | AD4: 16-20+ | AE4: Total
B5: Car-Gas | C5: =Paste!$AR$5 -> 35106 | D5: =Paste!$AR$10 -> 29243 | E5: =Paste!$AR$15 -> 24405 | F5: =Paste!$AR$20 -> 21052 | G5: =SUM(C5:F5) -> 109806 | J5: Car-Gas | K5: =Paste!$AR$8 -> 34395 | L5: =Paste!$AR$13 -> 29101 | M5: =Paste!$AR$18 -> 26340 | N5: =Paste!$AR$23 -> 19866 | O5: =SUM(K5:N5) -> 109702 | R5: Car-Gas | S5: =K5-C5 -> -711 | T5: =L5-D5 -> -142 | U5: =M5-E5 -> 1935 | V5: =N5-F5 -> -1186 | W5: =O5-G5 -> -104 | Z5: Car-Gas | AA5: =IF(C5>0,S5/C5,"") -> -0.020252948 | AB5: =IF(D5>0,T5/D5,"") -> -0.0048558629 | AC5: =IF(E5>0,U5/E5,"") -> 0.079287031 | AD5: =IF(F5>0,V5/F5,"") -> -0.05633669 | AE5: =IF(G5>0,W5/G5,"") -> -0.00094712493
B6: Car-Diesel | C6: =Paste!$AR$25 -> 501 | D6: =Paste!$AR$30 -> 241 | E6: =Paste!$AR$35 -> 201 | F6: =Paste!$AR$40 -> 183 | G6: =SUM(C6:F6) -> 1126 | J6: Car-Diesel | K6: =Paste!$AR$28 -> 412 | L6: =Paste!$AR$33 -> 259 | M6: =Paste!$AR$38 -> 264 | N6: =Paste!$AR$43 -> 278 | O6: =SUM(K6:N6) -> 1213 | R6: Car-Diesel | S6: =K6-C6 -> -89 | T6: =L6-D6 -> 18 | U6: =M6-E6 -> 63 | V6: =N6-F6 -> 95 | W6: =O6-G6 -> 87 | Z6: Car-Diesel | AA6: =IF(C6>0,S6/C6,"") -> -0.17764471 | AB6: =IF(D6>0,T6/D6,"") -> 0.074688797 | AC6: =IF(E6>0,U6/E6,"") -> 0.31343284 | AD6: =IF(F6>0,V6/F6,"") -> 0.51912568 | AE6: =IF(G6>0,W6/G6,"") -> 0.077264654
B7: Car-Hybrid | C7: =Paste!$AR$45 -> 2305 | D7: =Paste!$AR$50 -> 1497 | E7: =Paste!$AR$55 -> 458 | F7: =Paste!$AR$60 -> 27 | G7: =SUM(C7:F7) -> 4287 | J7: Car-Hybrid | K7: =Paste!$AR$48 -> 2368 | L7: =Paste!$AR$53 -> 1097 | M7: =Paste!$AR$58 -> 835 | N7: =Paste!$AR$63 -> 0 | O7: =SUM(K7:N7) -> 4300 | R7: Car-Hybrid | S7: =K7-C7 -> 63 | T7: =L7-D7 -> -400 | U7: =M7-E7 -> 377 | V7: =N7-F7 -> -27 | W7: =O7-G7 -> 13 | Z7: Car-Hybrid | AA7: =IF(C7>0,S7/C7,"") -> 0.027331887 | AB7: =IF(D7>0,T7/D7,"") -> -0.26720107 | AC7: =IF(E7>0,U7/E7,"") -> 0.8231441 | AD7: =IF(F7>0,V7/F7,"") -> -1 | AE7: =IF(G7>0,W7/G7,"") -> 0.0030324236
B8: Car-PEV | C8: =Paste!$AR$65 -> 398 | D8: =Paste!$AR$70 -> 24 | E8: =Paste!$AR$75 -> 4 | F8: =Paste!$AR$80 -> 0 | G8: =SUM(C8:F8) -> 426 | J8: Car-PEV | K8: =Paste!$AR$68 -> 386 | L8: =Paste!$AR$73 -> 47 | M8: =Paste!$AR$78 -> 0 | N8: =Paste!$AR$83 -> 0 | O8: =SUM(K8:N8) -> 433 | R8: Car-PEV | S8: =K8-C8 -> -12 | T8: =L8-D8 -> 23 | U8: =M8-E8 -> -4 | V8: =N8-F8 -> 0 | W8: =O8-G8 -> 7 | Z8: Car-PEV | AA8: =IF(C8>0,S8/C8,"") -> -0.030150754 | AB8: =IF(D8>0,T8/D8,"") -> 0.95833333 | AC8: =IF(E8>0,U8/E8,"") -> -1 | AD8: =IF(F8>0,V8/F8,"") | AE8: =IF(G8>0,W8/G8,"") -> 0.016431925
B9: Car-BEV | C9: =Paste!$AR$85 -> 411 | D9: =Paste!$AR$90 -> 27 | E9: =Paste!$AR$95 -> 2 | F9: =Paste!$AR$200 -> 0 | G9: =SUM(C9:F9) -> 440 | J9: Car-BEV | K9: =Paste!$AR$88 -> 392 | L9: =Paste!$AR$93 -> 47 | M9: =Paste!$AR$98 -> 0 | N9: =Paste!$AR$203 -> 0 | O9: =SUM(K9:N9) -> 439 | R9: Car-BEV | S9: =K9-C9 -> -19 | T9: =L9-D9 -> 20 | U9: =M9-E9 -> -2 | V9: =N9-F9 -> 0 | W9: =O9-G9 -> -1 | Z9: Car-BEV | AA9: =IF(C9>0,S9/C9,"") -> -0.04622871 | AB9: =IF(D9>0,T9/D9,"") -> 0.74074074 | AC9: =IF(E9>0,U9/E9,"") -> -1 | AD9: =IF(F9>0,V9/F9,"") | AE9: =IF(G9>0,W9/G9,"") -> -0.0022727273
B10: Van-Gas | C10: =Paste!$AR$105 -> 3344 | D10: =Paste!$AR$110 -> 3076 | E10: =Paste!$AR$115 -> 3513 | F10: =Paste!$AR$120 -> 2489 | G10: =SUM(C10:F10) -> 12422 | J10: Van-Gas | K10: =Paste!$AR$108 -> 3759 | L10: =Paste!$AR$113 -> 2815 | M10: =Paste!$AR$118 -> 3055 | N10: =Paste!$AR$123 -> 2902 | O10: =SUM(K10:N10) -> 12531 | R10: Van-Gas | S10: =K10-C10 -> 415 | T10: =L10-D10 -> -261 | U10: =M10-E10 -> -458 | V10: =N10-F10 -> 413 | W10: =O10-G10 -> 109 | Z10: Van-Gas | AA10: =IF(C10>0,S10/C10,"") -> 0.12410287 | AB10: =IF(D10>0,T10/D10,"") -> -0.084850455 | AC10: =IF(E10>0,U10/E10,"") -> -0.1303729 | AD10: =IF(F10>0,V10/F10,"") -> 0.16593009 | AE10: =IF(G10>0,W10/G10,"") -> 0.0087747545
B11: Van-Diesel | C11: =Paste!$AR$125 -> 28 | D11: =Paste!$AR$130 -> 13 | E11: =Paste!$AR$135 -> 27 | F11: =Paste!$AR$140 -> 23 | G11: =SUM(C11:F11) -> 91 | J11: Van-Diesel | K11: =Paste!$AR$128 -> 0 | L11: =Paste!$AR$133 -> 0 | M11: =Paste!$AR$138 -> 0 | N11: =Paste!$AR$143 -> 0 | O11: =SUM(K11:N11) -> 0 | R11: Van-Diesel | S11: =K11-C11 -> -28 | T11: =L11-D11 -> -13 | U11: =M11-E11 -> -27 | V11: =N11-F11 -> -23 | W11: =O11-G11 -> -91 | Z11: Van-Diesel | AA11: =IF(C11>0,S11/C11,"") -> -1 | AB11: =IF(D11>0,T11/D11,"") -> -1 | AC11: =IF(E11>0,U11/E11,"") -> -1 | AD11: =IF(F11>0,V11/F11,"") -> -1 | AE11: =IF(G11>0,W11/G11,"") -> -1
B12: Van-Hybrid | C12: =Paste!$AR$145 -> 11 | D12: =Paste!$AR$150 -> 1 | E12: =Paste!$AR$155 -> 2 | F12: =Paste!$AR$160 -> 0 | G12: =SUM(C12:F12) -> 14 | J12: Van-Hybrid | K12: =Paste!$AR$148 -> 0 | L12: =Paste!$AR$153 -> 0 | M12: =Paste!$AR$158 -> 0 | N12: =Paste!$AR$163 -> 0 | O12: =SUM(K12:N12) -> 0 | R12: Van-Hybrid | S12: =K12-C12 -> -11 | T12: =L12-D12 -> -1 | U12: =M12-E12 -> -2 | V12: =N12-F12 -> 0 | W12: =O12-G12 -> -14 | Z12: Van-Hybrid | AA12: =IF(C12>0,S12/C12,"") -> -1 | AB12: =IF(D12>0,T12/D12,"") -> -1 | AC12: =IF(E12>0,U12/E12,"") -> -1 | AD12: =IF(F12>0,V12/F12,"") | AE12: =IF(G12>0,W12/G12,"") -> -1
B13: Van-PEV | C13: =Paste!$AR$165 -> 3 | D13: =Paste!$AR$170 -> 0 | E13: =Paste!$AR$175 -> 0 | F13: =Paste!$AR$180 -> 0 | G13: =SUM(C13:F13) -> 3 | J13: Van-PEV | K13: =Paste!$AR$168 -> 0 | L13: =Paste!$AR$173 -> 0 | M13: =Paste!$AR$178 -> 0 | N13: =Paste!$AR$183 -> 0 | O13: =SUM(K13:N13) -> 0 | R13: Van-PEV | S13: =K13-C13 -> -3 | T13: =L13-D13 -> 0 | U13: =M13-E13 -> 0 | V13: =N13-F13 -> 0 | W13: =O13-G13 -> -3 | Z13: Van-PEV | AA13: =IF(C13>0,S13/C13,"") -> -1 | AB13: =IF(D13>0,T13/D13,"") | AC13: =IF(E13>0,U13/E13,"") | AD13: =IF(F13>0,V13/F13,"") | AE13: =IF(G13>0,W13/G13,"") -> -1
B14: Van-BEV | C14: =Paste!$AR$185 -> 1 | D14: =Paste!$AR$190 -> 0 | E14: =Paste!$AR$195 -> 0 | F14: =Paste!$AR$200 -> 0 | G14: =SUM(C14:F14) -> 1 | J14: Van-BEV | K14: =Paste!$AR$188 -> 0 | L14: =Paste!$AR$193 -> 0 | M14: =Paste!$AR$198 -> 0 | N14: =Paste!$AR$203 -> 0 | O14: =SUM(K14:N14) -> 0 | R14: Van-BEV | S14: =K14-C14 -> -1 | T14: =L14-D14 -> 0 | U14: =M14-E14 -> 0 | V14: =N14-F14 -> 0 | W14: =O14-G14 -> -1 | Z14: Van-BEV | AA14: =IF(C14>0,S14/C14,"") -> -1 | AB14: =IF(D14>0,T14/D14,"") | AC14: =IF(E14>0,U14/E14,"") | AD14: =IF(F14>0,V14/F14,"") | AE14: =IF(G14>0,W14/G14,"") -> -1
B15: SUV-Gas | C15: =Paste!$AR$205 -> 24826 | D15: =Paste!$AR$210 -> 14179 | E15: =Paste!$AR$215 -> 11355 | F15: =Paste!$AR$220 -> 6461 | G15: =SUM(C15:F15) -> 56821 | J15: SUV-Gas | K15: =Paste!$AR$208 -> 23999 | L15: =Paste!$AR$213 -> 14883 | M15: =Paste!$AR$218 -> 10080 | N15: =Paste!$AR$223 -> 6263 | O15: =SUM(K15:N15) -> 55225 | R15: SUV-Gas | S15: =K15-C15 -> -827 | T15: =L15-D15 -> 704 | U15: =M15-E15 -> -1275 | V15: =N15-F15 -> -198 | W15: =O15-G15 -> -1596 | Z15: SUV-Gas | AA15: =IF(C15>0,S15/C15,"") -> -0.03331185 | AB15: =IF(D15>0,T15/D15,"") -> 0.049650892 | AC15: =IF(E15>0,U15/E15,"") -> -0.11228534 | AD15: =IF(F15>0,V15/F15,"") -> -0.030645411 | AE15: =IF(G15>0,W15/G15,"") -> -0.028088207
B16: SUV-Diesel | C16: =Paste!$AR$225 -> 203 | D16: =Paste!$AR$230 -> 46 | E16: =Paste!$AR$235 -> 69 | F16: =Paste!$AR$240 -> 43 | G16: =SUM(C16:F16) -> 361 | J16: SUV-Diesel | K16: =Paste!$AR$228 -> 749 | L16: =Paste!$AR$233 -> 428 | M16: =Paste!$AR$238 -> 403 | N16: =Paste!$AR$243 -> 363 | O16: =SUM(K16:N16) -> 1943 | R16: SUV-Diesel | S16: =K16-C16 -> 546 | T16: =L16-D16 -> 382 | U16: =M16-E16 -> 334 | V16: =N16-F16 -> 320 | W16: =O16-G16 -> 1582 | Z16: SUV-Diesel | AA16: =IF(C16>0,S16/C16,"") -> 2.6896552 | AB16: =IF(D16>0,T16/D16,"") -> 8.3043478 | AC16: =IF(E16>0,U16/E16,"") -> 4.8405797 | AD16: =IF(F16>0,V16/F16,"") -> 7.4418605 | AE16: =IF(G16>0,W16/G16,"") -> 4.3822715
B17: SUV-Hybrid | C17: =Paste!$AR$245 -> 196 | D17: =Paste!$AR$250 -> 217 | E17: =Paste!$AR$255 -> 88 | F17: =Paste!$AR$260 -> 4 | G17: =SUM(C17:F17) -> 505 | J17: SUV-Hybrid | K17: =Paste!$AR$248 -> 315 | L17: =Paste!$AR$253 -> 153 | M17: =Paste!$AR$258 -> 48 | N17: =Paste!$AR$263 -> 0 | O17: =SUM(K17:N17) -> 516 | R17: SUV-Hybrid | S17: =K17-C17 -> 119 | T17: =L17-D17 -> -64 | U17: =M17-E17 -> -40 | V17: =N17-F17 -> -4 | W17: =O17-G17 -> 11 | Z17: SUV-Hybrid | AA17: =IF(C17>0,S17/C17,"") -> 0.60714286 | AB17: =IF(D17>0,T17/D17,"") -> -0.29493088 | AC17: =IF(E17>0,U17/E17,"") -> -0.45454545 | AD17: =IF(F17>0,V17/F17,"") -> -1 | AE17: =IF(G17>0,W17/G17,"") -> 0.021782178
B18: SUV-PEV | C18: =Paste!$AR$265 -> 16 | D18: =Paste!$AR$270 -> 4 | E18: =Paste!$AR$275 -> 0 | F18: =Paste!$AR$280 -> 0 | G18: =SUM(C18:F18) -> 20 | J18: SUV-PEV | K18: =Paste!$AR$268 -> 17 | L18: =Paste!$AR$273 -> 0 | M18: =Paste!$AR$278 -> 0 | N18: =Paste!$AR$283 -> 0 | O18: =SUM(K18:N18) -> 17 | R18: SUV-PEV | S18: =K18-C18 -> 1 | T18: =L18-D18 -> -4 | U18: =M18-E18 -> 0 | V18: =N18-F18 -> 0 | W18: =O18-G18 -> -3 | Z18: SUV-PEV | AA18: =IF(C18>0,S18/C18,"") -> 0.0625 | AB18: =IF(D18>0,T18/D18,"") -> -1 | AC18: =IF(E18>0,U18/E18,"") | AD18: =IF(F18>0,V18/F18,"") | AE18: =IF(G18>0,W18/G18,"") -> -0.15
B19: SUV-BEV | C19: =Paste!$AR$285 -> 11 | D19: =Paste!$AR$290 -> 0 | E19: =Paste!$AR$295 -> 0 | F19: =Paste!$AR$300 -> 0 | G19: =SUM(C19:F19) -> 11 | J19: SUV-BEV | K19: =Paste!$AR$288 -> 17 | L19: =Paste!$AR$293 -> 0 | M19: =Paste!$AR$298 -> 0 | N19: =Paste!$AR$303 -> 0 | O19: =SUM(K19:N19) -> 17 | R19: SUV-BEV | S19: =K19-C19 -> 6 | T19: =L19-D19 -> 0 | U19: =M19-E19 -> 0 | V19: =N19-F19 -> 0 | W19: =O19-G19 -> 6 | Z19: SUV-BEV | AA19: =IF(C19>0,S19/C19,"") -> 0.54545455 | AB19: =IF(D19>0,T19/D19,"") | AC19: =IF(E19>0,U19/E19,"") | AD19: =IF(F19>0,V19/F19,"") | AE19: =IF(G19>0,W19/G19,"") -> 0.54545455
B20: Pickup-Gas | C20: =Paste!$AR$305 -> 8781 | D20: =Paste!$AR$310 -> 7487 | E20: =Paste!$AR$315 -> 9934 | F20: =Paste!$AR$320 -> 13399 | G20: =SUM(C20:F20) -> 39601 | J20: Pickup-Gas | K20: =Paste!$AR$308 -> 9489 | L20: =Paste!$AR$313 -> 7747 | M20: =Paste!$AR$318 -> 9948 | N20: =Paste!$AR$323 -> 14024 | O20: =SUM(K20:N20) -> 41208 | R20: Pickup-Gas | S20: =K20-C20 -> 708 | T20: =L20-D20 -> 260 | U20: =M20-E20 -> 14 | V20: =N20-F20 -> 625 | W20: =O20-G20 -> 1607 | Z20: Pickup-Gas | AA20: =IF(C20>0,S20/C20,"") -> 0.08062863 | AB20: =IF(D20>0,T20/D20,"") -> 0.03472686 | AC20: =IF(E20>0,U20/E20,"") -> 0.0014093014 | AD20: =IF(F20>0,V20/F20,"") -> 0.046645272 | AE20: =IF(G20>0,W20/G20,"") -> 0.040579783
B21: Pickup-Diesel | C21: =Paste!$AR$325 -> 1160 | D21: =Paste!$AR$330 -> 874 | E21: =Paste!$AR$335 -> 1550 | F21: =Paste!$AR$340 -> 1318 | G21: =SUM(C21:F21) -> 4902 | J21: Pickup-Diesel | K21: =Paste!$AR$328 -> 802 | L21: =Paste!$AR$333 -> 620 | M21: =Paste!$AR$338 -> 788 | N21: =Paste!$AR$343 -> 1096 | O21: =SUM(K21:N21) -> 3306 | R21: Pickup-Diesel | S21: =K21-C21 -> -358 | T21: =L21-D21 -> -254 | U21: =M21-E21 -> -762 | V21: =N21-F21 -> -222 | W21: =O21-G21 -> -1596 | Z21: Pickup-Diesel | AA21: =IF(C21>0,S21/C21,"") -> -0.30862069 | AB21: =IF(D21>0,T21/D21,"") -> -0.29061785 | AC21: =IF(E21>0,U21/E21,"") -> -0.4916129 | AD21: =IF(F21>0,V21/F21,"") -> -0.16843703 | AE21: =IF(G21>0,W21/G21,"") -> -0.3255814
B22: Pickup-Hybrid | C22: =Paste!$AR$345 -> 3 | D22: =Paste!$AR$350 -> 4 | E22: =Paste!$AR$355 -> 2 | F22: =Paste!$AR$360 -> 1 | G22: =SUM(C22:F22) -> 10 | J22: Pickup-Hybrid | K22: =Paste!$AR$348 -> 0 | L22: =Paste!$AR$353 -> 0 | M22: =Paste!$AR$358 -> 0 | N22: =Paste!$AR$363 -> 0 | O22: =SUM(K22:N22) -> 0 | R22: Pickup-Hybrid | S22: =K22-C22 -> -3 | T22: =L22-D22 -> -4 | U22: =M22-E22 -> -2 | V22: =N22-F22 -> -1 | W22: =O22-G22 -> -10 | Z22: Pickup-Hybrid | AA22: =IF(C22>0,S22/C22,"") -> -1 | AB22: =IF(D22>0,T22/D22,"") -> -1 | AC22: =IF(E22>0,U22/E22,"") -> -1 | AD22: =IF(F22>0,V22/F22,"") -> -1 | AE22: =IF(G22>0,W22/G22,"") -> -1
B23: Pickup-PEV | C23: =Paste!$AR$365 -> 0 | D23: =Paste!$AR$370 -> 0 | E23: =Paste!$AR$375 -> 0 | F23: =Paste!$AR$380 -> 0 | G23: =SUM(C23:F23) -> 0 | J23: Pickup-PEV | K23: =Paste!$AR$368 -> 0 | L23: =Paste!$AR$373 -> 0 | M23: =Paste!$AR$378 -> 0 | N23: =Paste!$AR$383 -> 0 | O23: =SUM(K23:N23) -> 0 | R23: Pickup-PEV | S23: =K23-C23 -> 0 | T23: =L23-D23 -> 0 | U23: =M23-E23 -> 0 | V23: =N23-F23 -> 0 | W23: =O23-G23 -> 0 | Z23: Pickup-PEV | AA23: =IF(C23>0,S23/C23,"") | AB23: =IF(D23>0,T23/D23,"") | AC23: =IF(E23>0,U23/E23,"") | AD23: =IF(F23>0,V23/F23,"") | AE23: =IF(G23>0,W23/G23,"")
B24: Pickup-BEV | C24: =Paste!$AR$385 -> 1 | D24: =Paste!$AR$390 -> 0 | E24: =Paste!$AR$395 -> 0 | F24: =Paste!$AR$400 -> 0 | G24: =SUM(C24:F24) -> 1 | J24: Pickup-BEV | K24: =Paste!$AR$388 -> 0 | L24: =Paste!$AR$393 -> 0 | M24: =Paste!$AR$398 -> 0 | N24: =Paste!$AR$403 -> 0 | O24: =SUM(K24:N24) -> 0 | R24: Pickup-BEV | S24: =K24-C24 -> -1 | T24: =L24-D24 -> 0 | U24: =M24-E24 -> 0 | V24: =N24-F24 -> 0 | W24: =O24-G24 -> -1 | Z24: Pickup-BEV | AA24: =IF(C24>0,S24/C24,"") -> -1 | AB24: =IF(D24>0,T24/D24,"") | AC24: =IF(E24>0,U24/E24,"") | AD24: =IF(F24>0,V24/F24,"") | AE24: =IF(G24>0,W24/G24,"") -> -1
B25: Motorcycle-Gas | C25: =Paste!$AR$405 -> 1370 | D25: =Paste!$AR$410 -> 1637 | E25: =Paste!$AR$415 -> 1752 | F25: =Paste!$AR$420 -> 1951 | G25: =SUM(C25:F25) -> 6710 | J25: Motorcycle-Gas | K25: =Paste!$AR$408 -> 1660 | L25: =Paste!$AR$413 -> 1275 | M25: =Paste!$AR$418 -> 1527 | N25: =Paste!$AR$423 -> 2248 | O25: =SUM(K25:N25) -> 6710 | R25: Motorcycle-Gas | S25: =K25-C25 -> 290 | T25: =L25-D25 -> -362 | U25: =M25-E25 -> -225 | V25: =N25-F25 -> 297 | W25: =O25-G25 -> 0 | Z25: Motorcycle-Gas | AA25: =IF(C25>0,S25/C25,"") -> 0.21167883 | AB25: =IF(D25>0,T25/D25,"") -> -0.22113622 | AC25: =IF(E25>0,U25/E25,"") -> -0.12842466 | AD25: =IF(F25>0,V25/F25,"") -> 0.15222963 | AE25: =IF(G25>0,W25/G25,"") -> 0
B26: Motorcycle-Diesel | C26: =Paste!$AR$425 -> 0 | D26: =Paste!$AR$430 -> 0 | E26: =Paste!$AR$435 -> 0 | F26: =Paste!$AR$440 -> 0 | G26: =SUM(C26:F26) -> 0 | J26: Motorcycle-Diesel | K26: =Paste!$AR$428 -> 0 | L26: =Paste!$AR$433 -> 0 | M26: =Paste!$AR$438 -> 0 | N26: =Paste!$AR$443 -> 0 | O26: =SUM(K26:N26) -> 0 | R26: Motorcycle-Diesel | S26: =K26-C26 -> 0 | T26: =L26-D26 -> 0 | U26: =M26-E26 -> 0 | V26: =N26-F26 -> 0 | W26: =O26-G26 -> 0 | Z26: Motorcycle-Diesel | AA26: =IF(C26>0,S26/C26,"") | AB26: =IF(D26>0,T26/D26,"") | AC26: =IF(E26>0,U26/E26,"") | AD26: =IF(F26>0,V26/F26,"") | AE26: =IF(G26>0,W26/G26,"")
B27: Motorcycle-Hybrid | C27: =Paste!$AR$445 -> 0 | D27: =Paste!$AR$450 -> 0 | E27: =Paste!$AR$455 -> 0 | F27: =Paste!$AR$460 -> 0 | G27: =SUM(C27:F27) -> 0 | J27: Motorcycle-Hybrid | K27: =Paste!$AR$448 -> 0 | L27: =Paste!$AR$453 -> 0 | M27: =Paste!$AR$458 -> 0 | N27: =Paste!$AR$463 -> 0 | O27: =SUM(K27:N27) -> 0 | R27: Motorcycle-Hybrid | S27: =K27-C27 -> 0 | T27: =L27-D27 -> 0 | U27: =M27-E27 -> 0 | V27: =N27-F27 -> 0 | W27: =O27-G27 -> 0 | Z27: Motorcycle-Hybrid | AA27: =IF(C27>0,S27/C27,"") | AB27: =IF(D27>0,T27/D27,"") | AC27: =IF(E27>0,U27/E27,"") | AD27: =IF(F27>0,V27/F27,"") | AE27: =IF(G27>0,W27/G27,"")
B28: Motorcycle-PEV | C28: =Paste!$AR$465 -> 0 | D28: =Paste!$AR$470 -> 0 | E28: =Paste!$AR$475 -> 0 | F28: =Paste!$AR$480 -> 0 | G28: =SUM(C28:F28) -> 0 | J28: Motorcycle-PEV | K28: =Paste!$AR$468 -> 0 | L28: =Paste!$AR$473 -> 0 | M28: =Paste!$AR$478 -> 0 | N28: =Paste!$AR$483 -> 0 | O28: =SUM(K28:N28) -> 0 | R28: Motorcycle-PEV | S28: =K28-C28 -> 0 | T28: =L28-D28 -> 0 | U28: =M28-E28 -> 0 | V28: =N28-F28 -> 0 | W28: =O28-G28 -> 0 | Z28: Motorcycle-PEV | AA28: =IF(C28>0,S28/C28,"") | AB28: =IF(D28>0,T28/D28,"") | AC28: =IF(E28>0,U28/E28,"") | AD28: =IF(F28>0,V28/F28,"") | AE28: =IF(G28>0,W28/G28,"")
B29: Motorcycle-BEV | C29: =Paste!$AR$485 -> 12 | D29: =Paste!$AR$490 -> 7 | E29: =Paste!$AR$495 -> 0 | F29: =Paste!$AR$500 -> 0 | G29: =SUM(C29:F29) -> 19 | J29: Motorcycle-BEV | K29: =Paste!$AR$488 -> 11 | L29: =Paste!$AR$493 -> 7 | M29: =Paste!$AR$498 -> 0 | N29: =Paste!$AR$503 -> 0 | O29: =SUM(K29:N29) -> 18 | R29: Motorcycle-BEV | S29: =K29-C29 -> -1 | T29: =L29-D29 -> 0 | U29: =M29-E29 -> 0 | V29: =N29-F29 -> 0 | W29: =O29-G29 -> -1 | Z29: Motorcycle-BEV | AA29: =IF(C29>0,S29/C29,"") -> -0.083333333 | AB29: =IF(D29>0,T29/D29,"") -> 0 | AC29: =IF(E29>0,U29/E29,"") | AD29: =IF(F29>0,V29/F29,"") | AE29: =IF(G29>0,W29/G29,"") -> -0.052631579
B30: Total | C30: =SUM(C5:C29) -> 78687 | D30: =SUM(D5:D29) -> 58577 | E30: =SUM(E5:E29) -> 53362 | F30: =SUM(F5:F29) -> 46951 | G30: =SUM(G5:G29) -> 237577 | J30: Total | K30: =SUM(K5:K29) -> 78771 | L30: =SUM(L5:L29) -> 58479 | M30: =SUM(M5:M29) -> 53288 | N30: =SUM(N5:N29) -> 47040 | O30: =SUM(K30:N30) -> 237578 | R30: Total | S30: =K30-C30 -> 84 | T30: =L30-D30 -> -98 | U30: =M30-E30 -> -74 | V30: =N30-F30 -> 89 | W30: =O30-G30 -> 1 | Z30: Total | AA30: =IF(C30>0,S30/C30,"") -> 0.0010675207 | AB30: =IF(D30>0,T30/D30,"") -> -0.0016730116 | AC30: =IF(E30>0,U30/E30,"") -> -0.0013867546 | AD30: =IF(F30>0,V30/F30,"") -> 0.0018955933 | AE30: =IF(G30>0,W30/G30,"") -> 4.2091617e-06
C32: Fuel Type | K32: Fuel Type | S32: Fuel Type | AA32: Fuel Type
B33: Body Type | C33: Gas | D33: Diesel | E33: Hybrid | F33: PEV | G33: BEV | H33: Total | J33: Body Type | K33: Gas | L33: Diesel | M33: Hybrid | N33: PEV | O33: BEV | P33: Total | R33: Body Type | S33: Gas | T33: Diesel | U33: Hybrid | V33: PEV | W33: BEV | X33: Total | Z33: Body Type | AA33: Gas | AB33: Diesel | AC33: Hybrid | AD33: PEV | AE33: BEV | AF33: Total
B34: Car | C34: =G5 -> 109806 | D34: =G6 -> 1126 | E34: =G7 -> 4287 | F34: =G8 -> 426 | G34: =G9 -> 440 | H34: =SUM(C34:G34) -> 116085 | J34: Car | K34: =O5 -> 109702 | L34: =O6 -> 1213 | M34: =O7 -> 4300 | N34: =O8 -> 433 | O34: =O9 -> 439 | P34: =SUM(K34:O34) -> 116087 | R34: Car | S34: =K34-C34 -> -104 | T34: =L34-D34 -> 87 | U34: =M34-E34 -> 13 | V34: =N34-F34 -> 7 | W34: =O34-G34 -> -1 | X34: =P34-H34 -> 2 | Z34: Car | AA34: =IF(C34>0,S34/C34,"") -> -0.00094712493 | AB34: =IF(D34>0,T34/D34,"") -> 0.077264654 | AC34: =IF(E34>0,U34/E34,"") -> 0.0030324236 | AD34: =IF(F34>0,V34/F34,"") -> 0.016431925 | AE34: =IF(G34>0,W34/G34,"") -> -0.0022727273 | AF34: =IF(H34>0,X34/H34,"") -> 1.7228755e-05
B35: Van | C35: =G10 -> 12422 | D35: =G11 -> 91 | E35: =G12 -> 14 | F35: =G13 -> 3 | G35: =G14 -> 1 | H35: =SUM(C35:G35) -> 12531 | J35: Van | K35: =O10 -> 12531 | L35: =O11 -> 0 | M35: =O12 -> 0 | N35: =O13 -> 0 | O35: =O14 -> 0 | P35: =SUM(K35:O35) -> 12531 | R35: Van | S35: =K35-C35 -> 109 | T35: =L35-D35 -> -91 | U35: =M35-E35 -> -14 | V35: =N35-F35 -> -3 | W35: =O35-G35 -> -1 | X35: =P35-H35 -> 0 | Z35: Van | AA35: =IF(C35>0,S35/C35,"") -> 0.0087747545 | AB35: =IF(D35>0,T35/D35,"") -> -1 | AC35: =IF(E35>0,U35/E35,"") -> -1 | AD35: =IF(F35>0,V35/F35,"") -> -1 | AE35: =IF(G35>0,W35/G35,"") -> -1 | AF35: =IF(H35>0,X35/H35,"") -> 0
B36: SUV | C36: =G15 -> 56821 | D36: =G16 -> 361 | E36: =G17 -> 505 | F36: =G18 -> 20 | G36: =G19 -> 11 | H36: =SUM(C36:G36) -> 57718 | J36: SUV | K36: =O15 -> 55225 | L36: =O16 -> 1943 | M36: =O17 -> 516 | N36: =O18 -> 17 | O36: =O19 -> 17 | P36: =SUM(K36:O36) -> 57718 | R36: SUV | S36: =K36-C36 -> -1596 | T36: =L36-D36 -> 1582 | U36: =M36-E36 -> 11 | V36: =N36-F36 -> -3 | W36: =O36-G36 -> 6 | X36: =P36-H36 -> 0 | Z36: SUV | AA36: =IF(C36>0,S36/C36,"") -> -0.028088207 | AB36: =IF(D36>0,T36/D36,"") -> 4.3822715 | AC36: =IF(E36>0,U36/E36,"") -> 0.021782178 | AD36: =IF(F36>0,V36/F36,"") -> -0.15 | AE36: =IF(G36>0,W36/G36,"") -> 0.54545455 | AF36: =IF(H36>0,X36/H36,"") -> 0
B37: Pickup | C37: =G20 -> 39601 | D37: =G21 -> 4902 | E37: =G22 -> 10 | F37: =G23 -> 0 | G37: =G24 -> 1 | H37: =SUM(C37:G37) -> 44514 | J37: Pickup | K37: =O20 -> 41208 | L37: =O21 -> 3306 | M37: =O22 -> 0 | N37: =O23 -> 0 | O37: =O24 -> 0 | P37: =SUM(K37:O37) -> 44514 | R37: Pickup | S37: =K37-C37 -> 1607 | T37: =L37-D37 -> -1596 | U37: =M37-E37 -> -10 | V37: =N37-F37 -> 0 | W37: =O37-G37 -> -1 | X37: =P37-H37 -> 0 | Z37: Pickup | AA37: =IF(C37>0,S37/C37,"") -> 0.040579783 | AB37: =IF(D37>0,T37/D37,"") -> -0.3255814 | AC37: =IF(E37>0,U37/E37,"") -> -1 | AD37: =IF(F37>0,V37/F37,"") | AE37: =IF(G37>0,W37/G37,"") -> -1 | AF37: =IF(H37>0,X37/H37,"") -> 0
B38: Motorcycle | C38: =G25 -> 6710 | D38: =G26 -> 0 | E38: =G27 -> 0 | F38: =G28 -> 0 | G38: =G29 -> 19 | H38: =SUM(C38:G38) -> 6729 | J38: Motorcycle | K38: =O25 -> 6710 | L38: =O26 -> 0 | M38: =O27 -> 0 | N38: =O28 -> 0 | O38: =O29 -> 18 | P38: =SUM(K38:O38) -> 6728 | R38: Motorcycle | S38: =K38-C38 -> 0 | T38: =L38-D38 -> 0 | U38: =M38-E38 -> 0 | V38: =N38-F38 -> 0 | W38: =O38-G38 -> -1 | X38: =P38-H38 -> -1 | Z38: Motorcycle | AA38: =IF(C38>0,S38/C38,"") -> 0 | AB38: =IF(D38>0,T38/D38,"") | AC38: =IF(E38>0,U38/E38,"") | AD38: =IF(F38>0,V38/F38,"") | AE38: =IF(G38>0,W38/G38,"") -> -0.052631579 | AF38: =IF(H38>0,X38/H38,"") -> -0.00014861049
B39: Total | C39: =SUM(C34:C38) -> 225360 | D39: =SUM(D34:D38) -> 6480 | E39: =SUM(E34:E38) -> 4816 | F39: =SUM(F34:F38) -> 449 | G39: =SUM(G34:G38) -> 472 | H39: =SUM(C39:G39) -> 237577 | J39: Total | K39: =SUM(K34:K38) -> 225376 | L39: =SUM(L34:L38) -> 6462 | M39: =SUM(M34:M38) -> 4816 | N39: =SUM(N34:N38) -> 450 | O39: =SUM(O34:O38) -> 474 | P39: =SUM(K39:O39) -> 237578 | R39: Total | S39: =K39-C39 -> 16 | T39: =L39-D39 -> -18 | U39: =M39-E39 -> 0 | V39: =N39-F39 -> 1 | W39: =O39-G39 -> 2 | X39: =P39-H39 -> 1 | Z39: Total | AA39: =IF(C39>0,S39/C39,"") -> 7.0997515e-05 | AB39: =IF(D39>0,T39/D39,"") -> -0.0027777778 | AC39: =IF(E39>0,U39/E39,"") -> 0 | AD39: =IF(F39>0,V39/F39,"") -> 0.0022271715 | AE39: =IF(G39>0,W39/G39,"") -> 0.0042372881 | AF39: =IF(H39>0,X39/H39,"") -> 4.2091617e-06
C41: Age (years) | K41: Age (years) | S41: Age (years) | AA41: Age (years)
B42: Body Type | C42: 1-5 | D42: 6-10 | E42: 11-15 | F42: 16-20+ | G42: Total | J42: Body Type | K42: 1-5 | L42: 6-10 | M42: 11-15 | N42: 16-20+ | O42: Total | R42: Body Type | S42: 1-5 | T42: 6-10 | U42: 11-15 | V42: 16-20+ | W42: Total | Z42: Body Type | AA42: 1-5 | AB42: 6-10 | AC42: 11-15 | AD42: 16-20+ | AE42: Total
B43: Car | C43: =SUM(C5:C9) -> 38721 | D43: =SUM(D5:D9) -> 31032 | E43: =SUM(E5:E9) -> 25070 | F43: =SUM(F5:F9) -> 21262 | G43: =SUM(G5:G9) -> 116085 | J43: Car | K43: =SUM(K5:K9) -> 37953 | L43: =SUM(L5:L9) -> 30551 | M43: =SUM(M5:M9) -> 27439 | N43: =SUM(N5:N9) -> 20144 | O43: =SUM(O5:O9) -> 116087 | R43: Car | S43: =K43-C43 -> -768 | T43: =L43-D43 -> -481 | U43: =M43-E43 -> 2369 | V43: =N43-F43 -> -1118 | W43: =O43-G43 -> 2 | Z43: Car | AA43: =IF(C43>0,S43/C43,"") -> -0.019834198 | AB43: =IF(D43>0,T43/D43,"") -> -0.015500129 | AC43: =IF(E43>0,U43/E43,"") -> 0.094495413 | AD43: =IF(F43>0,V43/F43,"") -> -0.052582071 | AE43: =IF(G43>0,W43/G43,"") -> 1.7228755e-05
B44: Van | C44: =SUM(C10:C14) -> 3387 | D44: =SUM(D10:D14) -> 3090 | E44: =SUM(E10:E14) -> 3542 | F44: =SUM(F10:F14) -> 2512 | G44: =SUM(G10:G14) -> 12531 | J44: Van | K44: =SUM(K10:K14) -> 3759 | L44: =SUM(L10:L14) -> 2815 | M44: =SUM(M10:M14) -> 3055 | N44: =SUM(N10:N14) -> 2902 | O44: =SUM(O10:O14) -> 12531 | R44: Van | S44: =K44-C44 -> 372 | T44: =L44-D44 -> -275 | U44: =M44-E44 -> -487 | V44: =N44-F44 -> 390 | W44: =O44-G44 -> 0 | Z44: Van | AA44: =IF(C44>0,S44/C44,"") -> 0.10983171 | AB44: =IF(D44>0,T44/D44,"") -> -0.088996764 | AC44: =IF(E44>0,U44/E44,"") -> -0.13749294 | AD44: =IF(F44>0,V44/F44,"") -> 0.15525478 | AE44: =IF(G44>0,W44/G44,"") -> 0
B45: SUV | C45: =SUM(C15:C19) -> 25252 | D45: =SUM(D15:D19) -> 14446 | E45: =SUM(E15:E19) -> 11512 | F45: =SUM(F15:F19) -> 6508 | G45: =SUM(G15:G19) -> 57718 | J45: SUV | K45: =SUM(K15:K19) -> 25097 | L45: =SUM(L15:L19) -> 15464 | M45: =SUM(M15:M19) -> 10531 | N45: =SUM(N15:N19) -> 6626 | O45: =SUM(O15:O19) -> 57718 | R45: SUV | S45: =K45-C45 -> -155 | T45: =L45-D45 -> 1018 | U45: =M45-E45 -> -981 | V45: =N45-F45 -> 118 | W45: =O45-G45 -> 0 | Z45: SUV | AA45: =IF(C45>0,S45/C45,"") -> -0.0061381277 | AB45: =IF(D45>0,T45/D45,"") -> 0.070469334 | AC45: =IF(E45>0,U45/E45,"") -> -0.085215427 | AD45: =IF(F45>0,V45/F45,"") -> 0.01813153 | AE45: =IF(G45>0,W45/G45,"") -> 0
B46: Pickup | C46: =SUM(C20:C24) -> 9945 | D46: =SUM(D20:D24) -> 8365 | E46: =SUM(E20:E24) -> 11486 | F46: =SUM(F20:F24) -> 14718 | G46: =SUM(G20:G24) -> 44514 | J46: Pickup | K46: =SUM(K20:K24) -> 10291 | L46: =SUM(L20:L24) -> 8367 | M46: =SUM(M20:M24) -> 10736 | N46: =SUM(N20:N24) -> 15120 | O46: =SUM(O20:O24) -> 44514 | R46: Pickup | S46: =K46-C46 -> 346 | T46: =L46-D46 -> 2 | U46: =M46-E46 -> -750 | V46: =N46-F46 -> 402 | W46: =O46-G46 -> 0 | Z46: Pickup | AA46: =IF(C46>0,S46/C46,"") -> 0.034791352 | AB46: =IF(D46>0,T46/D46,"") -> 0.00023909145 | AC46: =IF(E46>0,U46/E46,"") -> -0.065296883 | AD46: =IF(F46>0,V46/F46,"") -> 0.027313494 | AE46: =IF(G46>0,W46/G46,"") -> 0
B47: Motorcycle | C47: =SUM(C25:C29) -> 1382 | D47: =SUM(D25:D29) -> 1644 | E47: =SUM(E25:E29) -> 1752 | F47: =SUM(F25:F29) -> 1951 | G47: =SUM(G25:G29) -> 6729 | J47: Motorcycle | K47: =SUM(K25:K29) -> 1671 | L47: =SUM(L25:L29) -> 1282 | M47: =SUM(M25:M29) -> 1527 | N47: =SUM(N25:N29) -> 2248 | O47: =SUM(O25:O29) -> 6728 | R47: Motorcycle | S47: =K47-C47 -> 289 | T47: =L47-D47 -> -362 | U47: =M47-E47 -> -225 | V47: =N47-F47 -> 297 | W47: =O47-G47 -> -1 | Z47: Motorcycle | AA47: =IF(C47>0,S47/C47,"") -> 0.20911722 | AB47: =IF(D47>0,T47/D47,"") -> -0.22019465 | AC47: =IF(E47>0,U47/E47,"") -> -0.12842466 | AD47: =IF(F47>0,V47/F47,"") -> 0.15222963 | AE47: =IF(G47>0,W47/G47,"") -> -0.00014861049
B48: Total | C48: =SUM(C43:C47) -> 78687 | D48: =SUM(D43:D47) -> 58577 | E48: =SUM(E43:E47) -> 53362 | F48: =SUM(F43:F47) -> 46951 | G48: =SUM(G43:G47) -> 237577 | J48: Total | K48: =SUM(K43:K47) -> 78771 | L48: =SUM(L43:L47) -> 58479 | M48: =SUM(M43:M47) -> 53288 | N48: =SUM(N43:N47) -> 47040 | O48: =SUM(O43:O47) -> 237578 | R48: Total | S48: =K48-C48 -> 84 | T48: =L48-D48 -> -98 | U48: =M48-E48 -> -74 | V48: =N48-F48 -> 89 | W48: =O48-G48 -> 1 | Z48: Total | AA48: =IF(C48>0,S48/C48,"") -> 0.0010675207 | AB48: =IF(D48>0,T48/D48,"") -> -0.0016730116 | AC48: =IF(E48>0,U48/E48,"") -> -0.0013867546 | AD48: =IF(F48>0,V48/F48,"") -> 0.0018955933 | AE48: =IF(G48>0,W48/G48,"") -> 4.2091617e-06
C50: Age (years) | K50: Age (years) | S50: Age (years) | AA50: Age (years)
B51: Fuel Type | C51: 1-5 | D51: 6-10 | E51: 11-15 | F51: 16-20+ | G51: Total | J51: Fuel Type | K51: 1-5 | L51: 6-10 | M51: 11-15 | N51: 16-20+ | O51: Total | R51: Fuel Type | S51: 1-5 | T51: 6-10 | U51: 11-15 | V51: 16-20+ | W51: Total | Z51: Fuel Type | AA51: 1-5 | AB51: 6-10 | AC51: 11-15 | AD51: 16-20+ | AE51: Total
B52: Gas | C52: =SUM(C5,C10,C15,C20,C25) -> 73427 | D52: =SUM(D5,D10,D15,D20,D25) -> 55622 | E52: =SUM(E5,E10,E15,E20,E25) -> 50959 | F52: =SUM(F5,F10,F15,F20,F25) -> 45352 | G52: =SUM(G5,G10,G15,G20,G25) -> 225360 | J52: Gas | K52: =SUM(K5,K10,K15,K20,K25) -> 73302 | L52: =SUM(L5,L10,L15,L20,L25) -> 55821 | M52: =SUM(M5,M10,M15,M20,M25) -> 50950 | N52: =SUM(N5,N10,N15,N20,N25) -> 45303 | O52: =SUM(O5,O10,O15,O20,O25) -> 225376 | R52: Gas | S52: =K52-C52 -> -125 | T52: =L52-D52 -> 199 | U52: =M52-E52 -> -9 | V52: =N52-F52 -> -49 | W52: =O52-G52 -> 16 | Z52: Gas | AA52: =IF(C52>0,S52/C52,"") -> -0.0017023711 | AB52: =IF(D52>0,T52/D52,"") -> 0.003577721 | AC52: =IF(E52>0,U52/E52,"") -> -0.00017661257 | AD52: =IF(F52>0,V52/F52,"") -> -0.0010804375 | AE52: =IF(G52>0,W52/G52,"") -> 7.0997515e-05
B53: Diesel | C53: =SUM(C6,C11,C16,C21,C26) -> 1892 | D53: =SUM(D6,D11,D16,D21,D26) -> 1174 | E53: =SUM(E6,E11,E16,E21,E26) -> 1847 | F53: =SUM(F6,F11,F16,F21,F26) -> 1567 | G53: =SUM(G6,G11,G16,G21,G26) -> 6480 | J53: Diesel | K53: =SUM(K6,K11,K16,K21,K26) -> 1963 | L53: =SUM(L6,L11,L16,L21,L26) -> 1307 | M53: =SUM(M6,M11,M16,M21,M26) -> 1455 | N53: =SUM(N6,N11,N16,N21,N26) -> 1737 | O53: =SUM(O6,O11,O16,O21,O26) -> 6462 | R53: Diesel | S53: =K53-C53 -> 71 | T53: =L53-D53 -> 133 | U53: =M53-E53 -> -392 | V53: =N53-F53 -> 170 | W53: =O53-G53 -> -18 | Z53: Diesel | AA53: =IF(C53>0,S53/C53,"") -> 0.037526427 | AB53: =IF(D53>0,T53/D53,"") -> 0.1132879 | AC53: =IF(E53>0,U53/E53,"") -> -0.21223606 | AD53: =IF(F53>0,V53/F53,"") -> 0.10848756 | AE53: =IF(G53>0,W53/G53,"") -> -0.0027777778
B54: Hybrid | C54: =SUM(C7,C12,C17,C22,C27) -> 2515 | D54: =SUM(D7,D12,D17,D22,D27) -> 1719 | E54: =SUM(E7,E12,E17,E22,E27) -> 550 | F54: =SUM(F7,F12,F17,F22,F27) -> 32 | G54: =SUM(G7,G12,G17,G22,G27) -> 4816 | J54: Hybrid | K54: =SUM(K7,K12,K17,K22,K27) -> 2683 | L54: =SUM(L7,L12,L17,L22,L27) -> 1250 | M54: =SUM(M7,M12,M17,M22,M27) -> 883 | N54: =SUM(N7,N12,N17,N22,N27) -> 0 | O54: =SUM(O7,O12,O17,O22,O27) -> 4816 | R54: Hybrid | S54: =K54-C54 -> 168 | T54: =L54-D54 -> -469 | U54: =M54-E54 -> 333 | V54: =N54-F54 -> -32 | W54: =O54-G54 -> 0 | Z54: Hybrid | AA54: =IF(C54>0,S54/C54,"") -> 0.066799205 | AB54: =IF(D54>0,T54/D54,"") -> -0.27283304 | AC54: =IF(E54>0,U54/E54,"") -> 0.60545455 | AD54: =IF(F54>0,V54/F54,"") -> -1 | AE54: =IF(G54>0,W54/G54,"") -> 0
B55: PEV | C55: =SUM(C8,C13,C18,C23,C28) -> 417 | D55: =SUM(D8,D13,D18,D23,D28) -> 28 | E55: =SUM(E8,E13,E18,E23,E28) -> 4 | F55: =SUM(F8,F13,F18,F23,F28) -> 0 | G55: =SUM(G8,G13,G18,G23,G28) -> 449 | J55: PEV | K55: =SUM(K8,K13,K18,K23,K28) -> 403 | L55: =SUM(L8,L13,L18,L23,L28) -> 47 | M55: =SUM(M8,M13,M18,M23,M28) -> 0 | N55: =SUM(N8,N13,N18,N23,N28) -> 0 | O55: =SUM(O8,O13,O18,O23,O28) -> 450 | R55: PEV | S55: =K55-C55 -> -14 | T55: =L55-D55 -> 19 | U55: =M55-E55 -> -4 | V55: =N55-F55 -> 0 | W55: =O55-G55 -> 1 | Z55: PEV | AA55: =IF(C55>0,S55/C55,"") -> -0.033573141 | AB55: =IF(D55>0,T55/D55,"") -> 0.67857143 | AC55: =IF(E55>0,U55/E55,"") -> -1 | AD55: =IF(F55>0,V55/F55,"") | AE55: =IF(G55>0,W55/G55,"") -> 0.0022271715
B56: BEV | C56: =SUM(C9,C14,C19,C24,C29) -> 436 | D56: =SUM(D9,D14,D19,D24,D29) -> 34 | E56: =SUM(E9,E14,E19,E24,E29) -> 2 | F56: =SUM(F9,F14,F19,F24,F29) -> 0 | G56: =SUM(G9,G14,G19,G24,G29) -> 472 | J56: BEV | K56: =SUM(K9,K14,K19,K24,K29) -> 420 | L56: =SUM(L9,L14,L19,L24,L29) -> 54 | M56: =SUM(M9,M14,M19,M24,M29) -> 0 | N56: =SUM(N9,N14,N19,N24,N29) -> 0 | O56: =SUM(O9,O14,O19,O24,O29) -> 474 | R56: BEV | S56: =K56-C56 -> -16 | T56: =L56-D56 -> 20 | U56: =M56-E56 -> -2 | V56: =N56-F56 -> 0 | W56: =O56-G56 -> 2 | Z56: BEV | AA56: =IF(C56>0,S56/C56,"") -> -0.036697248 | AB56: =IF(D56>0,T56/D56,"") -> 0.58823529 | AC56: =IF(E56>0,U56/E56,"") -> -1 | AD56: =IF(F56>0,V56/F56,"") | AE56: =IF(G56>0,W56/G56,"") -> 0.0042372881
B57: Total | C57: =SUM(C52:C56) -> 78687 | D57: =SUM(D52:D56) -> 58577 | E57: =SUM(E52:E56) -> 53362 | F57: =SUM(F52:F56) -> 46951 | G57: =SUM(G52:G56) -> 237577 | J57: Total | K57: =SUM(K52:K56) -> 78771 | L57: =SUM(L52:L56) -> 58479 | M57: =SUM(M52:M56) -> 53288 | N57: =SUM(N52:N56) -> 47040 | O57: =SUM(O52:O56) -> 237578 | R57: Total | S57: =K57-C57 -> 84 | T57: =L57-D57 -> -98 | U57: =M57-E57 -> -74 | V57: =N57-F57 -> 89 | W57: =O57-G57 -> 1 | Z57: Total | AA57: =IF(C57>0,S57/C57,"") -> 0.0010675207 | AB57: =IF(D57>0,T57/D57,"") -> -0.0016730116 | AC57: =IF(E57>0,U57/E57,"") -> -0.0013867546 | AD57: =IF(F57>0,V57/F57,"") -> 0.0018955933 | AE57: =IF(G57>0,W57/G57,"") -> 4.2091617e-06

Sheet Paste
A1: Base Model 1 | J1: Model 1B | S1: Model 1C | AB1: Model 1D | AK1: Base Model 2 | AT1: Model 2B | BC1: Model 2C | BL1: Model 2D
A2: ----------- | B2: - | C2: ------ | D2: ------ | E2: ------ | F2: ------ | G2: ------ | H2: ------- | J2: ----------- | K2: - | L2: ------ | M2: ------ | N2: ------ | O2: ------ | P2: ------ | Q2: ------- | S2: ----------- | T2: - | U2: ------ | V2: ------ | W2: ------ | X2: ------ | Y2: ------ | Z2: ------- | AB2: ----------- | AC2: - | AD2: ------ | AE2: ------ | AF2: ------ | AG2: ------ | AH2: ------ | AI2: ------- | AK2: ----------- | AL2: - | AM2: ------ | AN2: ------ | AO2: ------ | AP2: ------ | AQ2: ------ | AR2: ------- | AT2: ----------- | AU2: - | AV2: ------ | AW2: ------ | AX2: ------ | AY2: ------ | AZ2: ------ | BA2: ------- | BC2: ----------- | BD2: - | BE2: ------ | BF2: ------ | BG2: ------ | BH2: ------ | BI2: ------ | BJ2: ------- | BL2: ----------- | BM2: - | BN2: ------ | BO2: ------ | BP2: ------ | BQ2: ------ | BR2: ------ | BS2: -------
A3: Choice | B3: | | C3: 1 | D3: | 2 | E3: | 3 | F3: | 4 | G3: | 5 | H3: | Total | J3: Choice | K3: | | L3: 1 | M3: | 2 | N3: | 3 | O3: | 4 | P3: | 5 | Q3: | Total | S3: Choice | T3: | | U3: 1 | V3: | 2 | W3: | 3 | X3: | 4 | Y3: | 5 | Z3: | Total | AB3: Choice | AC3: | | AD3: 1 | AE3: | 2 | AF3: | 3 | AG3: | 4 | AH3: | 5 | AI3: | Total | AK3: Choice | AL3: | | AM3: 1 | AN3: | 2 | AO3: | 3 | AP3: | 4 | AQ3: | 5 | AR3: | Total | AT3: Choice | AU3: | | AV3: 1 | AW3: | 2 | AX3: | 3 | AY3: | 4 | AZ3: | 5 | BA3: | Total | BC3: Choice | BD3: | | BE3: 1 | BF3: | 2 | BG3: | 3 | BH3: | 4 | BI3: | 5 | BJ3: | Total | BL3: Choice | BM3: | | BN3: 1 | BO3: | 2 | BP3: | 3 | BQ3: | 4 | BR3: | 5 | BS3: | Total
A4: ----------- | B4: + | C4: ------ | D4: ------ | E4: ------ | F4: ------ | G4: ------ | H4: ------- | J4: ----------- | K4: + | L4: ------ | M4: ------ | N4: ------ | O4: ------ | P4: ------ | Q4: ------- | S4: ----------- | T4: + | U4: ------ | V4: ------ | W4: ------ | X4: ------ | Y4: ------ | Z4: ------- | AB4: ----------- | AC4: + | AD4: ------ | AE4: ------ | AF4: ------ | AG4: ------ | AH4: ------ | AI4: ------- | AK4: ----------- | AL4: + | AM4: ------ | AN4: ------ | AO4: ------ | AP4: ------ | AQ4: ------ | AR4: ------- | AT4: ----------- | AU4: + | AV4: ------ | AW4: ------ | AX4: ------ | AY4: ------ | AZ4: ------ | BA4: ------- | BC4: ----------- | BD4: + | BE4: ------ | BF4: ------ | BG4: ------ | BH4: ------ | BI4: ------ | BJ4: ------- | BL4: ----------- | BM4: + | BN4: ------ | BO4: ------ | BP4: ------ | BQ4: ------ | BR4: ------ | BS4: -------
A5: No. Chsn | B5: | | C5: 3027 | D5: 6325 | E5: 12078 | F5: 7482 | G5: 6194 | H5: 35106 | J5: No. Chsn | K5: | | L5: 3027 | M5: 6325 | N5: 12078 | O5: 7482 | P5: 6194 | Q5: 35106 | S5: No. Chsn | T5: | | U5: 3027 | V5: 6325 | W5: 12078 | X5: 7482 | Y5: 6194 | Z5: 35106 | AB5: No. Chsn | AC5: | | AD5: 3027 | AE5: 6325 | AF5: 12078 | AG5: 7482 | AH5: 6194 | AI5: 35106 | AK5: No. Chsn | AL5: | | AM5: 3027 | AN5: 6325 | AO5: 12078 | AP5: 7482 | AQ5: 6194 | AR5: 35106 | AT5: No. Chsn | AU5: | | AV5: 3027 | AW5: 6325 | AX5: 12078 | AY5: 7482 | AZ5: 6194 | BA5: 35106 | BC5: No. Chsn | BD5: | | BE5: 3027 | BF5: 6325 | BG5: 12078 | BH5: 7482 | BI5: 6194 | BJ5: 35106 | BL5: No. Chsn | BM5: | | BN5: 3027 | BO5: 6325 | BP5: 12078 | BQ5: 7482 | BR5: 6194 | BS5: 35106
A6: SD. Chsn | B6: | | C6: 52 | D6: 76 | E6: 107 | F6: 89 | G6: 78 | H6: 185 | J6: SD. Chsn | K6: | | L6: 52 | M6: 75 | N6: 105 | O6: 86 | P6: 75 | Q6: 180 | S6: SD. Chsn | T6: | | U6: 46 | V6: 66 | W6: 87 | X6: 66 | Y6: 57 | Z6: 147 | AB6: SD. Chsn | AC6: | | AD6: 51 | AE6: 72 | AF6: 98 | AG6: 78 | AH6: 68 | AI6: 168 | AK6: SD. Chsn | AL6: | | AM6: 52 | AN6: 76 | AO6: 106 | AP6: 88 | AQ6: 76 | AR6: 182 | AT6: SD. Chsn | AU6: | | AV6: 49 | AW6: 71 | AX6: 100 | AY6: 82 | AZ6: 71 | BA6: 171 | BC6: SD. Chsn | BD6: | | BE6: 36 | BF6: 52 | BG6: 69 | BH6: 55 | BI6: 47 | BJ6: 119 | BL6: SD. Chsn | BM6: | | BN6: 31 | BO6: 46 | BP6: 58 | BQ6: 39 | BR6: 34 | BS6: 95
A7: Car_Gas1 | B7: | | C7: ***- | D7: ***- | E7: *- | F7: ***+ | G7: + | H7: *+ | J7: Car_Gas1 | K7: | | L7: ***- | M7: ***- | N7: ***- | O7: ***+ | P7: ***- | Q7: ***- | S7: Car_Gas1 | T7: | | U7: ***- | V7: ***- | W7: ***- | X7: ***- | Y7: ***- | Z7: ***- | AB7: Car_Gas1 | AC7: | | AD7: ***- | AE7: ***- | AF7: ***- | AG7: ***- | AH7: ***- | AI7: ***- | AK7: Car_Gas1 | AL7: | | AM7: ***- | AN7: ***- | AO7: ***- | AP7: ***+ | AQ7: **- | AR7: ***- | AT7: Car_Gas1 | AU7: | | AV7: ***- | AW7: ***- | AX7: ***- | AY7: ***- | AZ7: ***- | BA7: ***- | BC7: Car_Gas1 | BD7: | | BE7: ***- | BF7: ***- | BG7: ***- | BH7: ***- | BI7: ***- | BJ7: ***- | BL7: Car_Gas1 | BM7: | | BN7: ***- | BO7: ***- | BP7: ***- | BQ7: ***- | BR7: ***- | BS7: ***-
A8: No. Pred | B8: | | C8: 2805 | D8: 5998 | E8: 11935 | F8: 8293 | G8: 6263 | H8: 35293 | J8: No. Pred | K8: | | L8: 2718 | M8: 5813 | N8: 11443 | O8: 7745 | P8: 5844 | Q8: 33562 | S8: No. Pred | T8: | | U8: 2177 | V8: 4429 | W8: 7782 | X8: 4446 | Y8: 3357 | Z8: 22190 | AB8: No. Pred | AC8: | | AD8: 2625 | AE8: 5365 | AF8: 9949 | AG8: 6219 | AH8: 4712 | AI8: 28871 | AK8: No. Pred | AL8: | | AM8: 2763 | AN8: 5917 | AO8: 11693 | AP8: 7998 | AQ8: 6024 | AR8: 34395 | AT8: No. Pred | AU8: | | AV8: 2402 | AW8: 5215 | AX8: 10280 | AY8: 6984 | AZ8: 5254 | BA8: 30136 | BC8: No. Pred | BD8: | | BE8: 1348 | BF8: 2718 | BG8: 4888 | BH8: 3043 | BI8: 2279 | BJ8: 14275 | BL8: No. Pred | BM8: | | BN8: 974 | BO8: 2102 | BP8: 3364 | BQ8: 1560 | BR8: 1152 | BS8: 9152
A9: ----------- | B9: + | C9: ------ | D9: ------ | E9: ------ | F9: ------ | G9: ------ | H9: ------- | J9: ----------- | K9: + | L9: ------ | M9: ------ | N9: ------ | O9: ------ | P9: ------ | Q9: ------- | S9: ----------- | T9: + | U9: ------ | V9: ------ | W9: ------ | X9: ------ | Y9: ------ | Z9: ------- | AB9: ----------- | AC9: + | AD9: ------ | AE9: ------ | AF9: ------ | AG9: ------ | AH9: ------ | AI9: ------- | AK9: ----------- | AL9: + | AM9: ------ | AN9: ------ | AO9: ------ | AP9: ------ | AQ9: ------ | AR9: ------- | AT9: ----------- | AU9: + | AV9: ------ | AW9: ------ | AX9: ------ | AY9: ------ | AZ9: ------ | BA9: ------- | BC9: ----------- | BD9: + | BE9: ------ | BF9: ------ | BG9: ------ | BH9: ------ | BI9: ------ | BJ9: ------- | BL9: ----------- | BM9: + | BN9: ------ | BO9: ------ | BP9: ------ | BQ9: ------ | BR9: ------ | BS9: -------
A10: No. Chsn | B10: | | C10: 3450 | D10: 5876 | E10: 9840 | F10: 5620 | G10: 4457 | H10: 29243 | J10: No. Chsn | K10: | | L10: 3450 | M10: 5876 | N10: 9840 | O10: 5620 | P10: 4457 | Q10: 29243 | S10: No. Chsn | T10: | | U10: 3450 | V10: 5876 | W10: 9840 | X10: 5620 | Y10: 4457 | Z10: 29243 | AB10: No. Chsn | AC10: | | AD10: 3450 | AE10: 5876 | AF10: 9840 | AG10: 5620 | AH10: 4457 | AI10: 29243 | AK10: No. Chsn | AL10: | | AM10: 3450 | AN10: 5876 | AO10: 9840 | AP10: 5620 | AQ10: 4457 | AR10: 29243 | AT10: No. Chsn | AU10: | | AV10: 3450 | AW10: 5876 | AX10: 9840 | AY10: 5620 | AZ10: 4457 | BA10: 29243 | BC10: No. Chsn | BD10: | | BE10: 3450 | BF10: 5876 | BG10: 9840 | BH10: 5620 | BI10: 4457 | BJ10: 29243 | BL10: No. Chsn | BM10: | | BN10: 3450 | BO10: 5876 | BP10: 9840 | BQ10: 5620 | BR10: 4457 | BS10: 29243
A11: SD. Chsn | B11: | | C11: 56 | D11: 72 | E11: 94 | F11: 72 | G11: 63 | H11: 163 | J11: SD. Chsn | K11: | | L11: 55 | M11: 71 | N11: 92 | O11: 70 | P11: 61 | Q11: 159 | S11: SD. Chsn | T11: | | U11: 49 | V11: 63 | W11: 77 | X11: 53 | Y11: 46 | Z11: 131 | AB11: SD. Chsn | AC11: | | AD11: 54 | AE11: 69 | AF11: 87 | AG11: 63 | AH11: 55 | AI11: 149 | AK11: SD. Chsn | AL11: | | AM11: 58 | AN11: 75 | AO11: 98 | AP11: 74 | AQ11: 65 | AR11: 168 | AT11: SD. Chsn | AU11: | | AV11: 48 | AW11: 62 | AX11: 81 | AY11: 61 | AZ11: 53 | BA11: 139 | BC11: SD. Chsn | BD11: | | BE11: 35 | BF11: 45 | BG11: 55 | BH11: 40 | BI11: 35 | BJ11: 96 | BL11: SD. Chsn | BM11: | | BN11: 30 | BO11: 39 | BP11: 46 | BQ11: 29 | BR11: 25 | BS11: 78
A12: Car_Gas2 | B12: | | C12: ***- | D12: ***- | E12: ***- | F12: ***- | G12: ***- | H12: ***- | J12: Car_Gas2 | K12: | | L12: ***- | M12: ***- | N12: ***- | O12: ***- | P12: ***- | Q12: ***- | S12: Car_Gas2 | T12: | | U12: ***- | V12: ***- | W12: ***- | X12: ***- | Y12: ***- | Z12: ***- | AB12: Car_Gas2 | AC12: | | AD12: ***- | AE12: ***- | AF12: ***- | AG12: ***- | AH12: ***- | AI12: ***- | AK12: Car_Gas2 | AL12: | | AM12: + | AN12: - | AO12: - | AP12: + | AQ12: **- | AR12: - | AT12: Car_Gas2 | AU12: | | AV12: ***- | AW12: ***- | AX12: ***- | AY12: ***- | AZ12: ***- | BA12: ***- | BC12: Car_Gas2 | BD12: | | BE12: ***- | BF12: ***- | BG12: ***- | BH12: ***- | BI12: ***- | BJ12: ***- | BL12: Car_Gas2 | BM12: | | BN12: ***- | BO12: ***- | BP12: ***- | BQ12: ***- | BR12: ***- | BS12: ***-
A13: No. Pred | B13: | | C13: 3201 | D13: 5384 | E13: 9117 | F13: 5331 | G13: 4049 | H13: 27082 | J13: No. Pred | K13: | | L13: 3101 | M13: 5217 | N13: 8738 | O13: 4973 | P13: 3773 | Q13: 25803 | S13: No. Pred | T13: | | U13: 2495 | V13: 4007 | W13: 6001 | X13: 2875 | Y13: 2179 | Z13: 17558 | AB13: No. Pred | AC13: | | AD13: 3004 | AE13: 4845 | AF13: 7671 | AG13: 4041 | AH13: 3077 | AI13: 22638 | AK13: No. Pred | AL13: | | AM13: 3466 | AN13: 5836 | AO13: 9833 | AP13: 5667 | AQ13: 4300 | AR13: 29101 | AT13: No. Pred | AU13: | | AV13: 2335 | AW13: 3973 | AX13: 6667 | AY13: 3811 | AZ13: 2888 | BA13: 19674 | BC13: No. Pred | BD13: | | BE13: 1273 | BF13: 2008 | BG13: 3086 | BH13: 1624 | BI13: 1225 | BJ13: 9216 | BL13: No. Pred | BM13: | | BN13: 919 | BO13: 1555 | BP13: 2124 | BQ13: 828 | BR13: 616 | BS13: 6043
A14: ----------- | B14: + | C14: ------ | D14: ------ | E14: ------ | F14: ------ | G14: ------ | H14: ------- | J14: ----------- | K14: + | L14: ------ | M14: ------ | N14: ------ | O14: ------ | P14: ------ | Q14: ------- | S14: ----------- | T14: + | U14: ------ | V14: ------ | W14: ------ | X14: ------ | Y14: ------ | Z14: ------- | AB14: ----------- | AC14: + | AD14: ------ | AE14: ------ | AF14: ------ | AG14: ------ | AH14: ------ | AI14: ------- | AK14: ----------- | AL14: + | AM14: ------ | AN14: ------ | AO14: ------ | AP14: ------ | AQ14: ------ | AR14: ------- | AT14: ----------- | AU14: + | AV14: ------ | AW14: ------ | AX14: ------ | AY14: ------ | AZ14: ------ | BA14: ------- | BC14: ----------- | BD14: + | BE14: ------ | BF14: ------ | BG14: ------ | BH14: ------ | BI14: ------ | BJ14: ------- | BL14: ----------- | BM14: + | BN14: ------ | BO14: ------ | BP14: ------ | BQ14: ------ | BR14: ------ | BS14: -------
A15: No. Chsn | B15: | | C15: 4253 | D15: 5569 | E15: 7840 | F15: 3910 | G15: 2833 | H15: 24405 | J15: No. Chsn | K15: | | L15: 4253 | M15: 5569 | N15: 7840 | O15: 3910 | P15: 2833 | Q15: 24405 | S15: No. Chsn | T15: | | U15: 4253 | V15: 5569 | W15: 7840 | X15: 3910 | Y15: 2833 | Z15: 24405 | AB15: No. Chsn | AC15: | | AD15: 4253 | AE15: 5569 | AF15: 7840 | AG15: 3910 | AH15: 2833 | AI15: 24405 | AK15: No. Chsn | AL15: | | AM15: 4253 | AN15: 5569 | AO15: 7840 | AP15: 3910 | AQ15: 2833 | AR15: 24405 | AT15: No. Chsn | AU15: | | AV15: 4253 | AW15: 5569 | AX15: 7840 | AY15: 3910 | AZ15: 2833 | BA15: 24405 | BC15: No. Chsn | BD15: | | BE15: 4253 | BF15: 5569 | BG15: 7840 | BH15: 3910 | BI15: 2833 | BJ15: 24405 | BL15: No. Chsn | BM15: | | BN15: 4253 | BO15: 5569 | BP15: 7840 | BQ15: 3910 | BR15: 2833 | BS15: 24405
A16: SD. Chsn | B16: | | C16: 63 | D16: 73 | E16: 88 | F16: 62 | G16: 55 | H16: 155 | J16: SD. Chsn | K16: | | L16: 62 | M16: 72 | N16: 87 | O16: 60 | P16: 53 | Q16: 151 | S16: SD. Chsn | T16: | | U16: 56 | V16: 64 | W16: 72 | X16: 46 | Y16: 40 | Z16: 127 | AB16: SD. Chsn | AC16: | | AD16: 61 | AE16: 70 | AF16: 82 | AG16: 55 | AH16: 48 | AI16: 143 | AK16: SD. Chsn | AL16: | | AM16: 65 | AN16: 76 | AO16: 92 | AP16: 65 | AQ16: 56 | AR16: 160 | AT16: SD. Chsn | AU16: | | AV16: 57 | AW16: 67 | AX16: 80 | AY16: 56 | AZ16: 49 | BA16: 140 | BC16: SD. Chsn | BD16: | | BE16: 41 | BF16: 46 | BG16: 53 | BH16: 35 | BI16: 31 | BJ16: 93 | BL16: SD. Chsn | BM16: | | BN16: 35 | BO16: 40 | BP16: 44 | BQ16: 25 | BR16: 22 | BS16: 77
A17: Car_Gas3 | B17: | | C17: ***- | D17: *- | E17: *+ | F17: *+ | G17: ***+ | H17: + | J17: Car_Gas3 | K17: | | L17: ***- | M17: ***- | N17: **- | O17: ***- | P17: - | Q17: ***- | S17: Car_Gas3 | T17: | | U17: ***- | V17: ***- | W17: ***- | X17: ***- | Y17: ***- | Z17: ***- | AB17: Car_Gas3 | AC17: | | AD17: ***- | AE17: ***- | AF17: ***- | AG17: ***- | AH17: ***- | AI17: ***- | AK17: Car_Gas3 | AL17: | | AM17: *+ | AN17: ***+ | AO17: ***+ | AP17: ***+ | AQ17: ***+ | AR17: ***+ | AT17: Car_Gas3 | AU17: | | AV17: ***- | AW17: ***- | AX17: ***- | AY17: ***- | AZ17: ***- | BA17: ***- | BC17: Car_Gas3 | BD17: | | BE17: ***- | BF17: ***- | BG17: ***- | BH17: ***- | BI17: ***- | BJ17: ***- | BL17: Car_Gas3 | BM17: | | BN17: ***- | BO17: ***- | BP17: ***- | BQ17: ***- | BR17: ***- | BS17: ***-
A18: No. Pred | B18: | | C18: 4047 | D18: 5474 | E18: 7989 | F18: 3976 | G18: 3038 | H18: 24524 | J18: No. Pred | K18: | | L18: 3918 | M18: 5304 | N18: 7656 | O18: 3705 | P18: 2827 | Q18: 23409 | S18: No. Pred | T18: | | U18: 3169 | V18: 4109 | W18: 5308 | X18: 2157 | Y18: 1642 | Z18: 16385 | AB18: No. Pred | AC18: | | AD18: 3809 | AE18: 4957 | AF18: 6784 | AG18: 3046 | AH18: 2331 | AI18: 20928 | AK18: No. Pred | AL18: | | AM18: 4332 | AN18: 5901 | AO18: 8615 | AP18: 4249 | AQ18: 3245 | AR18: 26340 | AT18: No. Pred | AU18: | | AV18: 3362 | AW18: 4529 | AX18: 6494 | AY18: 3127 | AZ18: 2388 | BA18: 19900 | BC18: No. Pred | BD18: | | BE18: 1684 | BF18: 2112 | BG18: 2796 | BH18: 1249 | BI18: 950 | BJ18: 8791 | BL18: No. Pred | BM18: | | BN18: 1217 | BO18: 1638 | BP18: 1925 | BQ18: 634 | BR18: 475 | BS18: 5889
A19: ----------- | B19: + | C19: ------ | D19: ------ | E19: ------ | F19: ------ | G19: ------ | H19: ------- | J19: ----------- | K19: + | L19: ------ | M19: ------ | N19: ------ | O19: ------ | P19: ------ | Q19: ------- | S19: ----------- | T19: + | U19: ------ | V19: ------ | W19: ------ | X19: ------ | Y19: ------ | Z19: ------- | AB19: ----------- | AC19: + | AD19: ------ | AE19: ------ | AF19: ------ | AG19: ------ | AH19: ------ | AI19: ------- | AK19: ----------- | AL19: + | AM19: ------ | AN19: ------ | AO19: ------ | AP19: ------ | AQ19: ------ | AR19: ------- | AT19: ----------- | AU19: + | AV19: ------ | AW19: ------ | AX19: ------ | AY19: ------ | AZ19: ------ | BA19: ------- | BC19: ----------- | BD19: + | BE19: ------ | BF19: ------ | BG19: ------ | BH19: ------ | BI19: ------ | BJ19: ------- | BL19: ----------- | BM19: + | BN19: ------ | BO19: ------ | BP19: ------ | BQ19: ------ | BR19: ------ | BS19: -------
A20: No. Chsn | B20: | | C20: 4699 | D20: 4912 | E20: 6408 | F20: 2980 | G20: 2053 | H20: 21052 | J20: No. Chsn | K20: | | L20: 4699 | M20: 4912 | N20: 6408 | O20: 2980 | P20: 2053 | Q20: 21052 | S20: No. Chsn | T20: | | U20: 4699 | V20: 4912 | W20: 6408 | X20: 2980 | Y20: 2053 | Z20: 21052 | AB20: No. Chsn | AC20: | | AD20: 4699 | AE20: 4912 | AF20: 6408 | AG20: 2980 | AH20: 2053 | AI20: 21052 | AK20: No. Chsn | AL20: | | AM20: 4699 | AN20: 4912 | AO20: 6408 | AP20: 2980 | AQ20: 2053 | AR20: 21052 | AT20: No. Chsn | AU20: | | AV20: 4699 | AW20: 4912 | AX20: 6408 | AY20: 2980 | AZ20: 2053 | BA20: 21052 | BC20: No. Chsn | BD20: | | BE20: 4699 | BF20: 4912 | BG20: 6408 | BH20: 2980 | BI20: 2053 | BJ20: 21052 | BL20: No. Chsn | BM20: | | BN20: 4699 | BO20: 4912 | BP20: 6408 | BQ20: 2980 | BR20: 2053 | BS20: 21052
A21: SD. Chsn | B21: | | C21: 68 | D21: 70 | E21: 78 | F21: 50 | G21: 44 | H21: 141 | J21: SD. Chsn | K21: | | L21: 67 | M21: 69 | N21: 76 | O21: 48 | P21: 42 | Q21: 138 | S21: SD. Chsn | T21: | | U21: 61 | V21: 61 | W21: 64 | X21: 37 | Y21: 32 | Z21: 118 | AB21: SD. Chsn | AC21: | | AD21: 66 | AE21: 67 | AF21: 72 | AG21: 44 | AH21: 39 | AI21: 132 | AK21: SD. Chsn | AL21: | | AM21: 67 | AN21: 69 | AO21: 76 | AP21: 48 | AQ21: 43 | AR21: 138 | AT21: SD. Chsn | AU21: | | AV21: 68 | AW21: 70 | AX21: 77 | AY21: 49 | AZ21: 43 | BA21: 140 | BC21: SD. Chsn | BD21: | | BE21: 46 | BF21: 46 | BG21: 48 | BH21: 30 | BI21: 26 | BJ21: 90 | BL21: SD. Chsn | BM21: | | BN21: 39 | BO21: 40 | BP21: 40 | BQ21: 21 | BR21: 18 | BS21: 75
A22: Car_Gas4 | B22: | | C22: **+ | D22: **+ | E22: **- | F22: ***- | G22: **- | H22: **- | J22: Car_Gas4 | K22: | | L22: + | M22: + | N22: ***- | O22: ***- | P22: ***- | Q22: ***- | S22: Car_Gas4 | T22: | | U22: ***- | V22: ***- | W22: ***- | X22: ***- | Y22: ***- | Z22: ***- | AB22: Car_Gas4 | AC22: | | AD22: *- | AE22: ***- | AF22: ***- | AG22: ***- | AH22: ***- | AI22: ***- | AK22: Car_Gas4 | AL22: | | AM22: + | AN22: + | AO22: ***- | AP22: ***- | AQ22: ***- | AR22: ***- | AT22: Car_Gas4 | AU22: | | AV22: *+ | AW22: *+ | AX22: ***- | AY22: ***- | AZ22: ***- | BA22: ***- | BC22: Car_Gas4 | BD22: | | BE22: ***- | BF22: ***- | BG22: ***- | BH22: ***- | BI22: ***- | BJ22: ***- | BL22: Car_Gas4 | BM22: | | BN22: ***- | BO22: ***- | BP22: ***- | BQ22: ***- | BR22: ***- | BS22: ***-
A23: No. Pred | B23: | | C23: 4896 | D23: 5100 | E23: 6202 | F23: 2532 | G23: 1949 | H23: 20678 | J23: No. Pred | K23: | | L23: 4739 | M23: 4939 | N23: 5940 | O23: 2356 | P23: 1811 | Q23: 19785 | S23: No. Pred | T23: | | U23: 3861 | V23: 3869 | W23: 4167 | X23: 1383 | Y23: 1059 | Z23: 14339 | AB23: No. Pred | AC23: | | AD23: 4631 | AE23: 4657 | AF23: 5326 | AG23: 1964 | AH23: 1512 | AI23: 18089 | AK23: No. Pred | AL23: | | AM23: 4756 | AN23: 4928 | AO23: 5952 | AP23: 2390 | AQ23: 1840 | AR23: 19866 | AT23: No. Pred | AU23: | | AV23: 4775 | AW23: 5040 | AX23: 6107 | AY23: 2449 | AZ23: 1884 | BA23: 20255 | BC23: No. Pred | BD23: | | BE23: 2159 | BF23: 2108 | BG23: 2362 | BH23: 879 | BI23: 674 | BJ23: 8181 | BL23: No. Pred | BM23: | | BN23: 1561 | BO23: 1638 | BP23: 1626 | BQ23: 444 | BR23: 334 | BS23: 5604
A24: ----------- | B24: + | C24: ------ | D24: ------ | E24: ------ | F24: ------ | G24: ------ | H24: ------- | J24: ----------- | K24: + | L24: ------ | M24: ------ | N24: ------ | O24: ------ | P24: ------ | Q24: ------- | S24: ----------- | T24: + | U24: ------ | V24: ------ | W24: ------ | X24: ------ | Y24: ------ | Z24: ------- | AB24: ----------- | AC24: + | AD24: ------ | AE24: ------ | AF24: ------ | AG24: ------ | AH24: ------ | AI24: ------- | AK24: ----------- | AL24: + | AM24: ------ | AN24: ------ | AO24: ------ | AP24: ------ | AQ24: ------ | AR24: ------- | AT24: ----------- | AU24: + | AV24: ------ | AW24: ------ | AX24: ------ | AY24: ------ | AZ24: ------ | BA24: ------- | BC24: ----------- | BD24: + | BE24: ------ | BF24: ------ | BG24: ------ | BH24: ------ | BI24: ------ | BJ24: ------- | BL24: ----------- | BM24: + | BN24: ------ | BO24: ------ | BP24: ------ | BQ24: ------ | BR24: ------ | BS24: -------
A25: No. Chsn | B25: | | C25: 16 | D25: 55 | E25: 133 | F25: 135 | G25: 162 | H25: 501 | J25: No. Chsn | K25: | | L25: 16 | M25: 55 | N25: 133 | O25: 135 | P25: 162 | Q25: 501 | S25: No. Chsn | T25: | | U25: 16 | V25: 55 | W25: 133 | X25: 135 | Y25: 162 | Z25: 501 | AB25: No. Chsn | AC25: | | AD25: 16 | AE25: 55 | AF25: 133 | AG25: 135 | AH25: 162 | AI25: 501 | AK25: No. Chsn | AL25: | | AM25: 16 | AN25: 55 | AO25: 133 | AP25: 135 | AQ25: 162 | AR25: 501 | AT25: No. Chsn | AU25: | | AV25: 16 | AW25: 55 | AX25: 133 | AY25: 135 | AZ25: 162 | BA25: 501 | BC25: No. Chsn | BD25: | | BE25: 16 | BF25: 55 | BG25: 133 | BH25: 135 | BI25: 162 | BJ25: 501 | BL25: No. Chsn | BM25: | | BN25: 16 | BO25: 55 | BP25: 133 | BQ25: 135 | BR25: 162 | BS25: 501
A26: SD. Chsn | B26: | | C26: 6 | D26: 8 | E26: 12 | F26: 10 | G26: 8 | H26: 20 | J26: SD. Chsn | K26: | | L26: 6 | M26: 8 | N26: 12 | O26: 10 | P26: 8 | Q26: 20 | S26: SD. Chsn | T26: | | U26: 5 | V26: 7 | W26: 10 | X26: 7 | Y26: 6 | Z26: 16 | AB26: SD. Chsn | AC26: | | AD26: 5 | AE26: 8 | AF26: 11 | AG26: 8 | AH26: 7 | AI26: 18 | AK26: SD. Chsn | AL26: | | AM26: 6 | AN26: 8 | AO26: 12 | AP26: 10 | AQ26: 9 | AR26: 20 | AT26: SD. Chsn | AU26: | | AV26: 6 | AW26: 8 | AX26: 12 | AY26: 10 | AZ26: 9 | BA26: 20 | BC26: SD. Chsn | BD26: | | BE26: 10 | BF26: 14 | BG26: 18 | BH26: 14 | BI26: 13 | BJ26: 31 | BL26: SD. Chsn | BM26: | | BN26: 8 | BO26: 12 | BP26: 15 | BQ26: 10 | BR26: 9 | BS26: 25
A27: Car_Dsl1 | B27: | | C27: **+ | D27: *+ | E27: + | F27: ***- | G27: ***- | H27: ***- | J27: Car_Dsl1 | K27: | | L27: **+ | M27: *+ | N27: + | O27: ***- | P27: ***- | Q27: ***- | S27: Car_Dsl1 | T27: | | U27: *+ | V27: - | W27: ***- | X27: ***- | Y27: ***- | Z27: ***- | AB27: Car_Dsl1 | AC27: | | AD27: **+ | AE27: + | AF27: **- | AG27: ***- | AH27: ***- | AI27: ***- | AK27: Car_Dsl1 | AL27: | | AM27: **+ | AN27: *+ | AO27: + | AP27: ***- | AQ27: ***- | AR27: ***- | AT27: Car_Dsl1 | AU27: | | AV27: **+ | AW27: **+ | AX27: + | AY27: ***- | AZ27: ***- | BA27: ***- | BC27: Car_Dsl1 | BD27: | | BE27: ***+ | BF27: ***+ | BG27: ***+ | BH27: ***+ | BI27: - | BJ27: ***+ | BL27: Car_Dsl1 | BM27: | | BN27: ***+ | BO27: ***+ | BP27: ***+ | BQ27: **- | BR27: ***- | BS27: ***+
A28: No. Pred | B28: | | C28: 31 | D28: 67 | E28: 134 | F28: 93 | G28: 70 | H28: 396 | J28: No. Pred | K28: | | L28: 32 | M28: 68 | N28: 134 | O28: 90 | P28: 68 | Q28: 392 | S28: No. Pred | T28: | | U28: 25 | V28: 52 | W28: 91 | X28: 52 | Y28: 39 | Z28: 259 | AB28: No. Pred | AC28: | | AD28: 29 | AE28: 60 | AF28: 112 | AG28: 70 | AH28: 53 | AI28: 324 | AK28: No. Pred | AL28: | | AM28: 33 | AN28: 71 | AO28: 140 | AP28: 96 | AQ28: 72 | AR28: 412 | AT28: No. Pred | AU28: | | AV28: 33 | AW28: 72 | AX28: 142 | AY28: 96 | AZ28: 73 | BA28: 416 | BC28: No. Pred | BD28: | | BE28: 93 | BF28: 187 | BG28: 337 | BH28: 210 | BI28: 157 | BJ28: 984 | BL28: No. Pred | BM28: | | BN28: 67 | BO28: 144 | BP28: 230 | BQ28: 107 | BR28: 79 | BS28: 627
A29: ----------- | B29: + | C29: ------ | D29: ------ | E29: ------ | F29: ------ | G29: ------ | H29: ------- | J29: ----------- | K29: + | L29: ------ | M29: ------ | N29: ------ | O29: ------ | P29: ------ | Q29: ------- | S29: ----------- | T29: + | U29: ------ | V29: ------ | W29: ------ | X29: ------ | Y29: ------ | Z29: ------- | AB29: ----------- | AC29: + | AD29: ------ | AE29: ------ | AF29: ------ | AG29: ------ | AH29: ------ | AI29: ------- | AK29: ----------- | AL29: + | AM29: ------ | AN29: ------ | AO29: ------ | AP29: ------ | AQ29: ------ | AR29: ------- | AT29: ----------- | AU29: + | AV29: ------ | AW29: ------ | AX29: ------ | AY29: ------ | AZ29: ------ | BA29: ------- | BC29: ----------- | BD29: + | BE29: ------ | BF29: ------ | BG29: ------ | BH29: ------ | BI29: ------ | BJ29: ------- | BL29: ----------- | BM29: + | BN29: ------ | BO29: ------ | BP29: ------ | BQ29: ------ | BR29: ------ | BS29: -------
A30: No. Chsn | B30: | | C30: 7 | D30: 25 | E30: 70 | F30: 63 | G30: 76 | H30: 241 | J30: No. Chsn | K30: | | L30: 7 | M30: 25 | N30: 70 | O30: 63 | P30: 76 | Q30: 241 | S30: No. Chsn | T30: | | U30: 7 | V30: 25 | W30: 70 | X30: 63 | Y30: 76 | Z30: 241 | AB30: No. Chsn | AC30: | | AD30: 7 | AE30: 25 | AF30: 70 | AG30: 63 | AH30: 76 | AI30: 241 | AK30: No. Chsn | AL30: | | AM30: 7 | AN30: 25 | AO30: 70 | AP30: 63 | AQ30: 76 | AR30: 241 | AT30: No. Chsn | AU30: | | AV30: 7 | AW30: 25 | AX30: 70 | AY30: 63 | AZ30: 76 | BA30: 241 | BC30: No. Chsn | BD30: | | BE30: 7 | BF30: 25 | BG30: 70 | BH30: 63 | BI30: 76 | BJ30: 241 | BL30: No. Chsn | BM30: | | BN30: 7 | BO30: 25 | BP30: 70 | BQ30: 63 | BR30: 76 | BS30: 241
A31: SD. Chsn | B31: | | C31: 6 | D31: 7 | E31: 10 | F31: 7 | G31: 6 | H31: 17 | J31: SD. Chsn | K31: | | L31: 6 | M31: 8 | N31: 10 | O31: 8 | P31: 7 | Q31: 17 | S31: SD. Chsn | T31: | | U31: 5 | V31: 7 | W31: 8 | X31: 6 | Y31: 5 | Z31: 14 | AB31: SD. Chsn | AC31: | | AD31: 6 | AE31: 7 | AF31: 9 | AG31: 6 | AH31: 6 | AI31: 15 | AK31: SD. Chsn | AL31: | | AM31: 6 | AN31: 7 | AO31: 9 | AP31: 7 | AQ31: 6 | AR31: 16 | AT31: SD. Chsn | AU31: | | AV31: 6 | AW31: 7 | AX31: 10 | AY31: 7 | AZ31: 6 | BA31: 17 | BC31: SD. Chsn | BD31: | | BE31: 9 | BF31: 12 | BG31: 14 | BH31: 10 | BI31: 9 | BJ31: 25 | BL31: SD. Chsn | BM31: | | BN31: 8 | BO31: 10 | BP31: 12 | BQ31: 7 | BR31: 6 | BS31: 20
A32: Car_Dsl2 | B32: | | C32: ***+ | D32: ***+ | E32: **+ | F32: *- | G32: ***- | H32: **+ | J32: Car_Dsl2 | K32: | | L32: ***+ | M32: ***+ | N32: ***+ | O32: - | P32: ***- | Q32: ***+ | S32: Car_Dsl2 | T32: | | U32: ***+ | V32: ***+ | X32: ***- | Y32: ***- | Z32: **- | AB32: Car_Dsl2 | AC32: | | AD32: ***+ | AE32: ***+ | AF32: *+ | AG32: ***- | AH32: ***- | AI32: - | AK32: Car_Dsl2 | AL32: | | AM32: ***+ | AN32: ***+ | AO32: *+ | AP32: *- | AQ32: ***- | AR32: *+ | AT32: Car_Dsl2 | AU32: | | AV32: ***+ | AW32: ***+ | AX32: **+ | AY32: *- | AZ32: ***- | BA32: **+ | BC32: Car_Dsl2 | BD32: | | BE32: ***+ | BF32: ***+ | BG32: ***+ | BH32: ***+ | BI32: + | BJ32: ***+ | BL32: Car_Dsl2 | BM32: | | BN32: ***+ | BO32: ***+ | BP32: ***+ | BQ32: *- | BR32: ***- | BS32: ***+
A33: No. Pred | B33: | | C33: 33 | D33: 55 | E33: 94 | F33: 55 | G33: 42 | H33: 279 | J33: No. Pred | K33: | | L33: 36 | M33: 61 | N33: 102 | O33: 58 | P33: 44 | Q33: 301 | S33: No. Pred | T33: | | U33: 29 | V33: 47 | W33: 70 | X33: 34 | Y33: 25 | Z33: 205 | AB33: No. Pred | AC33: | | AD33: 31 | AE33: 50 | AF33: 79 | AG33: 42 | AH33: 32 | AI33: 233 | AK33: No. Pred | AL33: | | AM33: 31 | AN33: 52 | AO33: 88 | AP33: 51 | AQ33: 38 | AR33: 259 | AT33: No. Pred | AU33: | | AV33: 33 | AW33: 55 | AX33: 93 | AY33: 53 | AZ33: 40 | BA33: 275 | BC33: No. Pred | BD33: | | BE33: 86 | BF33: 135 | BG33: 208 | BH33: 110 | BI33: 83 | BJ33: 622 | BL33: No. Pred | BM33: | | BN33: 61 | BO33: 103 | BP33: 141 | BQ33: 55 | BR33: 41 | BS33: 400
A34: ----------- | B34: + | C34: ------ | D34: ------ | E34: ------ | F34: ------ | G34: ------ | H34: ------- | J34: ----------- | K34: + | L34: ------ | M34: ------ | N34: ------ | O34: ------ | P34: ------ | Q34: ------- | S34: ----------- | T34: + | U34: ------ | V34: ------ | W34: ------ | X34: ------ | Y34: ------ | Z34: ------- | AB34: ----------- | AC34: + | AD34: ------ | AE34: ------ | AF34: ------ | AG34: ------ | AH34: ------ | AI34: ------- | AK34: ----------- | AL34: + | AM34: ------ | AN34: ------ | AO34: ------ | AP34: ------ | AQ34: ------ | AR34: ------- | AT34: ----------- | AU34: + | AV34: ------ | AW34: ------ | AX34: ------ | AY34: ------ | AZ34: ------ | BA34: ------- | BC34: ----------- | BD34: + | BE34: ------ | BF34: ------ | BG34: ------ | BH34: ------ | BI34: ------ | BJ34: ------- | BL34: ----------- | BM34: + | BN34: ------ | BO34: ------ | BP34: ------ | BQ34: ------ | BR34: ------ | BS34: -------
A35: No. Chsn | B35: | | C35: 22 | D35: 36 | E35: 57 | F35: 63 | G35: 23 | H35: 201 | J35: No. Chsn | K35: | | L35: 22 | M35: 36 | N35: 57 | O35: 63 | P35: 23 | Q35: 201 | S35: No. Chsn | T35: | | U35: 22 | V35: 36 | W35: 57 | X35: 63 | Y35: 23 | Z35: 201 | AB35: No. Chsn | AC35: | | AD35: 22 | AE35: 36 | AF35: 57 | AG35: 63 | AH35: 23 | AI35: 201 | AK35: No. Chsn | AL35: | | AM35: 22 | AN35: 36 | AO35: 57 | AP35: 63 | AQ35: 23 | AR35: 201 | AT35: No. Chsn | AU35: | | AV35: 22 | AW35: 36 | AX35: 57 | AY35: 63 | AZ35: 23 | BA35: 201 | BC35: No. Chsn | BD35: | | BE35: 22 | BF35: 36 | BG35: 57 | BH35: 63 | BI35: 23 | BJ35: 201 | BL35: No. Chsn | BM35: | | BN35: 22 | BO35: 36 | BP35: 57 | BQ35: 63 | BR35: 23 | BS35: 201
A36: SD. Chsn | B36: | | C36: 6 | D36: 7 | E36: 8 | F36: 6 | G36: 5 | H36: 15 | J36: SD. Chsn | K36: | | L36: 7 | M36: 8 | N36: 9 | O36: 7 | P36: 6 | Q36: 17 | S36: SD. Chsn | T36: | | U36: 6 | V36: 7 | W36: 8 | X36: 5 | Y36: 4 | Z36: 14 | AB36: SD. Chsn | AC36: | | AD36: 6 | AE36: 7 | AF36: 8 | AG36: 5 | AH36: 5 | AI36: 14 | AK36: SD. Chsn | AL36: | | AM36: 7 | AN36: 8 | AO36: 9 | AP36: 6 | AQ36: 6 | AR36: 16 | AT36: SD. Chsn | AU36: | | AV36: 7 | AW36: 8 | AX36: 10 | AY36: 7 | AZ36: 6 | BA36: 17 | BC36: SD. Chsn | BD36: | | BE36: 11 | BF36: 12 | BG36: 14 | BH36: 9 | BI36: 8 | BJ36: 25 | BL36: SD. Chsn | BM36: | | BN36: 9 | BO36: 11 | BP36: 12 | BQ36: 7 | BR36: 6 | BS36: 20
A37: Car_Dsl3 | B37: | | C37: **+ | D37: *+ | E37: *+ | F37: ***- | G37: + | H37: *+ | J37: Car_Dsl3 | K37: | | L37: ***+ | M37: ***+ | N37: ***+ | O37: **- | P37: *+ | Q37: ***+ | S37: Car_Dsl3 | T37: | | U37: **+ | V37: *+ | W37: + | X37: ***- | Y37: - | Z37: - | AB37: Car_Dsl3 | AC37: | | AD37: *+ | AE37: *+ | AF37: + | AG37: ***- | AH37: - | AI37: *- | AK37: Car_Dsl3 | AL37: | | AM37: ***+ | AN37: ***+ | AO37: ***+ | AP37: ***- | AQ37: *+ | AR37: ***+ | AT37: Car_Dsl3 | AU37: | | AV37: ***+ | AW37: ***+ | AX37: ***+ | AY37: **- | AZ37: *+ | BA37: ***+ | BC37: Car_Dsl3 | BD37: | | BE37: ***+ | BF37: ***+ | BG37: ***+ | BH37: **+ | BI37: ***+ | BJ37: ***+ | BL37: Car_Dsl3 | BM37: | | BN37: ***+ | BO37: ***+ | BP37: ***+ | BQ37: **- | BR37: *+ | BS37: ***+
A38: No. Pred | B38: | | C38: 36 | D38: 48 | E38: 70 | F38: 35 | G38: 27 | H38: 216 | J38: No. Pred | K38: | | L38: 46 | M38: 62 | N38: 89 | O38: 43 | P38: 33 | Q38: 273 | S38: No. Pred | T38: | | U38: 37 | V38: 48 | W38: 62 | X38: 25 | Y38: 19 | Z38: 191 | AB38: No. Pred | AC38: | | AD38: 33 | AE38: 44 | AF38: 60 | AG38: 27 | AH38: 21 | AI38: 184 | AK38: No. Pred | AL38: | | AM38: 44 | AN38: 60 | AO38: 86 | AP38: 42 | AQ38: 32 | AR38: 264 | AT38: No. Pred | AU38: | | AV38: 47 | AW38: 64 | AX38: 92 | AY38: 44 | AZ38: 34 | BA38: 281 | BC38: No. Pred | BD38: | | BE38: 122 | BF38: 153 | BG38: 201 | BH38: 90 | BI38: 68 | BJ38: 634 | BL38: No. Pred | BM38: | | BN38: 86 | BO38: 115 | BP38: 135 | BQ38: 44 | BR38: 33 | BS38: 413
A39: ----------- | B39: + | C39: ------ | D39: ------ | E39: ------ | F39: ------ | G39: ------ | H39: ------- | J39: ----------- | K39: + | L39: ------ | M39: ------ | N39: ------ | O39: ------ | P39: ------ | Q39: ------- | S39: ----------- | T39: + | U39: ------ | V39: ------ | W39: ------ | X39: ------ | Y39: ------ | Z39: ------- | AB39: ----------- | AC39: + | AD39: ------ | AE39: ------ | AF39: ------ | AG39: ------ | AH39: ------ | AI39: ------- | AK39: ----------- | AL39: + | AM39: ------ | AN39: ------ | AO39: ------ | AP39: ------ | AQ39: ------ | AR39: ------- | AT39: ----------- | AU39: + | AV39: ------ | AW39: ------ | AX39: ------ | AY39: ------ | AZ39: ------ | BA39: ------- | BC39: ----------- | BD39: + | BE39: ------ | BF39: ------ | BG39: ------ | BH39: ------ | BI39: ------ | BJ39: ------- | BL39: ----------- | BM39: + | BN39: ------ | BO39: ------ | BP39: ------ | BQ39: ------ | BR39: ------ | BS39: -------
A40: No. Chsn | B40: | | C40: 24 | D40: 33 | E40: 58 | F40: 37 | G40: 31 | H40: 183 | J40: No. Chsn | K40: | | L40: 24 | M40: 33 | N40: 58 | O40: 37 | P40: 31 | Q40: 183 | S40: No. Chsn | T40: | | U40: 24 | V40: 33 | W40: 58 | X40: 37 | Y40: 31 | Z40: 183 | AB40: No. Chsn | AC40: | | AD40: 24 | AE40: 33 | AF40: 58 | AG40: 37 | AH40: 31 | AI40: 183 | AK40: No. Chsn | AL40: | | AM40: 24 | AN40: 33 | AO40: 58 | AP40: 37 | AQ40: 31 | AR40: 183 | AT40: No. Chsn | AU40: | | AV40: 24 | AW40: 33 | AX40: 58 | AY40: 37 | AZ40: 31 | BA40: 183 | BC40: No. Chsn | BD40: | | BE40: 24 | BF40: 33 | BG40: 58 | BH40: 37 | BI40: 31 | BJ40: 183 | BL40: No. Chsn | BM40: | | BN40: 24 | BO40: 33 | BP40: 58 | BQ40: 37 | BR40: 31 | BS40: 183
A41: SD. Chsn | B41: | | C41: 6 | D41: 6 | E41: 7 | F41: 4 | G41: 4 | H41: 13 | J41: SD. Chsn | K41: | | L41: 7 | M41: 8 | N41: 8 | O41: 5 | P41: 5 | Q41: 15 | S41: SD. Chsn | T41: | | U41: 7 | V41: 7 | W41: 7 | X41: 4 | Y41: 4 | Z41: 13 | AB41: SD. Chsn | AC41: | | AD41: 6 | AE41: 6 | AF41: 6 | AG41: 4 | AH41: 3 | AI41: 12 | AK41: SD. Chsn | AL41: | | AM41: 8 | AN41: 8 | AO41: 9 | AP41: 6 | AQ41: 5 | AR41: 17 | AT41: SD. Chsn | AU41: | | AV41: 8 | AW41: 8 | AX41: 9 | AY41: 6 | AZ41: 5 | BA41: 17 | BC41: SD. Chsn | BD41: | | BE41: 13 | BF41: 13 | BG41: 14 | BH41: 8 | BI41: 7 | BJ41: 26 | BL41: SD. Chsn | BM41: | | BN41: 11 | BO41: 11 | BP41: 11 | BQ41: 6 | BR41: 5 | BS41: 21
A42: Car_Dsl4 | B42: | | C42: **+ | D42: *+ | E42: *- | F42: ***- | G42: ***- | H42: *- | J42: Car_Dsl4 | K42: | | L42: ***+ | M42: ***+ | N42: *+ | O42: *- | P42: **- | Q42: ***+ | S42: Car_Dsl4 | T42: | | U42: ***+ | V42: *+ | W42: *- | X42: ***- | Y42: ***- | Z42: *- | AB42: Car_Dsl4 | AC42: | | AD42: *+ | AE42: + | AF42: **- | AG42: ***- | AH42: ***- | AI42: ***- | AK42: Car_Dsl4 | AL42: | | AM42: ***+ | AN42: ***+ | AO42: **+ | AP42: - | AQ42: - | AR42: ***+ | AT42: Car_Dsl4 | AU42: | | AV42: ***+ | AW42: ***+ | AX42: ***+ | AY42: - | AZ42: - | BA42: ***+ | BC42: Car_Dsl4 | BD42: | | BE42: ***+ | BF42: ***+ | BG42: ***+ | BH42: ***+ | BI42: ***+ | BJ42: ***+ | BL42: Car_Dsl4 | BM42: | | BN42: ***+ | BO42: ***+ | BP42: ***+ | BQ42: - | BR42: - | BS42: ***+
A43: No. Pred | B43: | | C43: 38 | D43: 39 | E43: 48 | F43: 20 | G43: 15 | H43: 160 | J43: No. Pred | K43: | | L43: 55 | M43: 58 | N43: 69 | O43: 28 | P43: 21 | Q43: 231 | S43: No. Pred | T43: | | U43: 45 | V43: 45 | W43: 49 | X43: 16 | Y43: 12 | Z43: 167 | AB43: No. Pred | AC43: | | AD43: 36 | AE43: 36 | AF43: 41 | AG43: 15 | AH43: 12 | AI43: 140 | AK43: No. Pred | AL43: | | AM43: 66 | AN43: 69 | AO43: 84 | AP43: 34 | AQ43: 26 | AR43: 278 | AT43: No. Pred | AU43: | | AV43: 68 | AW43: 72 | AX43: 87 | AY43: 35 | AZ43: 27 | BA43: 289 | BC43: No. Pred | BD43: | | BE43: 176 | BF43: 172 | BG43: 193 | BH43: 72 | BI43: 55 | BJ43: 668 | BL43: No. Pred | BM43: | | BN43: 122 | BO43: 128 | BP43: 127 | BQ43: 35 | BR43: 26 | BS43: 439
A44: ----------- | B44: + | C44: ------ | D44: ------ | E44: ------ | F44: ------ | G44: ------ | H44: ------- | J44: ----------- | K44: + | L44: ------ | M44: ------ | N44: ------ | O44: ------ | P44: ------ | Q44: ------- | S44: ----------- | T44: + | U44: ------ | V44: ------ | W44: ------ | X44: ------ | Y44: ------ | Z44: ------- | AB44: ----------- | AC44: + | AD44: ------ | AE44: ------ | AF44: ------ | AG44: ------ | AH44: ------ | AI44: ------- | AK44: ----------- | AL44: + | AM44: ------ | AN44: ------ | AO44: ------ | AP44: ------ | AQ44: ------ | AR44: ------- | AT44: ----------- | AU44: + | AV44: ------ | AW44: ------ | AX44: ------ | AY44: ------ | AZ44: ------ | BA44: ------- | BC44: ----------- | BD44: + | BE44: ------ | BF44: ------ | BG44: ------ | BH44: ------ | BI44: ------ | BJ44: ------- | BL44: ----------- | BM44: + | BN44: ------ | BO44: ------ | BP44: ------ | BQ44: ------ | BR44: ------ | BS44: -------
A45: No. Chsn | B45: | | C45: 82 | D45: 230 | E45: 754 | F45: 670 | G45: 569 | H45: 2305 | J45: No. Chsn | K45: | | L45: 82 | M45: 230 | N45: 754 | O45: 670 | P45: 569 | Q45: 2305 | S45: No. Chsn | T45: | | U45: 82 | V45: 230 | W45: 754 | X45: 670 | Y45: 569 | Z45: 2305 | AB45: No. Chsn | AC45: | | AD45: 82 | AE45: 230 | AF45: 754 | AG45: 670 | AH45: 569 | AI45: 2305 | AK45: No. Chsn | AL45: | | AM45: 82 | AN45: 230 | AO45: 754 | AP45: 670 | AQ45: 569 | AR45: 2305 | AT45: No. Chsn | AU45: | | AV45: 82 | AW45: 230 | AX45: 754 | AY45: 670 | AZ45: 569 | BA45: 2305 | BC45: No. Chsn | BD45: | | BE45: 82 | BF45: 230 | BG45: 754 | BH45: 670 | BI45: 569 | BJ45: 2305 | BL45: No. Chsn | BM45: | | BN45: 82 | BO45: 230 | BP45: 754 | BQ45: 670 | BR45: 569 | BS45: 2305
A46: SD. Chsn | B46: | | C46: 8 | D46: 15 | E46: 27 | F46: 27 | G46: 24 | H46: 48 | J46: SD. Chsn | K46: | | L46: 9 | M46: 17 | N46: 30 | O46: 30 | P46: 26 | Q46: 54 | S46: SD. Chsn | T46: | | U46: 28 | V46: 50 | W46: 83 | X46: 75 | Y46: 65 | Z46: 142 | AB46: SD. Chsn | AC46: | | AD46: 27 | AE46: 48 | AF46: 82 | AG46: 78 | AH46: 68 | AI46: 143 | AK46: SD. Chsn | AL46: | | AM46: 8 | AN46: 15 | AO46: 27 | AP46: 27 | AQ46: 24 | AR46: 49 | AT46: SD. Chsn | AU46: | | AV46: 9 | AW46: 16 | AX46: 28 | AY46: 28 | AZ46: 24 | BA46: 49 | BC46: SD. Chsn | BD46: | | BE46: 18 | BF46: 31 | BG46: 53 | BH46: 50 | BI46: 43 | BJ46: 92 | BL46: SD. Chsn | BM46: | | BN46: 19 | BO46: 35 | BP46: 55 | BQ46: 45 | BR46: 39 | BS46: 91
A47: Car_Hyb1 | B47: | | C47: *- | D47: - | E47: - | F47: **+ | G47: - | H47: + | J47: Car_Hyb1 | K47: | | L47: + | M47: ***+ | N47: ***+ | O47: ***+ | P47: ***+ | Q47: ***+ | S47: Car_Hyb1 | T47: | | U47: ***+ | V47: ***+ | W47: ***+ | X47: ***+ | Y47: ***+ | Z47: ***+ | AB47: Car_Hyb1 | AC47: | | AD47: ***+ | AE47: ***+ | AF47: ***+ | AG47: ***+ | AH47: ***+ | AI47: ***+ | AK47: Car_Hyb1 | AL47: | | AM47: *- | AN47: + | AO47: - | AP47: **+ | AQ47: - | AR47: *+ | AT47: Car_Hyb1 | AU47: | | AV47: *- | AW47: + | AX47: + | AY47: ***+ | AZ47: + | BA47: **+ | BC47: Car_Hyb1 | BD47: | | BE47: ***+ | BF47: ***+ | BG47: ***+ | BH47: ***+ | BI47: ***+ | BJ47: ***+ | BL47: Car_Hyb1 | BM47: | | BN47: ***+ | BO47: ***+ | BP47: ***+ | BQ47: ***+ | BR47: ***+ | BS47: ***+
A48: No. Pred | B48: | | C48: 69 | D48: 228 | E48: 733 | F48: 744 | G48: 556 | H48: 2330 | J48: No. Pred | K48: | | L48: 88 | M48: 291 | N48: 921 | O48: 907 | P48: 677 | Q48: 2885 | S48: No. Pred | T48: | | U48: 800 | V48: 2504 | W48: 7044 | X48: 5858 | Y48: 4379 | Z48: 20586 | AB48: No. Pred | AC48: | | AD48: 730 | AE48: 2313 | AF48: 6894 | AG48: 6292 | AH48: 4718 | AI48: 20948 | AK48: No. Pred | AL48: | | AM48: 71 | AN48: 234 | AO48: 749 | AP48: 752 | AQ48: 562 | AR48: 2368 | AT48: No. Pred | AU48: | | AV48: 73 | AW48: 243 | AX48: 772 | AY48: 765 | AZ48: 571 | BA48: 2424 | BC48: No. Pred | BD48: | | BE48: 319 | BF48: 987 | BG48: 2846 | BH48: 2573 | BI48: 1909 | BJ48: 8632 | BL48: No. Pred | BM48: | | BN48: 366 | BO48: 1212 | BP48: 3105 | BQ48: 2086 | BR48: 1528 | BS48: 8297
A49: ----------- | B49: + | C49: ------ | D49: ------ | E49: ------ | F49: ------ | G49: ------ | H49: ------- | J49: ----------- | K49: + | L49: ------ | M49: ------ | N49: ------ | O49: ------ | P49: ------ | Q49: ------- | S49: ----------- | T49: + | U49: ------ | V49: ------ | W49: ------ | X49: ------ | Y49: ------ | Z49: ------- | AB49: ----------- | AC49: + | AD49: ------ | AE49: ------ | AF49: ------ | AG49: ------ | AH49: ------ | AI49: ------- | AK49: ----------- | AL49: + | AM49: ------ | AN49: ------ | AO49: ------ | AP49: ------ | AQ49: ------ | AR49: ------- | AT49: ----------- | AU49: + | AV49: ------ | AW49: ------ | AX49: ------ | AY49: ------ | AZ49: ------ | BA49: ------- | BC49: ----------- | BD49: + | BE49: ------ | BF49: ------ | BG49: ------ | BH49: ------ | BI49: ------ | BJ49: ------- | BL49: ----------- | BM49: + | BN49: ------ | BO49: ------ | BP49: ------ | BQ49: ------ | BR49: ------ | BS49: -------
A50: No. Chsn | B50: | | C50: 61 | D50: 197 | E50: 499 | F50: 387 | G50: 353 | H50: 1497 | J50: No. Chsn | K50: | | L50: 61 | M50: 197 | N50: 499 | O50: 387 | P50: 353 | Q50: 1497 | S50: No. Chsn | T50: | | U50: 61 | V50: 197 | W50: 499 | X50: 387 | Y50: 353 | Z50: 1497 | AB50: No. Chsn | AC50: | | AD50: 61 | AE50: 197 | AF50: 499 | AG50: 387 | AH50: 353 | AI50: 1497 | AK50: No. Chsn | AL50: | | AM50: 61 | AN50: 197 | AO50: 499 | AP50: 387 | AQ50: 353 | AR50: 1497 | AT50: No. Chsn | AU50: | | AV50: 61 | AW50: 197 | AX50: 499 | AY50: 387 | AZ50: 353 | BA50: 1497 | BC50: No. Chsn | BD50: | | BE50: 61 | BF50: 197 | BG50: 499 | BH50: 387 | BI50: 353 | BJ50: 1497 | BL50: No. Chsn | BM50: | | BN50: 61 | BO50: 197 | BP50: 499 | BQ50: 387 | BR50: 353 | BS50: 1497
A51: SD. Chsn | B51: | | C51: 7 | D51: 11 | E51: 18 | F51: 17 | G51: 14 | H51: 31 | J51: SD. Chsn | K51: | | L51: 10 | M51: 16 | N51: 26 | O51: 24 | P51: 21 | Q51: 45 | S51: SD. Chsn | T51: | | U51: 30 | V51: 47 | W51: 73 | X51: 61 | Y51: 53 | Z51: 122 | AB51: SD. Chsn | AC51: | | AD51: 22 | AE51: 34 | AF51: 55 | AG51: 48 | AH51: 42 | AI51: 94 | AK51: SD. Chsn | AL51: | | AM51: 7 | AN51: 12 | AO51: 19 | AP51: 18 | AQ51: 15 | AR51: 33 | AT51: SD. Chsn | AU51: | | AV51: 8 | AW51: 13 | AX51: 21 | AY51: 19 | AZ51: 17 | BA51: 36 | BC51: SD. Chsn | BD51: | | BE51: 16 | BF51: 25 | BG51: 40 | BH51: 35 | BI51: 30 | BJ51: 68 | BL51: SD. Chsn | BM51: | | BN51: 18 | BO51: 30 | BP51: 44 | BQ51: 33 | BR51: 28 | BS51: 71
A52: Car_Hyb2 | B52: | | C52: **- | D52: ***- | E52: ***- | F52: ***- | G52: ***- | H52: ***- | J52: Car_Hyb2 | K52: | | L52: ***+ | M52: ***+ | N52: ***+ | O52: ***+ | P52: ***+ | Q52: ***+ | S52: Car_Hyb2 | T52: | | U52: ***+ | V52: ***+ | W52: ***+ | X52: ***+ | Y52: ***+ | Z52: ***+ | AB52: Car_Hyb2 | AC52: | | AD52: ***+ | AE52: ***+ | AF52: ***+ | AG52: ***+ | AH52: ***+ | AI52: ***+ | AK52: Car_Hyb2 | AL52: | | AM52: *- | AN52: ***- | AO52: ***- | AP52: ***- | AQ52: ***- | AR52: ***- | AT52: Car_Hyb2 | AU52: | | AV52: + | AW52: **- | AX52: **- | AY52: *- | AZ52: ***- | BA52: ***- | BC52: Car_Hyb2 | BD52: | | BE52: ***+ | BF52: ***+ | BG52: ***+ | BH52: ***+ | BI52: ***+ | BJ52: ***+ | BL52: Car_Hyb2 | BM52: | | BN52: ***+ | BO52: ***+ | BP52: ***+ | BQ52: ***+ | BR52: ***+ | BS52: ***+
A53: No. Pred | B53: | | C53: 44 | D53: 117 | E53: 322 | F53: 279 | G53: 210 | H53: 972 | J53: No. Pred | K53: | | L53: 99 | M53: 257 | N53: 691 | O53: 573 | P53: 431 | Q53: 2052 | S53: No. Pred | T53: | | U53: 904 | V53: 2224 | W53: 5335 | X53: 3730 | Y53: 2805 | Z53: 14999 | AB53: No. Pred | AC53: | | AD53: 471 | AE53: 1190 | AF53: 3058 | AG53: 2381 | AH53: 1797 | AI53: 8897 | AK53: No. Pred | AL53: | | AM53: 52 | AN53: 135 | AO53: 366 | AP53: 310 | AQ53: 234 | AR53: 1097 | AT53: No. Pred | AU53: | | AV53: 63 | AW53: 163 | AX53: 440 | AY53: 368 | AZ53: 277 | BA53: 1310 | BC53: No. Pred | BD53: | | BE53: 266 | BF53: 642 | BG53: 1581 | BH53: 1210 | BI53: 906 | BJ53: 4605 | BL53: No. Pred | BM53: | | BN53: 341 | BO53: 882 | BP53: 1925 | BQ53: 1090 | BR53: 804 | BS53: 5042
A54: ----------- | B54: + | C54: ------ | D54: ------ | E54: ------ | F54: ------ | G54: ------ | H54: ------- | J54: ----------- | K54: + | L54: ------ | M54: ------ | N54: ------ | O54: ------ | P54: ------ | Q54: ------- | S54: ----------- | T54: + | U54: ------ | V54: ------ | W54: ------ | X54: ------ | Y54: ------ | Z54: ------- | AB54: ----------- | AC54: + | AD54: ------ | AE54: ------ | AF54: ------ | AG54: ------ | AH54: ------ | AI54: ------- | AK54: ----------- | AL54: + | AM54: ------ | AN54: ------ | AO54: ------ | AP54: ------ | AQ54: ------ | AR54: ------- | AT54: ----------- | AU54: + | AV54: ------ | AW54: ------ | AX54: ------ | AY54: ------ | AZ54: ------ | BA54: ------- | BC54: ----------- | BD54: + | BE54: ------ | BF54: ------ | BG54: ------ | BH54: ------ | BI54: ------ | BJ54: ------- | BL54: ----------- | BM54: + | BN54: ------ | BO54: ------ | BP54: ------ | BQ54: ------ | BR54: ------ | BS54: -------
A55: No. Chsn | B55: | | C55: 28 | D55: 66 | E55: 150 | F55: 103 | G55: 111 | H55: 458 | J55: No. Chsn | K55: | | L55: 28 | M55: 66 | N55: 150 | O55: 103 | P55: 111 | Q55: 458 | S55: No. Chsn | T55: | | U55: 28 | V55: 66 | W55: 150 | X55: 103 | Y55: 111 | Z55: 458 | AB55: No. Chsn | AC55: | | AD55: 28 | AE55: 66 | AF55: 150 | AG55: 103 | AH55: 111 | AI55: 458 | AK55: No. Chsn | AL55: | | AM55: 28 | AN55: 66 | AO55: 150 | AP55: 103 | AQ55: 111 | AR55: 458 | AT55: No. Chsn | AU55: | | AV55: 28 | AW55: 66 | AX55: 150 | AY55: 103 | AZ55: 111 | BA55: 458 | BC55: No. Chsn | BD55: | | BE55: 28 | BF55: 66 | BG55: 150 | BH55: 103 | BI55: 111 | BJ55: 458 | BL55: No. Chsn | BM55: | | BN55: 28 | BO55: 66 | BP55: 150 | BQ55: 103 | BR55: 111 | BS55: 458
A56: SD. Chsn | B56: | | C56: 4 | D56: 6 | E56: 9 | F56: 8 | G56: 7 | H56: 16 | J56: SD. Chsn | K56: | | L56: 11 | M56: 16 | N56: 24 | O56: 20 | P56: 18 | Q56: 41 | S56: SD. Chsn | T56: | | U56: 33 | V56: 47 | W56: 68 | X56: 52 | Y56: 45 | Z56: 113 | AB56: SD. Chsn | AC56: | | AD56: 14 | AE56: 19 | AF56: 29 | AG56: 23 | AH56: 20 | AI56: 48 | AK56: SD. Chsn | AL56: | | AM56: 8 | AN56: 11 | AO56: 17 | AP56: 14 | AQ56: 13 | AR56: 29 | AT56: SD. Chsn | AU56: | | AV56: 9 | AW56: 13 | AX56: 19 | AY56: 16 | AZ56: 14 | BA56: 33 | BC56: SD. Chsn | BD56: | | BE56: 18 | BF56: 24 | BG56: 35 | BH56: 29 | BI56: 25 | BJ56: 60 | BL56: SD. Chsn | BM56: | | BN56: 21 | BO56: 30 | BP56: 41 | BQ56: 29 | BR56: 25 | BS56: 67
A57: Car_Hyb3 | B57: | | C57: **- | D57: ***- | E57: ***- | F57: ***- | G57: ***- | H57: ***- | J57: Car_Hyb3 | K57: | | L57: ***+ | M57: ***+ | N57: ***+ | O57: ***+ | P57: ***+ | Q57: ***+ | S57: Car_Hyb3 | T57: | | U57: ***+ | V57: ***+ | W57: ***+ | X57: ***+ | Y57: ***+ | Z57: ***+ | AB57: Car_Hyb3 | AC57: | | AD57: ***+ | AE57: ***+ | AF57: ***+ | AG57: ***+ | AH57: ***+ | AI57: ***+ | AK57: Car_Hyb3 | AL57: | | AM57: ***+ | AN57: ***+ | AO57: ***+ | AP57: ***+ | AQ57: ***+ | AR57: ***+ | AT57: Car_Hyb3 | AU57: | | AV57: ***+ | AW57: ***+ | AX57: ***+ | AY57: ***+ | AZ57: ***+ | BA57: ***+ | BC57: Car_Hyb3 | BD57: | | BE57: ***+ | BF57: ***+ | BG57: ***+ | BH57: ***+ | BI57: ***+ | BJ57: ***+ | BL57: Car_Hyb3 | BM57: | | BN57: ***+ | BO57: ***+ | BP57: ***+ | BQ57: ***+ | BR57: ***+ | BS57: ***+
A58: No. Pred | B58: | | C58: 17 | D58: 36 | E58: 86 | F58: 63 | G58: 48 | H58: 250 | J58: No. Pred | K58: | | L58: 123 | M58: 256 | N58: 594 | O58: 420 | P58: 319 | Q58: 1712 | S58: No. Pred | T58: | | U58: 1129 | V58: 2235 | W58: 4632 | X58: 2755 | Y58: 2085 | Z58: 12836 | AB58: No. Pred | AC58: | | AD58: 186 | AE58: 373 | AF58: 822 | AG58: 542 | AH58: 412 | AI58: 2335 | AK58: No. Pred | AL58: | | AM58: 61 | AN58: 124 | AO58: 288 | AP58: 206 | AQ58: 157 | AR58: 835 | AT58: No. Pred | AU58: | | AV58: 80 | AW58: 163 | AX58: 377 | AY58: 266 | AZ58: 202 | BA58: 1088 | BC58: No. Pred | BD58: | | BE58: 312 | BF58: 596 | BG58: 1263 | BH58: 823 | BI58: 622 | BJ58: 3616 | BL58: No. Pred | BM58: | | BN58: 445 | BO58: 910 | BP58: 1710 | BQ58: 820 | BR58: 610 | BS58: 4496
A59: ----------- | B59: + | C59: ------ | D59: ------ | E59: ------ | F59: ------ | G59: ------ | H59: ------- | J59: ----------- | K59: + | L59: ------ | M59: ------ | N59: ------ | O59: ------ | P59: ------ | Q59: ------- | S59: ----------- | T59: + | U59: ------ | V59: ------ | W59: ------ | X59: ------ | Y59: ------ | Z59: ------- | AB59: ----------- | AC59: + | AD59: ------ | AE59: ------ | AF59: ------ | AG59: ------ | AH59: ------ | AI59: ------- | AK59: ----------- | AL59: + | AM59: ------ | AN59: ------ | AO59: ------ | AP59: ------ | AQ59: ------ | AR59: ------- | AT59: ----------- | AU59: + | AV59: ------ | AW59: ------ | AX59: ------ | AY59: ------ | AZ59: ------ | BA59: ------- | BC59: ----------- | BD59: + | BE59: ------ | BF59: ------ | BG59: ------ | BH59: ------ | BI59: ------ | BJ59: ------- | BL59: ----------- | BM59: + | BN59: ------ | BO59: ------ | BP59: ------ | BQ59: ------ | BR59: ------ | BS59: -------
A60: No. Chsn | B60: | | C60: 6 | D60: 2 | E60: 8 | F60: 7 | G60: 4 | H60: 27 | J60: No. Chsn | K60: | | L60: 6 | M60: 2 | N60: 8 | O60: 7 | P60: 4 | Q60: 27 | S60: No. Chsn | T60: | | U60: 6 | V60: 2 | W60: 8 | X60: 7 | Y60: 4 | Z60: 27 | AB60: No. Chsn | AC60: | | AD60: 6 | AE60: 2 | AF60: 8 | AG60: 7 | AH60: 4 | AI60: 27 | AK60: No. Chsn | AL60: | | AM60: 6 | AN60: 2 | AO60: 8 | AP60: 7 | AQ60: 4 | AR60: 27 | AT60: No. Chsn | AU60: | | AV60: 6 | AW60: 2 | AX60: 8 | AY60: 7 | AZ60: 4 | BA60: 27 | BC60: No. Chsn | BD60: | | BE60: 6 | BF60: 2 | BG60: 8 | BH60: 7 | BI60: 4 | BJ60: 27 | BL60: No. Chsn | BM60: | | BN60: 6 | BO60: 2 | BP60: 8 | BQ60: 7 | BR60: 4 | BS60: 27
A61: SD. Chsn | B61: | | C61: 3 | D61: 3 | E61: 5 | F61: 4 | G61: 3 | H61: 8 | J61: SD. Chsn | K61: | | L61: 12 | M61: 15 | N61: 21 | O61: 16 | P61: 14 | Q61: 36 | S61: SD. Chsn | T61: | | U61: 36 | V61: 45 | W61: 59 | X61: 41 | Y61: 36 | Z61: 99 | AB61: SD. Chsn | AC61: | | AD61: 9 | AE61: 11 | AF61: 15 | AG61: 12 | AH61: 10 | AI61: 26 | AK61: SD. Chsn | AL61: | | AM61: 0 | AN61: 0 | AO61: 0 | AP61: 0 | AQ61: 0 | AR61: 0 | AT61: SD. Chsn | AU61: | | AV61: 10 | AW61: 13 | AX61: 18 | AY61: 14 | AZ61: 12 | BA61: 30 | BC61: SD. Chsn | BD61: | | BE61: 19 | BF61: 23 | BG61: 30 | BH61: 22 | BI61: 20 | BJ61: 52 | BL61: SD. Chsn | BM61: | | BN61: 24 | BO61: 30 | BP61: 37 | BQ61: 24 | BR61: 21 | BS61: 62
A62: Car_Hyb4 | B62: | | C62: + | D62: **+ | E62: ***+ | F62: **+ | G62: **+ | H62: ***+ | J62: Car_Hyb4 | K62: | | L62: ***+ | M62: ***+ | N62: ***+ | O62: ***+ | P62: ***+ | Q62: ***+ | S62: Car_Hyb4 | T62: | | U62: ***+ | V62: ***+ | W62: ***+ | X62: ***+ | Y62: ***+ | Z62: ***+ | AB62: Car_Hyb4 | AC62: | | AD62: ***+ | AE62: ***+ | AF62: ***+ | AG62: ***+ | AH62: ***+ | AI62: ***+ | AK62: Car_Hyb4 | AL62: | | AM62: ***- | AN62: ***- | AO62: ***- | AP62: ***- | AQ62: ***- | AR62: ***- | AT62: Car_Hyb4 | AU62: | | AV62: ***+ | AW62: ***+ | AX62: ***+ | AY62: ***+ | AZ62: ***+ | BA62: ***+ | BC62: Car_Hyb4 | BD62: | | BE62: ***+ | BF62: ***+ | BG62: ***+ | BH62: ***+ | BI62: ***+ | BJ62: ***+ | BL62: Car_Hyb4 | BM62: | | BN62: ***+ | BO62: ***+ | BP62: ***+ | BQ62: ***+ | BR62: ***+ | BS62: ***+
A63: No. Pred | B63: | | C63: 7 | D63: 12 | E63: 25 | F63: 15 | G63: 12 | H63: 71 | J63: No. Pred | K63: | | L63: 146 | M63: 232 | N63: 450 | O63: 262 | P63: 200 | Q63: 1290 | S63: No. Pred | T63: | | U63: 1341 | V63: 2048 | W63: 3553 | X63: 1733 | Y63: 1321 | Z63: 9996 | AB63: No. Pred | AC63: | | AD63: 77 | AE63: 125 | AF63: 240 | AG63: 135 | AH63: 104 | AI63: 681 | AK63: No. Pred | AL63: | | AM63: 0 | AN63: 0 | AO63: 0 | AP63: 0 | AQ63: 0 | AR63: 0 | AT63: No. Pred | AU63: | | AV63: 98 | AW63: 158 | AX63: 309 | AY63: 183 | AZ63: 140 | BA63: 888 | BC63: No. Pred | BD63: | | BE63: 347 | BF63: 515 | BG63: 927 | BH63: 505 | BI63: 385 | BJ63: 2680 | BL63: No. Pred | BM63: | | BN63: 558 | BO63: 887 | BP63: 1412 | BQ63: 563 | BR63: 422 | BS63: 3842
A64: ----------- | B64: + | C64: ------ | D64: ------ | E64: ------ | F64: ------ | G64: ------ | H64: ------- | J64: ----------- | K64: + | L64: ------ | M64: ------ | N64: ------ | O64: ------ | P64: ------ | Q64: ------- | S64: ----------- | T64: + | U64: ------ | V64: ------ | W64: ------ | X64: ------ | Y64: ------ | Z64: ------- | AB64: ----------- | AC64: + | AD64: ------ | AE64: ------ | AF64: ------ | AG64: ------ | AH64: ------ | AI64: ------- | AK64: ----------- | AL64: + | AM64: ------ | AN64: ------ | AO64: ------ | AP64: ------ | AQ64: ------ | AR64: ------- | AT64: ----------- | AU64: + | AV64: ------ | AW64: ------ | AX64: ------ | AY64: ------ | AZ64: ------ | BA64: ------- | BC64: ----------- | BD64: + | BE64: ------ | BF64: ------ | BG64: ------ | BH64: ------ | BI64: ------ | BJ64: ------- | BL64: ----------- | BM64: + | BN64: ------ | BO64: ------ | BP64: ------ | BQ64: ------ | BR64: ------ | BS64: -------
A65: No. Chsn | B65: | | C65: 8 | D65: 24 | E65: 92 | F65: 114 | G65: 160 | H65: 398 | J65: No. Chsn | K65: | | L65: 8 | M65: 24 | N65: 92 | O65: 114 | P65: 160 | Q65: 398 | S65: No. Chsn | T65: | | U65: 8 | V65: 24 | W65: 92 | X65: 114 | Y65: 160 | Z65: 398 | AB65: No. Chsn | AC65: | | AD65: 8 | AE65: 24 | AF65: 92 | AG65: 114 | AH65: 160 | AI65: 398 | AK65: No. Chsn | AL65: | | AM65: 8 | AN65: 24 | AO65: 92 | AP65: 114 | AQ65: 160 | AR65: 398 | AT65: No. Chsn | AU65: | | AV65: 8 | AW65: 24 | AX65: 92 | AY65: 114 | AZ65: 160 | BA65: 398 | BC65: No. Chsn | BD65: | | BE65: 8 | BF65: 24 | BG65: 92 | BH65: 114 | BI65: 160 | BJ65: 398 | BL65: No. Chsn | BM65: | | BN65: 8 | BO65: 24 | BP65: 92 | BQ65: 114 | BR65: 160 | BS65: 398
A66: SD. Chsn | B66: | | C66: 3 | D66: 4 | E66: 8 | F66: 12 | G66: 10 | H66: 18 | J66: SD. Chsn | K66: | | L66: 5 | M66: 7 | N66: 13 | O66: 19 | P66: 16 | Q66: 29 | S66: SD. Chsn | T66: | | U66: 11 | V66: 14 | W66: 26 | X66: 33 | Y66: 29 | Z66: 54 | AB66: SD. Chsn | AC66: | | AD66: 7 | AE66: 9 | AF66: 17 | AG66: 24 | AH66: 21 | AI66: 38 | AK66: SD. Chsn | AL66: | | AM66: 3 | AN66: 4 | AO66: 9 | AP66: 12 | AQ66: 11 | AR66: 20 | AT66: SD. Chsn | AU66: | | AV66: 4 | AW66: 5 | AX66: 9 | AY66: 13 | AZ66: 12 | BA66: 21 | BC66: SD. Chsn | BD66: | | BE66: 8 | BF66: 10 | BG66: 19 | BH66: 25 | BI66: 22 | BJ66: 41 | BL66: SD. Chsn | BM66: | | BN66: 20 | BO66: 26 | BP66: 46 | BQ66: 52 | BR66: 46 | BS66: 89
A67: Car_PEV1 | B67: | | C67: + | D67: *- | E67: ***- | F67: *+ | G67: ***- | H67: ***- | J67: Car_PEV1 | K67: | | L67: ***+ | M67: ***+ | N67: ***+ | O67: ***+ | P67: ***+ | Q67: ***+ | S67: Car_PEV1 | T67: | | U67: ***+ | V67: ***+ | W67: ***+ | X67: ***+ | Y67: ***+ | Z67: ***+ | AB67: Car_PEV1 | AC67: | | AD67: ***+ | AE67: ***+ | AF67: ***+ | AG67: ***+ | AH67: ***+ | AI67: ***+ | AK67: Car_PEV1 | AL67: | | AM67: *+ | AN67: *- | AO67: *- | AP67: ***+ | AQ67: ***- | AR67: - | AT67: Car_PEV1 | AU67: | | AV67: *+ | AW67: - | AX67: - | AY67: ***+ | AZ67: *- | BA67: **+ | BC67: Car_PEV1 | BD67: | | BE67: ***+ | BF67: ***+ | BG67: ***+ | BH67: ***+ | BI67: ***+ | BJ67: ***+ | BL67: Car_PEV1 | BM67: | | BN67: ***+ | BO67: ***+ | BP67: ***+ | BQ67: ***+ | BR67: ***+ | BS67: ***+
A68: No. Pred | B68: | | C68: 10 | D68: 16 | E68: 65 | F68: 135 | G68: 106 | H68: 332 | J68: No. Pred | K68: | | L68: 27 | M68: 45 | N68: 176 | O68: 347 | P68: 271 | Q68: 867 | S68: No. Pred | T68: | | U68: 121 | V68: 189 | W68: 658 | X68: 1089 | Y68: 851 | Z68: 2908 | AB68: No. Pred | AC68: | | AD68: 50 | AE68: 81 | AF68: 302 | AG68: 561 | AH68: 440 | AI68: 1433 | AK68: No. Pred | AL68: | | AM68: 12 | AN68: 20 | AO68: 77 | AP68: 155 | AQ68: 122 | AR68: 386 | AT68: No. Pred | AU68: | | AV68: 14 | AW68: 23 | AX68: 89 | AY68: 177 | AZ68: 139 | BA68: 441 | BC68: No. Pred | BD68: | | BE68: 65 | BF68: 99 | BG68: 351 | BH68: 638 | BI68: 495 | BJ68: 1648 | BL68: No. Pred | BM68: | | BN68: 408 | BO68: 667 | BP68: 2091 | BQ68: 2763 | BR68: 2114 | BS68: 8044
A69: ----------- | B69: + | C69: ------ | D69: ------ | E69: ------ | F69: ------ | G69: ------ | H69: ------- | J69: ----------- | K69: + | L69: ------ | M69: ------ | N69: ------ | O69: ------ | P69: ------ | Q69: ------- | S69: ----------- | T69: + | U69: ------ | V69: ------ | W69: ------ | X69: ------ | Y69: ------ | Z69: ------- | AB69: ----------- | AC69: + | AD69: ------ | AE69: ------ | AF69: ------ | AG69: ------ | AH69: ------ | AI69: ------- | AK69: ----------- | AL69: + | AM69: ------ | AN69: ------ | AO69: ------ | AP69: ------ | AQ69: ------ | AR69: ------- | AT69: ----------- | AU69: + | AV69: ------ | AW69: ------ | AX69: ------ | AY69: ------ | AZ69: ------ | BA69: ------- | BC69: ----------- | BD69: + | BE69: ------ | BF69: ------ | BG69: ------ | BH69: ------ | BI69: ------ | BJ69: ------- | BL69: ----------- | BM69: + | BN69: ------ | BO69: ------ | BP69: ------ | BQ69: ------ | BR69: ------ | BS69: -------
A70: No. Chsn | B70: | | C70: 1 | D70: 2 | E70: 5 | F70: 7 | G70: 9 | H70: 24 | J70: No. Chsn | K70: | | L70: 1 | M70: 2 | N70: 5 | O70: 7 | P70: 9 | Q70: 24 | S70: No. Chsn | T70: | | U70: 1 | V70: 2 | W70: 5 | X70: 7 | Y70: 9 | Z70: 24 | AB70: No. Chsn | AC70: | | AD70: 1 | AE70: 2 | AF70: 5 | AG70: 7 | AH70: 9 | AI70: 24 | AK70: No. Chsn | AL70: | | AM70: 1 | AN70: 2 | AO70: 5 | AP70: 7 | AQ70: 9 | AR70: 24 | AT70: No. Chsn | AU70: | | AV70: 1 | AW70: 2 | AX70: 5 | AY70: 7 | AZ70: 9 | BA70: 24 | BC70: No. Chsn | BD70: | | BE70: 1 | BF70: 2 | BG70: 5 | BH70: 7 | BI70: 9 | BJ70: 24 | BL70: No. Chsn | BM70: | | BN70: 1 | BO70: 2 | BP70: 5 | BQ70: 7 | BR70: 9 | BS70: 24
A71: SD. Chsn | B71: | | C71: 1 | D71: 2 | E71: 3 | F71: 4 | G71: 4 | H71: 6 | J71: SD. Chsn | K71: | | L71: 6 | M71: 6 | N71: 12 | O71: 15 | P71: 13 | Q71: 25 | S71: SD. Chsn | T71: | | U71: 12 | V71: 13 | W71: 23 | X71: 27 | Y71: 24 | Z71: 46 | AB71: SD. Chsn | AC71: | | AD71: 3 | AE71: 4 | AF71: 6 | AG71: 8 | AH71: 7 | AI71: 14 | AK71: SD. Chsn | AL71: | | AM71: 1 | AN71: 2 | AO71: 3 | AP71: 4 | AQ71: 4 | AR71: 7 | AT71: SD. Chsn | AU71: | | AV71: 4 | AW71: 4 | AX71: 7 | AY71: 9 | AZ71: 8 | BA71: 16 | BC71: SD. Chsn | BD71: | | BE71: 8 | BF71: 8 | BG71: 14 | BH71: 18 | BI71: 16 | BJ71: 30 | BL71: SD. Chsn | BM71: | | BN71: 20 | BO71: 23 | BP71: 37 | BQ71: 39 | BR71: 34 | BS71: 70
A72: Car_PEV2 | B72: | | C72: + | D72: + | E72: *+ | F72: **+ | G72: + | H72: **+ | J72: Car_PEV2 | K72: | | L72: ***+ | M72: ***+ | N72: ***+ | O72: ***+ | P72: ***+ | Q72: ***+ | S72: Car_PEV2 | T72: | | U72: ***+ | V72: ***+ | W72: ***+ | X72: ***+ | Y72: ***+ | Z72: ***+ | AB72: Car_PEV2 | AC72: | | AD72: **+ | AE72: ***+ | AF72: ***+ | AG72: ***+ | AH72: ***+ | AI72: ***+ | AK72: Car_PEV2 | AL72: | | AM72: + | AN72: + | AO72: *+ | AP72: **+ | AQ72: *+ | AR72: ***+ | AT72: Car_PEV2 | AU72: | | AV72: ***+ | AW72: ***+ | AX72: ***+ | AY72: ***+ | AZ72: ***+ | BA72: ***+ | BC72: Car_PEV2 | BD72: | | BE72: ***+ | BF72: ***+ | BG72: ***+ | BH72: ***+ | BI72: ***+ | BJ72: ***+ | BL72: Car_PEV2 | BM72: | | BN72: ***+ | BO72: ***+ | BP72: ***+ | BQ72: ***+ | BR72: ***+ | BS72: ***+
A73: No. Pred | B73: | | C73: 2 | D73: 3 | E73: 9 | F73: 16 | G73: 12 | H73: 42 | J73: No. Pred | K73: | | L73: 32 | M73: 42 | N73: 139 | O73: 231 | P73: 182 | Q73: 625 | S73: No. Pred | T73: | | U73: 143 | V73: 178 | W73: 525 | X73: 728 | Y73: 573 | Z73: 2147 | AB73: No. Pred | AC73: | | AD73: 10 | AE73: 13 | AF73: 42 | AG73: 66 | AH73: 52 | AI73: 183 | AK73: No. Pred | AL73: | | AM73: 2 | AN73: 3 | AO73: 10 | AP73: 18 | AQ73: 14 | AR73: 47 | AT73: No. Pred | AU73: | | AV73: 13 | AW73: 16 | AX73: 54 | AY73: 90 | AZ73: 71 | BA73: 244 | BC73: No. Pred | BD73: | | BE73: 57 | BF73: 68 | BG73: 207 | BH73: 318 | BI73: 249 | BJ73: 899 | BL73: No. Pred | BM73: | | BN73: 396 | BO73: 510 | BP73: 1365 | BQ73: 1514 | BR73: 1168 | BS73: 4952
A74: ----------- | B74: + | C74: ------ | D74: ------ | E74: ------ | F74: ------ | G74: ------ | H74: ------- | J74: ----------- | K74: + | L74: ------ | M74: ------ | N74: ------ | O74: ------ | P74: ------ | Q74: ------- | S74: ----------- | T74: + | U74: ------ | V74: ------ | W74: ------ | X74: ------ | Y74: ------ | Z74: ------- | AB74: ----------- | AC74: + | AD74: ------ | AE74: ------ | AF74: ------ | AG74: ------ | AH74: ------ | AI74: ------- | AK74: ----------- | AL74: + | AM74: ------ | AN74: ------ | AO74: ------ | AP74: ------ | AQ74: ------ | AR74: ------- | AT74: ----------- | AU74: + | AV74: ------ | AW74: ------ | AX74: ------ | AY74: ------ | AZ74: ------ | BA74: ------- | BC74: ----------- | BD74: + | BE74: ------ | BF74: ------ | BG74: ------ | BH74: ------ | BI74: ------ | BJ74: ------- | BL74: ----------- | BM74: + | BN74: ------ | BO74: ------ | BP74: ------ | BQ74: ------ | BR74: ------ | BS74: -------
A75: No. Chsn | B75: | | C75: 0 | D75: 1 | E75: 1 | F75: 2 | G75: 0 | H75: 4 | J75: No. Chsn | K75: | | L75: 0 | M75: 1 | N75: 1 | O75: 2 | P75: 0 | Q75: 4 | S75: No. Chsn | T75: | | U75: 0 | V75: 1 | W75: 1 | X75: 2 | Y75: 0 | Z75: 4 | AB75: No. Chsn | AC75: | | AD75: 0 | AE75: 1 | AF75: 1 | AG75: 2 | AH75: 0 | AI75: 4 | AK75: No. Chsn | AL75: | | AM75: 0 | AN75: 1 | AO75: 1 | AP75: 2 | AQ75: 0 | AR75: 4 | AT75: No. Chsn | AU75: | | AV75: 0 | AW75: 1 | AX75: 1 | AY75: 2 | AZ75: 0 | BA75: 4 | BC75: No. Chsn | BD75: | | BE75: 0 | BF75: 1 | BG75: 1 | BH75: 2 | BI75: 0 | BJ75: 4 | BL75: No. Chsn | BM75: | | BN75: 0 | BO75: 1 | BP75: 1 | BQ75: 2 | BR75: 0 | BS75: 4
A76: SD. Chsn | B76: | | C76: 0 | D76: 0 | E76: 0 | F76: 0 | G76: 0 | H76: 0 | J76: SD. Chsn | K76: | | L76: 6 | M76: 7 | N76: 11 | O76: 13 | P76: 12 | Q76: 23 | S76: SD. Chsn | T76: | | U76: 14 | V76: 14 | W76: 22 | X76: 24 | Y76: 21 | Z76: 43 | AB76: SD. Chsn | AC76: | | AD76: 0 | AE76: 0 | AF76: 0 | AG76: 1 | AH76: 1 | AI76: 1 | AK76: SD. Chsn | AL76: | | AM76: 0 | AN76: 0 | AO76: 0 | AP76: 0 | AQ76: 0 | AR76: 0 | AT76: SD. Chsn | AU76: | | AV76: 4 | AW76: 4 | AX76: 7 | AY76: 8 | AZ76: 7 | BA76: 14 | BC76: SD. Chsn | BD76: | | BE76: 8 | BF76: 8 | BG76: 13 | BH76: 15 | BI76: 13 | BJ76: 27 | BL76: SD. Chsn | BM76: | | BN76: 23 | BO76: 24 | BP76: 36 | BQ76: 34 | BR76: 30 | BS76: 67
A77: Car_PEV3 | B77: | | D77: ***- | E77: ***- | F77: ***- | H77: ***- | J77: Car_PEV3 | K77: | | L77: ***+ | M77: ***+ | N77: ***+ | O77: ***+ | P77: ***+ | Q77: ***+ | S77: Car_PEV3 | T77: | | U77: ***+ | V77: ***+ | W77: ***+ | X77: ***+ | Y77: ***+ | Z77: ***+ | AB77: Car_PEV3 | AC77: | | AE77: ***- | AF77: *- | AG77: **- | AH77: + | AI77: **- | AK77: Car_PEV3 | AL77: | | AN77: ***- | AO77: ***- | AP77: ***- | AR77: ***- | AT77: Car_PEV3 | AU77: | | AV77: ***+ | AW77: ***+ | AX77: ***+ | AY77: ***+ | AZ77: ***+ | BA77: ***+ | BC77: Car_PEV3 | BD77: | | BE77: ***+ | BF77: ***+ | BG77: ***+ | BH77: ***+ | BI77: ***+ | BJ77: ***+ | BL77: Car_PEV3 | BM77: | | BN77: ***+ | BO77: ***+ | BP77: ***+ | BQ77: ***+ | BR77: ***+ | BS77: ***+
A78: No. Pred | B78: | | C78: 0 | D78: 0 | E78: 0 | F78: 0 | G78: 0 | H78: 0 | J78: No. Pred | K78: | | L78: 42 | M78: 44 | N78: 126 | O78: 177 | P78: 141 | Q78: 531 | S78: No. Pred | T78: | | U78: 188 | V78: 189 | W78: 480 | X78: 564 | Y78: 446 | Z78: 1867 | AB78: No. Pred | AC78: | | AD78: 0 | AE78: 0 | AF78: 0 | AG78: 0 | AH78: 0 | AI78: 1 | AK78: No. Pred | AL78: | | AM78: 0 | AN78: 0 | AO78: 0 | AP78: 0 | AQ78: 0 | AR78: 0 | AT78: No. Pred | AU78: | | AV78: 17 | AW78: 17 | AX78: 49 | AY78: 69 | AZ78: 55 | BA78: 208 | BC78: No. Pred | BD78: | | BE78: 70 | BF78: 67 | BG78: 176 | BH78: 229 | BI78: 181 | BJ78: 724 | BL78: No. Pred | BM78: | | BN78: 540 | BO78: 557 | BP78: 1279 | BQ78: 1196 | BR78: 930 | BS78: 4503
A79: ----------- | B79: + | C79: ------ | D79: ------ | E79: ------ | F79: ------ | G79: ------ | H79: ------- | J79: ----------- | K79: + | L79: ------ | M79: ------ | N79: ------ | O79: ------ | P79: ------ | Q79: ------- | S79: ----------- | T79: + | U79: ------ | V79: ------ | W79: ------ | X79: ------ | Y79: ------ | Z79: ------- | AB79: ----------- | AC79: + | AD79: ------ | AE79: ------ | AF79: ------ | AG79: ------ | AH79: ------ | AI79: ------- | AK79: ----------- | AL79: + | AM79: ------ | AN79: ------ | AO79: ------ | AP79: ------ | AQ79: ------ | AR79: ------- | AT79: ----------- | AU79: + | AV79: ------ | AW79: ------ | AX79: ------ | AY79: ------ | AZ79: ------ | BA79: ------- | BC79: ----------- | BD79: + | BE79: ------ | BF79: ------ | BG79: ------ | BH79: ------ | BI79: ------ | BJ79: ------- | BL79: ----------- | BM79: + | BN79: ------ | BO79: ------ | BP79: ------ | BQ79: ------ | BR79: ------ | BS79: -------
A80: No. Chsn | B80: | | C80: 0 | D80: 0 | E80: 0 | F80: 0 | G80: 0 | H80: 0 | J80: No. Chsn | K80: | | L80: 0 | M80: 0 | N80: 0 | O80: 0 | P80: 0 | Q80: 0 | S80: No. Chsn | T80: | | U80: 0 | V80: 0 | W80: 0 | X80: 0 | Y80: 0 | Z80: 0 | AB80: No. Chsn | AC80: | | AD80: 0 | AE80: 0 | AF80: 0 | AG80: 0 | AH80: 0 | AI80: 0 | AK80: No. Chsn | AL80: | | AM80: 0 | AN80: 0 | AO80: 0 | AP80: 0 | AQ80: 0 | AR80: 0 | AT80: No. Chsn | AU80: | | AV80: 0 | AW80: 0 | AX80: 0 | AY80: 0 | AZ80: 0 | BA80: 0 | BC80: No. Chsn | BD80: | | BE80: 0 | BF80: 0 | BG80: 0 | BH80: 0 | BI80: 0 | BJ80: 0 | BL80: No. Chsn | BM80: | | BN80: 0 | BO80: 0 | BP80: 0 | BQ80: 0 | BR80: 0 | BS80: 0
A81: SD. Chsn | B81: | | C81: 0 | D81: 0 | E81: 0 | F81: 0 | G81: 0 | H81: 1 | J81: SD. Chsn | K81: | | L81: 7 | M81: 7 | N81: 10 | O81: 11 | P81: 10 | Q81: 20 | S81: SD. Chsn | T81: | | U81: 15 | V81: 14 | W81: 20 | X81: 19 | Y81: 17 | Z81: 39 | AB81: SD. Chsn | AC81: | | AD81: 1 | AE81: 1 | AF81: 1 | AG81: 1 | AH81: 1 | AI81: 2 | AK81: SD. Chsn | AL81: | | AM81: 0 | AN81: 0 | AO81: 0 | AP81: 0 | AQ81: 0 | AR81: 0 | AT81: SD. Chsn | AU81: | | AV81: 5 | AW81: 4 | AX81: 7 | AY81: 7 | AZ81: 6 | BA81: 13 | BC81: SD. Chsn | BD81: | | BE81: 9 | BF81: 8 | BG81: 12 | BH81: 12 | BI81: 11 | BJ81: 24 | BL81: SD. Chsn | BM81: | | BN81: 27 | BO81: 24 | BP81: 33 | BQ81: 29 | BR81: 26 | BS81: 63
A82: Car_PEV4 | B82: | | C82: + | E82: + | F82: + | G82: + | H82: + | J82: Car_PEV4 | K82: | | L82: ***+ | M82: ***+ | N82: ***+ | O82: ***+ | P82: ***+ | Q82: ***+ | S82: Car_PEV4 | T82: | | U82: ***+ | V82: ***+ | W82: ***+ | X82: ***+ | Y82: ***+ | Z82: ***+ | AB82: Car_PEV4 | AC82: | | AD82: + | AE82: + | AF82: *+ | AG82: *+ | AH82: + | AI82: **+ | AK82: Car_PEV4 | AL82: | | AT82: Car_PEV4 | AU82: | | AV82: ***+ | AW82: ***+ | AX82: ***+ | AY82: ***+ | AZ82: ***+ | BA82: ***+ | BC82: Car_PEV4 | BD82: | | BE82: ***+ | BF82: ***+ | BG82: ***+ | BH82: ***+ | BI82: ***+ | BJ82: ***+ | BL82: Car_PEV4 | BM82: | | BN82: ***+ | BO82: ***+ | BP82: ***+ | BQ82: ***+ | BR82: ***+ | BS82: ***+
A83: No. Pred | B83: | | C83: 0 | D83: 0 | E83: 0 | F83: 0 | G83: 0 | H83: 1 | J83: No. Pred | K83: | | L83: 54 | M83: 43 | N83: 102 | O83: 117 | P83: 94 | Q83: 409 | S83: No. Pred | T83: | | U83: 241 | V83: 187 | W83: 393 | X83: 375 | Y83: 299 | Z83: 1493 | AB83: No. Pred | AC83: | | AD83: 1 | AE83: 0 | AF83: 1 | AG83: 1 | AH83: 1 | AI83: 4 | AK83: No. Pred | AL83: | | AM83: 0 | AN83: 0 | AO83: 0 | AP83: 0 | AQ83: 0 | AR83: 0 | AT83: No. Pred | AU83: | | AV83: 23 | AW83: 18 | AX83: 43 | AY83: 50 | AZ83: 40 | BA83: 175 | BC83: No. Pred | BD83: | | BE83: 85 | BF83: 63 | BG83: 139 | BH83: 150 | BI83: 119 | BJ83: 555 | BL83: No. Pred | BM83: | | BN83: 723 | BO83: 582 | BP83: 1124 | BQ83: 866 | BR83: 679 | BS83: 3975
A84: ----------- | B84: + | C84: ------ | D84: ------ | E84: ------ | F84: ------ | G84: ------ | H84: ------- | J84: ----------- | K84: + | L84: ------ | M84: ------ | N84: ------ | O84: ------ | P84: ------ | Q84: ------- | S84: ----------- | T84: + | U84: ------ | V84: ------ | W84: ------ | X84: ------ | Y84: ------ | Z84: ------- | AB84: ----------- | AC84: + | AD84: ------ | AE84: ------ | AF84: ------ | AG84: ------ | AH84: ------ | AI84: ------- | AK84: ----------- | AL84: + | AM84: ------ | AN84: ------ | AO84: ------ | AP84: ------ | AQ84: ------ | AR84: ------- | AT84: ----------- | AU84: + | AV84: ------ | AW84: ------ | AX84: ------ | AY84: ------ | AZ84: ------ | BA84: ------- | BC84: ----------- | BD84: + | BE84: ------ | BF84: ------ | BG84: ------ | BH84: ------ | BI84: ------ | BJ84: ------- | BL84: ----------- | BM84: + | BN84: ------ | BO84: ------ | BP84: ------ | BQ84: ------ | BR84: ------ | BS84: -------
A85: No. Chsn | B85: | | C85: 15 | D85: 15 | E85: 67 | F85: 101 | G85: 213 | H85: 411 | J85: No. Chsn | K85: | | L85: 15 | M85: 15 | N85: 67 | O85: 101 | P85: 213 | Q85: 411 | S85: No. Chsn | T85: | | U85: 15 | V85: 15 | W85: 67 | X85: 101 | Y85: 213 | Z85: 411 | AB85: No. Chsn | AC85: | | AD85: 15 | AE85: 15 | AF85: 67 | AG85: 101 | AH85: 213 | AI85: 411 | AK85: No. Chsn | AL85: | | AM85: 15 | AN85: 15 | AO85: 67 | AP85: 101 | AQ85: 213 | AR85: 411 | AT85: No. Chsn | AU85: | | AV85: 15 | AW85: 15 | AX85: 67 | AY85: 101 | AZ85: 213 | BA85: 411 | BC85: No. Chsn | BD85: | | BE85: 15 | BF85: 15 | BG85: 67 | BH85: 101 | BI85: 213 | BJ85: 411 | BL85: No. Chsn | BM85: | | BN85: 15 | BO85: 15 | BP85: 67 | BQ85: 101 | BR85: 213 | BS85: 411
A86: SD. Chsn | B86: | | C86: 3 | D86: 4 | E86: 8 | F86: 12 | G86: 10 | H86: 18 | J86: SD. Chsn | K86: | | L86: 5 | M86: 7 | N86: 13 | O86: 19 | P86: 17 | Q86: 30 | S86: SD. Chsn | T86: | | U86: 11 | V86: 14 | W86: 26 | X86: 33 | Y86: 29 | Z86: 54 | AB86: SD. Chsn | AC86: | | AD86: 7 | AE86: 9 | AF86: 17 | AG86: 24 | AH86: 21 | AI86: 38 | AK86: SD. Chsn | AL86: | | AM86: 3 | AN86: 4 | AO86: 9 | AP86: 13 | AQ86: 11 | AR86: 20 | AT86: SD. Chsn | AU86: | | AV86: 4 | AW86: 5 | AX86: 9 | AY86: 13 | AZ86: 12 | BA86: 21 | BC86: SD. Chsn | BD86: | | BE86: 8 | BF86: 10 | BG86: 19 | BH86: 25 | BI86: 22 | BJ86: 41 | BL86: SD. Chsn | BM86: | | BN86: 20 | BO86: 26 | BP86: 46 | BQ86: 52 | BR86: 46 | BS86: 89
A87: Car_BEV1 | B87: | | C87: *- | D87: + | E87: - | F87: ***+ | G87: ***- | H87: ***- | J87: Car_BEV1 | K87: | | L87: **+ | M87: ***+ | N87: ***+ | O87: ***+ | P87: ***+ | Q87: ***+ | S87: Car_BEV1 | T87: | | U87: ***+ | V87: ***+ | W87: ***+ | X87: ***+ | Y87: ***+ | Z87: ***+ | AB87: Car_BEV1 | AC87: | | AD87: ***+ | AE87: ***+ | AF87: ***+ | AG87: ***+ | AH87: ***+ | AI87: ***+ | AK87: Car_BEV1 | AL87: | | AM87: - | AN87: *+ | AO87: *+ | AP87: ***+ | AQ87: ***- | AR87: - | AT87: Car_BEV1 | AU87: | | AV87: - | AW87: *+ | AX87: **+ | AY87: ***+ | AZ87: ***- | BA87: *+ | BC87: Car_BEV1 | BD87: | | BE87: ***+ | BF87: ***+ | BG87: ***+ | BH87: ***+ | BI87: ***+ | BJ87: ***+ | BL87: Car_BEV1 | BM87: | | BN87: ***+ | BO87: ***+ | BP87: ***+ | BQ87: ***+ | BR87: ***+ | BS87: ***+
A88: No. Pred | B88: | | C88: 10 | D88: 17 | E88: 66 | F88: 137 | G88: 107 | H88: 336 | J88: No. Pred | K88: | | L88: 28 | M88: 46 | N88: 178 | O88: 352 | P88: 275 | Q88: 878 | S88: No. Pred | T88: | | U88: 121 | V88: 189 | W88: 658 | X88: 1089 | Y88: 851 | Z88: 2908 | AB88: No. Pred | AC88: | | AD88: 50 | AE88: 81 | AF88: 302 | AG88: 561 | AH88: 440 | AI88: 1433 | AK88: No. Pred | AL88: | | AM88: 12 | AN88: 20 | AO88: 78 | AP88: 158 | AQ88: 124 | AR88: 392 | AT88: No. Pred | AU88: | | AV88: 14 | AW88: 22 | AX88: 87 | AY88: 173 | AZ88: 136 | BA88: 432 | BC88: No. Pred | BD88: | | BE88: 65 | BF88: 99 | BG88: 352 | BH88: 639 | BI88: 496 | BJ88: 1650 | BL88: No. Pred | BM88: | | BN88: 408 | BO88: 667 | BP88: 2091 | BQ88: 2763 | BR88: 2114 | BS88: 8044
A89: ----------- | B89: + | C89: ------ | D89: ------ | E89: ------ | F89: ------ | G89: ------ | H89: ------- | J89: ----------- | K89: + | L89: ------ | M89: ------ | N89: ------ | O89: ------ | P89: ------ | Q89: ------- | S89: ----------- | T89: + | U89: ------ | V89: ------ | W89: ------ | X89: ------ | Y89: ------ | Z89: ------- | AB89: ----------- | AC89: + | AD89: ------ | AE89: ------ | AF89: ------ | AG89: ------ | AH89: ------ | AI89: ------- | AK89: ----------- | AL89: + | AM89: ------ | AN89: ------ | AO89: ------ | AP89: ------ | AQ89: ------ | AR89: ------- | AT89: ----------- | AU89: + | AV89: ------ | AW89: ------ | AX89: ------ | AY89: ------ | AZ89: ------ | BA89: ------- | BC89: ----------- | BD89: + | BE89: ------ | BF89: ------ | BG89: ------ | BH89: ------ | BI89: ------ | BJ89: ------- | BL89: ----------- | BM89: + | BN89: ------ | BO89: ------ | BP89: ------ | BQ89: ------ | BR89: ------ | BS89: -------
A90: No. Chsn | B90: | | C90: 2 | D90: 0 | E90: 8 | F90: 3 | G90: 14 | H90: 27 | J90: No. Chsn | K90: | | L90: 2 | M90: 0 | N90: 8 | O90: 3 | P90: 14 | Q90: 27 | S90: No. Chsn | T90: | | U90: 2 | V90: 0 | W90: 8 | X90: 3 | Y90: 14 | Z90: 27 | AB90: No. Chsn | AC90: | | AD90: 2 | AE90: 0 | AF90: 8 | AG90: 3 | AH90: 14 | AI90: 27 | AK90: No. Chsn | AL90: | | AM90: 2 | AN90: 0 | AO90: 8 | AP90: 3 | AQ90: 14 | AR90: 27 | AT90: No. Chsn | AU90: | | AV90: 2 | AW90: 0 | AX90: 8 | AY90: 3 | AZ90: 14 | BA90: 27 | BC90: No. Chsn | BD90: | | BE90: 2 | BF90: 0 | BG90: 8 | BH90: 3 | BI90: 14 | BJ90: 27 | BL90: No. Chsn | BM90: | | BN90: 2 | BO90: 0 | BP90: 8 | BQ90: 3 | BR90: 14 | BS90: 27
A91: SD. Chsn | B91: | | C91: 1 | D91: 2 | E91: 3 | F91: 4 | G91: 4 | H91: 6 | J91: SD. Chsn | K91: | | L91: 6 | M91: 7 | N91: 12 | O91: 15 | P91: 14 | Q91: 25 | S91: SD. Chsn | T91: | | U91: 12 | V91: 13 | W91: 23 | X91: 27 | Y91: 24 | Z91: 46 | AB91: SD. Chsn | AC91: | | AD91: 3 | AE91: 4 | AF91: 6 | AG91: 8 | AH91: 7 | AI91: 14 | AK91: SD. Chsn | AL91: | | AM91: 1 | AN91: 2 | AO91: 3 | AP91: 4 | AQ91: 4 | AR91: 7 | AT91: SD. Chsn | AU91: | | AV91: 4 | AW91: 4 | AX91: 7 | AY91: 9 | AZ91: 8 | BA91: 15 | BC91: SD. Chsn | BD91: | | BE91: 8 | BF91: 8 | BG91: 14 | BH91: 18 | BI91: 16 | BJ91: 30 | BL91: SD. Chsn | BM91: | | BN91: 20 | BO91: 23 | BP91: 37 | BQ91: 39 | BR91: 34 | BS91: 70
A92: Car_BEV2 | B92: | | D92: *+ | E92: + | F92: ***+ | G92: - | H92: **+ | J92: Car_BEV2 | K92: | | L92: ***+ | M92: ***+ | N92: ***+ | O92: ***+ | P92: ***+ | Q92: ***+ | S92: Car_BEV2 | T92: | | U92: ***+ | V92: ***+ | W92: ***+ | X92: ***+ | Y92: ***+ | Z92: ***+ | AB92: Car_BEV2 | AC92: | | AD92: **+ | AE92: ***+ | AF92: ***+ | AG92: ***+ | AH92: ***+ | AI92: ***+ | AK92: Car_BEV2 | AL92: | | AN92: *+ | AO92: + | AP92: ***+ | AQ92: + | AR92: **+ | AT92: Car_BEV2 | AU92: | | AV92: **+ | AW92: ***+ | AX92: ***+ | AY92: ***+ | AZ92: ***+ | BA92: ***+ | BC92: Car_BEV2 | BD92: | | BE92: ***+ | BF92: ***+ | BG92: ***+ | BH92: ***+ | BI92: ***+ | BJ92: ***+ | BL92: Car_BEV2 | BM92: | | BN92: ***+ | BO92: ***+ | BP92: ***+ | BQ92: ***+ | BR92: ***+ | BS92: ***+
A93: No. Pred | B93: | | C93: 2 | D93: 3 | E93: 9 | F93: 16 | G93: 13 | H93: 42 | J93: No. Pred | K93: | | L93: 33 | M93: 42 | N93: 141 | O93: 234 | P93: 184 | Q93: 634 | S93: No. Pred | T93: | | U93: 143 | V93: 178 | W93: 525 | X93: 728 | Y93: 573 | Z93: 2147 | AB93: No. Pred | AC93: | | AD93: 10 | AE93: 13 | AF93: 42 | AG93: 66 | AH93: 52 | AI93: 183 | AK93: No. Pred | AL93: | | AM93: 2 | AN93: 3 | AO93: 10 | AP93: 18 | AQ93: 14 | AR93: 47 | AT93: No. Pred | AU93: | | AV93: 12 | AW93: 16 | AX93: 53 | AY93: 88 | AZ93: 70 | BA93: 239 | BC93: No. Pred | BD93: | | BE93: 57 | BF93: 68 | BG93: 208 | BH93: 318 | BI93: 249 | BJ93: 900 | BL93: No. Pred | BM93: | | BN93: 396 | BO93: 510 | BP93: 1365 | BQ93: 1514 | BR93: 1168 | BS93: 4952
A94: ----------- | B94: + | C94: ------ | D94: ------ | E94: ------ | F94: ------ | G94: ------ | H94: ------- | J94: ----------- | K94: + | L94: ------ | M94: ------ | N94: ------ | O94: ------ | P94: ------ | Q94: ------- | S94: ----------- | T94: + | U94: ------ | V94: ------ | W94: ------ | X94: ------ | Y94: ------ | Z94: ------- | AB94: ----------- | AC94: + | AD94: ------ | AE94: ------ | AF94: ------ | AG94: ------ | AH94: ------ | AI94: ------- | AK94: ----------- | AL94: + | AM94: ------ | AN94: ------ | AO94: ------ | AP94: ------ | AQ94: ------ | AR94: ------- | AT94: ----------- | AU94: + | AV94: ------ | AW94: ------ | AX94: ------ | AY94: ------ | AZ94: ------ | BA94: ------- | BC94: ----------- | BD94: + | BE94: ------ | BF94: ------ | BG94: ------ | BH94: ------ | BI94: ------ | BJ94: ------- | BL94: ----------- | BM94: + | BN94: ------ | BO94: ------ | BP94: ------ | BQ94: ------ | BR94: ------ | BS94: -------
A95: No. Chsn | B95: | | C95: 0 | D95: 1 | E95: 1 | F95: 0 | G95: 0 | H95: 2 | J95: No. Chsn | K95: | | L95: 0 | M95: 1 | N95: 1 | O95: 0 | P95: 0 | Q95: 2 | S95: No. Chsn | T95: | | U95: 0 | V95: 1 | W95: 1 | X95: 0 | Y95: 0 | Z95: 2 | AB95: No. Chsn | AC95: | | AD95: 0 | AE95: 1 | AF95: 1 | AG95: 0 | AH95: 0 | AI95: 2 | AK95: No. Chsn | AL95: | | AM95: 0 | AN95: 1 | AO95: 1 | AP95: 0 | AQ95: 0 | AR95: 2 | AT95: No. Chsn | AU95: | | AV95: 0 | AW95: 1 | AX95: 1 | AY95: 0 | AZ95: 0 | BA95: 2 | BC95: No. Chsn | BD95: | | BE95: 0 | BF95: 1 | BG95: 1 | BH95: 0 | BI95: 0 | BJ95: 2 | BL95: No. Chsn | BM95: | | BN95: 0 | BO95: 1 | BP95: 1 | BQ95: 0 | BR95: 0 | BS95: 2
A96: SD. Chsn | B96: | | C96: 0 | D96: 0 | E96: 0 | F96: 0 | G96: 0 | H96: 0 | J96: SD. Chsn | K96: | | L96: 7 | M96: 7 | N96: 11 | O96: 13 | P96: 12 | Q96: 23 | S96: SD. Chsn | T96: | | U96: 14 | V96: 14 | W96: 22 | X96: 24 | Y96: 21 | Z96: 43 | AB96: SD. Chsn | AC96: | | AD96: 0 | AE96: 0 | AF96: 0 | AG96: 1 | AH96: 1 | AI96: 1 | AK96: SD. Chsn | AL96: | | AM96: 0 | AN96: 0 | AO96: 0 | AP96: 0 | AQ96: 0 | AR96: 0 | AT96: SD. Chsn | AU96: | | AV96: 4 | AW96: 4 | AX96: 7 | AY96: 8 | AZ96: 7 | BA96: 14 | BC96: SD. Chsn | BD96: | | BE96: 8 | BF96: 8 | BG96: 13 | BH96: 15 | BI96: 13 | BJ96: 27 | BL96: SD. Chsn | BM96: | | BN96: 23 | BO96: 24 | BP96: 36 | BQ96: 34 | BR96: 30 | BS96: 67
A97: Car_BEV3 | B97: | | D97: ***- | E97: ***- | H97: ***- | J97: Car_BEV3 | K97: | | L97: ***+ | M97: ***+ | N97: ***+ | O97: ***+ | P97: ***+ | Q97: ***+ | S97: Car_BEV3 | T97: | | U97: ***+ | V97: ***+ | W97: ***+ | X97: ***+ | Y97: ***+ | Z97: ***+ | AB97: Car_BEV3 | AC97: | | AE97: ***- | AF97: *- | AG97: + | AH97: + | AI97: - | AK97: Car_BEV3 | AL97: | | AN97: ***- | AO97: ***- | AR97: ***- | AT97: Car_BEV3 | AU97: | | AV97: ***+ | AW97: ***+ | AX97: ***+ | AY97: ***+ | AZ97: ***+ | BA97: ***+ | BC97: Car_BEV3 | BD97: | | BE97: ***+ | BF97: ***+ | BG97: ***+ | BH97: ***+ | BI97: ***+ | BJ97: ***+ | BL97: Car_BEV3 | BM97: | | BN97: ***+ | BO97: ***+ | BP97: ***+ | BQ97: ***+ | BR97: ***+ | BS97: ***+
A98: No. Pred | B98: | | C98: 0 | D98: 0 | E98: 0 | F98: 0 | G98: 0 | H98: 0 | J98: No. Pred | K98: | | L98: 43 | M98: 45 | N98: 128 | O98: 180 | P98: 143 | Q98: 537 | S98: No. Pred | T98: | | U98: 188 | V98: 189 | W98: 480 | X98: 564 | Y98: 446 | Z98: 1867 | AB98: No. Pred | AC98: | | AD98: 0 | AE98: 0 | AF98: 0 | AG98: 0 | AH98: 0 | AI98: 1 | AK98: No. Pred | AL98: | | AM98: 0 | AN98: 0 | AO98: 0 | AP98: 0 | AQ98: 0 | AR98: 0 | AT98: No. Pred | AU98: | | AV98: 17 | AW98: 17 | AX98: 48 | AY98: 68 | AZ98: 54 | BA98: 203 | BC98: No. Pred | BD98: | | BE98: 71 | BF98: 67 | BG98: 177 | BH98: 229 | BI98: 181 | BJ98: 725 | BL98: No. Pred | BM98: | | BN98: 540 | BO98: 557 | BP98: 1279 | BQ98: 1196 | BR98: 930 | BS98: 4503
A99: ----------- | B99: + | C99: ------ | D99: ------ | E99: ------ | F99: ------ | G99: ------ | H99: ------- | J99: ----------- | K99: + | L99: ------ | M99: ------ | N99: ------ | O99: ------ | P99: ------ | Q99: ------- | S99: ----------- | T99: + | U99: ------ | V99: ------ | W99: ------ | X99: ------ | Y99: ------ | Z99: ------- | AB99: ----------- | AC99: + | AD99: ------ | AE99: ------ | AF99: ------ | AG99: ------ | AH99: ------ | AI99: ------- | AK99: ----------- | AL99: + | AM99: ------ | AN99: ------ | AO99: ------ | AP99: ------ | AQ99: ------ | AR99: ------- | AT99: ----------- | AU99: + | AV99: ------ | AW99: ------ | AX99: ------ | AY99: ------ | AZ99: ------ | BA99: ------- | BC99: ----------- | BD99: + | BE99: ------ | BF99: ------ | BG99: ------ | BH99: ------ | BI99: ------ | BJ99: ------- | BL99: ----------- | BM99: + | BN99: ------ | BO99: ------ | BP99: ------ | BQ99: ------ | BR99: ------ | BS99: -------
A100: No. Chsn | B100: | | C100: 1 | D100: 0 | E100: 0 | F100: 1 | G100: 1 | H100: 3 | J100: No. Chsn | K100: | | L100: 1 | M100: 0 | N100: 0 | O100: 1 | P100: 1 | Q100: 3 | S100: No. Chsn | T100: | | U100: 1 | V100: 0 | W100: 0 | X100: 1 | Y100: 1 | Z100: 3 | AB100: No. Chsn | AC100: | | AD100: 1 | AE100: 0 | AF100: 0 | AG100: 1 | AH100: 1 | AI100: 3 | AK100: No. Chsn | AL100: | | AM100: 1 | AN100: 0 | AO100: 0 | AP100: 1 | AQ100: 1 | AR100: 3 | AT100: No. Chsn | AU100: | | AV100: 1 | AW100: 0 | AX100: 0 | AY100: 1 | AZ100: 1 | BA100: 3 | BC100: No. Chsn | BD100: | | BE100: 1 | BF100: 0 | BG100: 0 | BH100: 1 | BI100: 1 | BJ100: 3 | BL100: No. Chsn | BM100: | | BN100: 1 | BO100: 0 | BP100: 0 | BQ100: 1 | BR100: 1 | BS100: 3
...

Sheet Coefficients
D1: Base Model 1 | J1: Run 704 | P1: Model 1B | S1: Model 1C | V1: Model 1D | Y1: Base Model 2 | AE1: Base Model 2D
D2: Body Type (5) X Fuel Type (5) X Age (3) | J2: First effort to restrict availability | P2: Zero out fuel type X age constants | S2: Hybrids as appealing as gas, and Evs as appealing as hybrids AND zero out fuel type X age constants | V2: Hybrids as appealing as gas, and Evs as appealing as hybrids | Y2: Restrict availability when zero models made | AE2: Restrict availability when zero models made
B3: Num Obs. | D3: 245154 | J3: 245154 | Y3: 245154 | AE3: 245154
B4: Rho-Squared wrt 0 | D4: 0.31255148 | J4: 0.29916011 | Y4: 0.2993017 | AE4: 0.2993017
B5: Rho-Squared wrt Constants | D5: 0.021992832 | J5: 0.0029414311 | Y5: 0.0031428683 | AE5: 0.0031428683
A6: Variable | B6: Alts | C6: key | D6: Coef. | E6: S.E. | F6: T-Stat | J6: Coef. | K6: S.E. | L6: T-Stat | P6: Coef. | Q6: S.E. | R6: T-Stat | S6: Coef. | T6: S.E. | U6: T-Stat | V6: Coef. | W6: S.E. | X6: T-Stat | Y6: Coef. | Z6: S.E. | AA6: T-Stat | AE6: Coef. | AF6: S.E. | AG6: T-Stat
A7: Zero Models Available | C7: unavail | J7: -99 | K7: 1 | L7: -99 | Y7: -99 | Z7: 1 | AA7: -99 | AE7: -99 | AF7: 1 | AG7: -99
A8: Number of Models Available | C8: nmods | J8: 0.011653138 | K8: 0.00021337279 | L8: 54.613981 | Y8: 0.011457278 | Z8: 0.00021608454 | AA8: 53.022201 | AE8: 0.011457278 | AF8: 0.00021608454 | AG8: 53.022201
A9: Income $0-24k | B9: Car (reference)
B10: Van | C10: i025_van | D10: 0.17908279 | E10: 0.031431495 | F10: 5.6975588 | J10: 0.16158117 | K10: 0.031482902 | L10: 5.1323467 | P10: 0.17908279 | Q10: 0.031431495 | R10: 5.6975588 | S10: 0.17908279 | T10: 0.031431495 | U10: 5.6975588 | V10: 0.17908279 | W10: 0.031431495 | X10: 5.6975588 | Y10: 0.16599045 | Z10: 0.031461666 | AA10: 5.2759588 | AE10: 0.16599045 | AF10: 0.031461666 | AG10: 5.2759588
B11: SUV | C11: i025_suv | D11: -0.26476089 | E11: 0.019472647 | F11: -13.596554 | J11: -0.2736367 | K11: 0.019426719 | L11: -14.085585 | P11: -0.26476089 | Q11: 0.019472647 | R11: -13.596554 | S11: -0.26476089 | T11: 0.019472647 | U11: -13.596554 | V11: -0.26476089 | W11: 0.019472647 | X11: -13.596554 | Y11: -0.2712665 | Z11: 0.019440004 | AA11: -13.954035 | AE11: -0.2712665 | AF11: 0.019440004 | AG11: -13.954035
B12: Pickup | C12: i025_pu | D12: -0.14590359 | E12: 0.020047839 | F12: -7.2777714 | J12: -0.15445313 | K12: 0.020082804 | L12: -7.6908147 | P12: -0.14590359 | Q12: 0.020047839 | R12: -7.2777714 | S12: -0.14590359 | T12: 0.020047839 | U12: -7.2777714 | V12: -0.14590359 | W12: 0.020047839 | X12: -7.2777714 | Y12: -0.15956669 | Z12: 0.020122147 | AA12: -7.9299037 | AE12: -0.15956669 | AF12: 0.020122147 | AG12: -7.9299037
B13: Motorcylce | C13: i025_mc | D13: -0.23518913 | E13: 0.05068103 | F13: -4.6405751 | J13: -0.24069775 | K13: 0.050631831 | L13: -4.7538819 | P13: -0.23518913 | Q13: 0.05068103 | R13: -4.6405751 | S13: -0.23518913 | T13: 0.05068103 | U13: -4.6405751 | V13: -0.23518913 | W13: 0.05068103 | X13: -4.6405751 | Y13: -0.25302805 | Z13: 0.050759625 | AA13: -4.984829 | AE13: -0.25302805 | AF13: 0.050759625 | AG13: -4.984829
B14: Gas (reference)
B15: Hybrid | C15: i025_hyb | D15: -0.99400281 | E15: 0.080018229 | F15: -12.422205 | J15: -0.98501939 | K15: 0.080018986 | L15: -12.309821 | P15: -0.99400281 | Q15: 0.080018229 | R15: -12.422205 | S15: -0.99400281 | T15: 0.080018229 | U15: -12.422205 | V15: -0.99400281 | W15: 0.080018229 | X15: -12.422205 | Y15: -0.98447518 | Z15: 0.080017951 | AA15: -12.303179 | AE15: -0.98447518 | AF15: 0.080017951 | AG15: -12.303179
B16: Electric | C16: i025_ev | D16: -0.26251574 | E16: 0.20893835 | F16: -1.2564268 | J16: -0.2415452 | K16: 0.20926036 | L16: -1.1542807 | P16: -0.26251574 | Q16: 0.20893835 | R16: -1.2564268 | S16: -0.26251574 | T16: 0.20893835 | U16: -1.2564268 | V16: -0.26251574 | W16: 0.20893835 | X16: -1.2564268 | Y16: -0.23994441 | Z16: 0.20926377 | AA16: -1.1466123 | AE16: -0.23994441 | AF16: 0.20926377 | AG16: -1.1466123
B17: Age (per year) | C17: i025_age | D17: 0.099005323 | E17: 0.0013107623 | F17: 75.53263 | J17: 0.099292911 | K17: 0.0013138036 | L17: 75.57668 | P17: 0.099005323 | Q17: 0.0013107623 | R17: 75.53263 | S17: 0.099005323 | T17: 0.0013107623 | U17: 75.53263 | V17: 0.099005323 | W17: 0.0013107623 | X17: 75.53263 | Y17: 0.099527047 | Z17: 0.001319834 | AA17: 75.408763 | AE17: 0.099527047 | AF17: 0.001319834 | AG17: 75.408763
A18: Income $25-49k | B18: Car
B19: Van | C19: i2550_van | D19: 0.08662185 | E19: 0.026906429 | F19: 3.2193736 | J19: 0.083425238 | K19: 0.026925307 | L19: 3.0983951 | P19: 0.08662185 | Q19: 0.026906429 | R19: 3.2193736 | S19: 0.08662185 | T19: 0.026906429 | U19: 3.2193736 | V19: 0.08662185 | W19: 0.026906429 | X19: 3.2193736 | Y19: 0.08399325 | Z19: 0.026918411 | AA19: 3.12029 | AE19: 0.08399325 | AF19: 0.026918411 | AG19: 3.12029
B20: SUV | C20: i2550_suv | D20: -0.12389108 | E20: 0.015303204 | F20: -8.095761 | J20: -0.12560974 | K20: 0.015291213 | L20: -8.2145042 | P20: -0.12389108 | Q20: 0.015303204 | R20: -8.095761 | S20: -0.12389108 | T20: 0.015303204 | U20: -8.095761 | V20: -0.12389108 | W20: 0.015303204 | X20: -8.095761 | Y20: -0.12534147 | Z20: 0.015292796 | AA20: -8.1961121 | AE20: -0.12534147 | AF20: 0.015292796 | AG20: -8.1961121
B21: Pickup | C21: i2550_pu | D21: -0.0064023176 | E21: 0.016084597 | F21: -0.39804029 | J21: -0.0083373309 | K21: 0.016100441 | L21: -0.51783246 | P21: -0.0064023176 | Q21: 0.016084597 | R21: -0.39804029 | S21: -0.0064023176 | T21: 0.016084597 | U21: -0.39804029 | V21: -0.0064023176 | W21: 0.016084597 | X21: -0.39804029 | Y21: -0.00901527 | Z21: 0.016107731 | AA21: -0.55968589 | AE21: -0.00901527 | AF21: 0.016107731 | AG21: -0.55968589
B22: Motorcylce | C22: i2550_mc | D22: -0.022997031 | E22: 0.036754796 | F22: -0.6256879 | J22: -0.024579395 | K22: 0.036753935 | L22: -0.66875546 | P22: -0.022997031 | Q22: 0.036754796 | R22: -0.6256879 | S22: -0.022997031 | T22: 0.036754796 | U22: -0.6256879 | V22: -0.022997031 | W22: 0.036754796 | X22: -0.6256879 | Y22: -0.026680057 | Z22: 0.036782746 | AA22: -0.72534163 | AE22: -0.026680057 | AF22: 0.036782746 | AG22: -0.72534163
B23: Gas/Diesel
B24: Hybrid | C24: i2550_hyb | D24: -0.52118852 | E24: 0.051457071 | F24: -10.128608 | J24: -0.51944003 | K24: 0.05146402 | L24: -10.093266 | P24: -0.52118852 | Q24: 0.051457071 | R24: -10.128608 | S24: -0.52118852 | T24: 0.051457071 | U24: -10.128608 | V24: -0.52118852 | W24: 0.051457071 | X24: -10.128608 | Y24: -0.51957413 | Z24: 0.051462536 | AA24: -10.096163 | AE24: -0.51957413 | AF24: 0.051462536 | AG24: -10.096163
B25: Electric | C25: i2550_ev | D25: -0.6044045 | E25: 0.16457879 | F25: -3.6724326 | J25: -0.60015476 | K25: 0.16455889 | L25: -3.6470516 | P25: -0.6044045 | Q25: 0.16457879 | R25: -3.6724326 | S25: -0.6044045 | T25: 0.16457879 | U25: -3.6724326 | V25: -0.6044045 | W25: 0.16457879 | X25: -3.6724326 | Y25: -0.60040613 | Z25: 0.16455986 | AA25: -3.6485575 | AE25: -0.60040613 | AF25: 0.16455986 | AG25: -3.6485575
B26: Age (per year) | C26: i2550_age | D26: 0.041365178 | E26: 0.0010345573 | F26: 39.983456 | J26: 0.041357623 | K26: 0.0010350797 | L26: 39.955978 | P26: 0.041365178 | Q26: 0.0010345573 | R26: 39.983456 | S26: 0.041365178 | T26: 0.0010345573 | U26: 39.983456 | V26: 0.041365178 | W26: 0.0010345573 | X26: 39.983456 | Y26: 0.041321746 | Z26: 0.0010349912 | AA26: 39.924732 | AE26: 0.041321746 | AF26: 0.0010349912 | AG26: 39.924732
A27: Income $50-99k (reference)
A28: Income $100k+ | B28: Car
B29: Van | C29: i100p_van | D29: -0.13226722 | E29: 0.024119054 | F29: -5.4839306 | J29: -0.1356888 | K29: 0.024132206 | L29: -5.6227268 | P29: -0.13226722 | Q29: 0.024119054 | R29: -5.4839306 | S29: -0.13226722 | T29: 0.024119054 | U29: -5.4839306 | V29: -0.13226722 | W29: 0.024119054 | X29: -5.4839306 | Y29: -0.13430597 | Z29: 0.024128478 | AA29: -5.5662846 | AE29: -0.13430597 | AF29: 0.024128478 | AG29: -5.5662846
B30: SUV | C30: i100p_suv | D30: 0.11386936 | E30: 0.012500265 | F30: 9.1093561 | J30: 0.11226263 | K30: 0.012509977 | L30: 8.9738478 | P30: 0.11386936 | Q30: 0.012500265 | R30: 9.1093561 | S30: 0.11386936 | T30: 0.012500265 | U30: 9.1093561 | V30: 0.11386936 | W30: 0.012500265 | X30: 9.1093561 | Y30: 0.11254342 | Z30: 0.012506952 | AA30: 8.9984688 | AE30: 0.11254342 | AF30: 0.012506952 | AG30: 8.9984688
B31: Pickup | C31: i100p_pu | D31: -0.1838755 | E31: 0.014480102 | F31: -12.698495 | J31: -0.18544674 | K31: 0.014469656 | L31: -12.816251 | P31: -0.1838755 | Q31: 0.014480102 | R31: -12.698495 | S31: -0.1838755 | T31: 0.014480102 | U31: -12.698495 | V31: -0.1838755 | W31: 0.014480102 | X31: -12.698495 | Y31: -0.18658271 | Z31: 0.014462255 | AA31: -12.901357 | AE31: -0.18658271 | AF31: 0.014462255 | AG31: -12.901357
B32: Motorcylce | C32: i100p_mc | D32: -0.13341012 | E32: 0.030525275 | F32: -4.3704804 | J32: -0.13421849 | K32: 0.030524757 | L32: -4.3970371 | P32: -0.13341012 | Q32: 0.030525275 | R32: -4.3704804 | S32: -0.13341012 | T32: 0.030525275 | U32: -4.3704804 | V32: -0.13341012 | W32: 0.030525275 | X32: -4.3704804 | Y32: -0.13627322 | Z32: 0.030541651 | AA32: -4.4618813 | AE32: -0.13627322 | AF32: 0.030541651 | AG32: -4.4618813
B33: Gas/Diesel
B34: Hybrid | C34: i100p_hyb | D34: 0.41130421 | E34: 0.033924247 | F34: 12.124196 | J34: 0.41009863 | K34: 0.033921669 | L34: 12.089577 | P34: 0.41130421 | Q34: 0.033924247 | R34: 12.124196 | S34: 0.41130421 | T34: 0.033924247 | U34: 12.124196 | V34: 0.41130421 | W34: 0.033924247 | X34: 12.124196 | Y34: 0.40999088 | Z34: 0.033921777 | AA34: 12.086362 | AE34: 0.40999088 | AF34: 0.033921777 | AG34: 12.086362
B35: Electric | C35: i100p_ev | D35: 1.0094504 | E35: 0.085381349 | F35: 11.822845 | J35: 1.0077862 | K35: 0.085336047 | L35: 11.809619 | P35: 1.0094504 | Q35: 0.085381349 | R35: 11.822845 | S35: 1.0094504 | T35: 0.085381349 | U35: 11.822845 | V35: 1.0094504 | W35: 0.085381349 | X35: 11.822845 | Y35: 1.0077776 | Z35: 0.085335933 | AA35: 11.809534 | AE35: 1.0077776 | AF35: 0.085335933 | AG35: 11.809534
B36: Age (per year) | C36: i100p_age | D36: -0.040243534 | E36: 0.000928087 | F36: -43.361812 | J36: -0.040184464 | K36: 0.00092664043 | L36: -43.365757 | P36: -0.040243534 | Q36: 0.000928087 | R36: -43.361812 | S36: -0.040243534 | T36: 0.000928087 | U36: -43.361812 | V36: -0.040243534 | W36: 0.000928087 | X36: -43.361812 | Y36: -0.040169863 | Z36: 0.00092525898 | AA36: -43.414724 | AE36: -0.040169863 | AF36: 0.00092525898 | AG36: -43.414724
A37: Income is Missing | B37: Car
B38: Van | C38: imiss_van | D38: 0.16167264 | E38: 0.054710909 | F38: 2.9550348 | J38: 0.1611966 | K38: 0.054718234 | L38: 2.9459394 | P38: 0.16167264 | Q38: 0.054710909 | R38: 2.9550348 | S38: 0.16167264 | T38: 0.054710909 | U38: 2.9550348 | V38: 0.16167264 | W38: 0.054710909 | X38: 2.9550348 | Y38: 0.16128791 | Z38: 0.054720303 | AA38: 2.9474967 | AE38: 0.16128791 | AF38: 0.054720303 | AG38: 2.9474967
B39: SUV | C39: imiss_suv | D39: -0.0089490453 | E39: 0.030071332 | F39: -0.29759391 | J39: -0.009186401 | K39: 0.030073647 | L39: -0.30546349 | P39: -0.0089490453 | Q39: 0.030071332 | R39: -0.29759391 | S39: -0.0089490453 | T39: 0.030071332 | U39: -0.29759391 | V39: -0.0089490453 | W39: 0.030071332 | X39: -0.29759391 | Y39: -0.0091545561 | Z39: 0.030073279 | AA39: -0.30440832 | AE39: -0.0091545561 | AF39: 0.030073279 | AG39: -0.30440832
B40: Pickup | C40: imiss_pu | D40: -0.07072213 | E40: 0.033432133 | F40: -2.1153939 | J40: -0.070975645 | K40: 0.033437485 | L40: -2.1226371 | P40: -0.07072213 | Q40: 0.033432133 | R40: -2.1153939 | S40: -0.07072213 | T40: 0.033432133 | U40: -2.1153939 | V40: -0.07072213 | W40: 0.033432133 | X40: -2.1153939 | Y40: -0.071018129 | Z40: 0.033433011 | AA40: -2.1241919 | AE40: -0.071018129 | AF40: 0.033433011 | AG40: -2.1241919
B41: Motorcylce | C41: imiss_mc | D41: -0.52876475 | E41: 0.089865305 | F41: -5.8839699 | J41: -0.52899197 | K41: 0.08986761 | L41: -5.8863474 | P41: -0.52876475 | Q41: 0.089865305 | R41: -5.8839699 | S41: -0.52876475 | T41: 0.089865305 | U41: -5.8839699 | V41: -0.52876475 | W41: 0.089865305 | X41: -5.8839699 | Y41: -0.52903946 | Z41: 0.089867882 | AA41: -5.886858 | AE41: -0.52903946 | AF41: 0.089867882 | AG41: -5.886858
B42: Gas/Diesel
B43: Hybrid | C43: imiss_hyb | D43: -0.079807406 | E43: 0.089208422 | F43: -0.89461738 | J43: -0.079400022 | K43: 0.089231706 | L43: -0.88981849 | P43: -0.079807406 | Q43: 0.089208422 | R43: -0.89461738 | S43: -0.079807406 | T43: 0.089208422 | U43: -0.89461738 | V43: -0.079807406 | W43: 0.089208422 | X43: -0.89461738 | Y43: -0.07943773 | Z43: 0.08923294 | AA43: -0.89022876 | AE43: -0.07943773 | AF43: 0.08923294 | AG43: -0.89022876
B44: Electric | C44: imiss_ev | D44: -0.0024648386 | E44: 0.25512557 | F44: -0.0096612762 | J44: -0.0012787763 | K44: 0.25515422 | L44: -0.0050117777 | P44: -0.0024648386 | Q44: 0.25512557 | R44: -0.0096612762 | S44: -0.0024648386 | T44: 0.25512557 | U44: -0.0096612762 | V44: -0.0024648386 | W44: 0.25512557 | X44: -0.0096612762 | Y44: -0.0013662202 | Z44: 0.25515854 | AA44: -0.0053543972 | AE44: -0.0013662202 | AF44: 0.25515854 | AG44: -0.0053543972
B45: Age (per year) | C45: imiss_age | D45: 0.0042580141 | E45: 0.002214438 | F45: 1.9228418 | J45: 0.004256182 | K45: 0.0022145403 | L45: 1.9219257 | P45: 0.0042580141 | Q45: 0.002214438 | R45: 1.9228418 | S45: 0.0042580141 | T45: 0.002214438 | U45: 1.9228418 | V45: 0.0042580141 | W45: 0.002214438 | X45: 1.9228418 | Y45: 0.0042422533 | Z45: 0.0022147822 | AA45: 1.9154268 | AE45: 0.0042422533 | AF45: 0.0022147822 | AG45: 1.9154268
A46: HH in Rural Area | B46: Car
B47: Van | C47: rural_van | D47: 0.26919628 | E47: 0.022162404 | F47: 12.146529 | J47: 0.26926432 | K47: 0.022170706 | L47: 12.14505 | P47: 0.26919628 | Q47: 0.022162404 | R47: 12.146529 | S47: 0.26919628 | T47: 0.022162404 | U47: 12.146529 | V47: 0.26919628 | W47: 0.022162404 | X47: 12.146529 | Y47: 0.26918221 | Z47: 0.022169458 | AA47: 12.142029 | AE47: 0.26918221 | AF47: 0.022169458 | AG47: 12.142029
B48: SUV | C48: rural_suv | D48: 0.28092014 | E48: 0.01222025 | F48: 22.988084 | J48: 0.28102689 | K48: 0.012215661 | L48: 23.005459 | P48: 0.28092014 | Q48: 0.01222025 | R48: 22.988084 | S48: 0.28092014 | T48: 0.01222025 | U48: 22.988084 | V48: 0.28092014 | W48: 0.01222025 | X48: 22.988084 | Y48: 0.28096916 | Z48: 0.012216004 | AA48: 23.000087 | AE48: 0.28096916 | AF48: 0.012216004 | AG48: 23.000087
B49: Pickup | C49: rural_pu | D49: 0.82178863 | E49: 0.012477283 | F49: 65.862787 | J49: 0.82203249 | K49: 0.012483153 | L49: 65.851348 | P49: 0.82178863 | Q49: 0.012477283 | R49: 65.862787 | S49: 0.82178863 | T49: 0.012477283 | U49: 65.862787 | V49: 0.82178863 | W49: 0.012477283 | X49: 65.862787 | Y49: 0.82216493 | Z49: 0.012484281 | AA49: 65.85601 | AE49: 0.82216493 | AF49: 0.012484281 | AG49: 65.85601
B50: Motorcylce | C50: rural_mc | D50: 0.003786889 | E50: 0.028170744 | F50: 0.1344263 | J50: 0.0040111507 | K50: 0.028171486 | L50: 0.14238336 | P50: 0.003786889 | Q50: 0.028170744 | R50: 0.1344263 | S50: 0.003786889 | T50: 0.028170744 | U50: 0.1344263 | V50: 0.003786889 | W50: 0.028170744 | X50: 0.1344263 | Y50: 0.0041037269 | Z50: 0.028171443 | AA50: 0.14566975 | AE50: 0.0041037269 | AF50: 0.028171443 | AG50: 0.14566975
B51: Gas/Diesel
B52: Hybrid | C52: rural_hyb | D52: -0.15189419 | E52: 0.039099425 | F52: -3.884819 | J52: -0.1494818 | K52: 0.039102003 | L52: -3.822868 | P52: -0.15189419 | Q52: 0.039099425 | R52: -3.884819 | S52: -0.15189419 | T52: 0.039099425 | U52: -3.884819 | V52: -0.15189419 | W52: 0.039099425 | X52: -3.884819 | Y52: -0.14953358 | Z52: 0.039102596 | AA52: -3.8241343 | AE52: -0.14953358 | AF52: 0.039102596 | AG52: -3.8241343
B53: Electric | C53: rural_ev | D53: -0.67442948 | E53: 0.10555365 | F53: -6.3894472 | J53: -0.67238599 | K53: 0.10549904 | L53: -6.3733851 | P53: -0.67442948 | Q53: 0.10555365 | R53: -6.3894472 | S53: -0.67442948 | T53: 0.10555365 | U53: -6.3894472 | V53: -0.67442948 | W53: 0.10555365 | X53: -6.3894472 | Y53: -0.67253178 | Z53: 0.10550212 | AA53: -6.3745806 | AE53: -0.67253178 | AF53: 0.10550212 | AG53: -6.3745806
B54: Age (per year) | C54: rural_age | D54: -0.0043300612 | E54: 0.00085655158 | F54: -5.0552253 | J54: -0.0043844466 | K54: 0.00085244827 | L54: -5.1433579 | P54: -0.0043300612 | Q54: 0.00085655158 | R54: -5.0552253 | S54: -0.0043300612 | T54: 0.00085655158 | U54: -5.0552253 | V54: -0.0043300612 | W54: 0.00085655158 | X54: -5.0552253 | Y54: -0.0044071923 | Z54: 0.0008511056 | AA54: -5.1781968 | AE54: -0.0044071923 | AF54: 0.0008511056 | AG54: -5.1781968
A55: HH owns only 1 vehicle | B55: Car
B56: Van | C56: oneveh_van | D56: -0.36195355 | E56: 0.029463446 | F56: -12.284834 | J56: -0.35661275 | K56: 0.029438922 | L56: -12.113648 | P56: -0.36195355 | Q56: 0.029463446 | R56: -12.284834 | S56: -0.36195355 | T56: 0.029463446 | U56: -12.284834 | V56: -0.36195355 | W56: 0.029463446 | X56: -12.284834 | Y56: -0.35816548 | Z56: 0.029446333 | AA56: -12.16333 | AE56: -0.35816548 | AF56: 0.029446333 | AG56: -12.16333
B57: SUV | C57: oneveh_suv | D57: -0.1509763 | E57: 0.015297834 | F57: -9.8691292 | J57: -0.14920525 | K57: 0.015303706 | L57: -9.7496157 | P57: -0.1509763 | Q57: 0.015297834 | R57: -9.8691292 | S57: -0.1509763 | T57: 0.015297834 | U57: -9.8691292 | V57: -0.1509763 | W57: 0.015297834 | X57: -9.8691292 | Y57: -0.14976453 | Z57: 0.015304077 | AA57: -9.7859239 | AE57: -0.14976453 | AF57: 0.015304077 | AG57: -9.7859239
B58: Pickup | C58: oneveh_pu | D58: -0.98322332 | E58: 0.021348145 | F58: -46.056615 | J58: -0.980769 | K58: 0.021339631 | L58: -45.959979 | P58: -0.98322332 | Q58: 0.021348145 | R58: -46.056615 | S58: -0.98322332 | T58: 0.021348145 | U58: -46.056615 | V58: -0.98322332 | W58: 0.021348145 | X58: -46.056615 | Y58: -0.97910881 | Z58: 0.021330449 | AA58: -45.901931 | AE58: -0.97910881 | AF58: 0.021330449 | AG58: -45.901931
B59: Motorcylce | C59: oneveh_mc | D59: -1.4185664 | E59: 0.14468535 | F59: -9.8044928 | J59: -1.4167887 | K59: 0.14468087 | L59: -9.7925087 | P59: -1.4185664 | Q59: 0.14468535 | R59: -9.8044928 | S59: -1.4185664 | T59: 0.14468535 | U59: -9.8044928 | V59: -1.4185664 | W59: 0.14468535 | X59: -9.8044928 | Y59: -1.4124475 | Z59: 0.14468088 | AA59: -9.7625028 | AE59: -1.4124475 | AF59: 0.14468088 | AG59: -9.7625028
B60: Gas/Diesel
B61: Hybrid | C61: oneveh_hyb | D61: 0.1056272 | E61: 0.043049772 | F61: 2.4536065 | J61: 0.10290625 | K61: 0.04308171 | L61: 2.3886296 | P61: 0.1056272 | Q61: 0.043049772 | R61: 2.4536065 | S61: 0.1056272 | T61: 0.043049772 | U61: 2.4536065 | V61: 0.1056272 | W61: 0.043049772 | X61: 2.4536065 | Y61: 0.1026856 | Z61: 0.043080745 | AA61: 2.3835613 | AE61: 0.1026856 | AF61: 0.043080745 | AG61: 2.3835613
B62: Electric | C62: oneveh_ev | D62: -0.21658395 | E62: 0.12249157 | F62: -1.768154 | J62: -0.22066137 | K62: 0.12272655 | L62: -1.7979922 | P62: -0.21658395 | Q62: 0.12249157 | R62: -1.768154 | S62: -0.21658395 | T62: 0.12249157 | U62: -1.768154 | V62: -0.21658395 | W62: 0.12249157 | X62: -1.768154 | Y62: -0.22109107 | Z62: 0.1227242 | AA62: -1.8015279 | AE62: -0.22109107 | AF62: 0.1227242 | AG62: -1.8015279
B63: Age (per year) | C63: oneveh_age | D63: -0.023359073 | E63: 0.0011174745 | F63: -20.903451 | J63: -0.023550033 | K63: 0.0011248659 | L63: -20.935858 | P63: -0.023359073 | Q63: 0.0011174745 | R63: -20.903451 | S63: -0.023359073 | T63: 0.0011174745 | U63: -20.903451 | V63: -0.023359073 | W63: 0.0011174745 | X63: -20.903451 | Y63: -0.023596172 | Z63: 0.0011292975 | AA63: -20.894558 | AE63: -0.023596172 | AF63: 0.0011292975 | AG63: -20.894558
A64: HH veh < perspons 16+ | B64: Car
B65: Van | C65: vhltdr_van | D65: 0.060089681 | E65: 0.038330854 | F65: 1.5676583 | J65: 0.06187548 | K65: 0.038345751 | L65: 1.6136202 | P65: 0.060089681 | Q65: 0.038330854 | R65: 1.5676583 | S65: 0.060089681 | T65: 0.038330854 | U65: 1.5676583 | V65: 0.060089681 | W65: 0.038330854 | X65: 1.5676583 | Y65: 0.061234227 | Z65: 0.038344337 | AA65: 1.5969562 | AE65: 0.061234227 | AF65: 0.038344337 | AG65: 1.5969562
B66: SUV | C66: vhltdr_suv | D66: -0.18586391 | E66: 0.024487353 | F66: -7.5902001 | J66: -0.18513079 | K66: 0.024490471 | L66: -7.5592987 | P66: -0.18586391 | Q66: 0.024487353 | R66: -7.5902001 | S66: -0.18586391 | T66: 0.024487353 | U66: -7.5902001 | V66: -0.18586391 | W66: 0.024487353 | X66: -7.5902001 | Y66: -0.1852032 | Z66: 0.024491703 | AA66: -7.5618754 | AE66: -0.1852032 | AF66: 0.024491703 | AG66: -7.5618754
B67: Pickup | C67: vhltdr_pu | D67: -0.35527674 | E67: 0.029829837 | F67: -11.910113 | J67: -0.35409761 | K67: 0.029828657 | L67: -11.871054 | P67: -0.35527674 | Q67: 0.029829837 | R67: -11.910113 | S67: -0.35527674 | T67: 0.029829837 | U67: -11.910113 | V67: -0.35527674 | W67: 0.029829837 | X67: -11.910113 | Y67: -0.35333271 | Z67: 0.029825275 | AA67: -11.846755 | AE67: -0.35333271 | AF67: 0.029825275 | AG67: -11.846755
B68: Motorcylce | C68: vhltdr_mc | D68: 0.11081949 | E68: 0.1371674 | F68: 0.80791419 | J68: 0.11220777 | K68: 0.1371686 | L68: 0.81802808 | P68: 0.11081949 | Q68: 0.1371674 | R68: 0.80791419 | S68: 0.11081949 | T68: 0.1371674 | U68: 0.80791419 | V68: 0.11081949 | W68: 0.1371674 | X68: 0.80791419 | Y68: 0.11555555 | Z68: 0.13717102 | AA68: 0.84241957 | AE68: 0.11555555 | AF68: 0.13717102 | AG68: 0.84241957
B69: Gas/Diesel
B70: Hybrid | C70: vhltdr_hyb | D70: -0.12327429 | E70: 0.070383019 | F70: -1.7514778 | J70: -0.12370585 | K70: 0.07038862 | L70: -1.7574694 | P70: -0.12327429 | Q70: 0.070383019 | R70: -1.7514778 | S70: -0.12327429 | T70: 0.070383019 | U70: -1.7514778 | V70: -0.12327429 | W70: 0.070383019 | X70: -1.7514778 | Y70: -0.12345664 | Z70: 0.070392242 | AA70: -1.7538387 | AE70: -0.12345664 | AF70: 0.070392242 | AG70: -1.7538387
B71: Electric | C71: vhltdr_ev | D71: -0.2773296 | E71: 0.17310521 | F71: -1.6020869 | J71: -0.27768976 | K71: 0.1731102 | L71: -1.6041213 | P71: -0.2773296 | Q71: 0.17310521 | R71: -1.6020869 | S71: -0.2773296 | T71: 0.17310521 | U71: -1.6020869 | V71: -0.2773296 | W71: 0.17310521 | X71: -1.6020869 | Y71: -0.27731542 | Z71: 0.17311696 | AA71: -1.6018963 | AE71: -0.27731542 | AF71: 0.17311696 | AG71: -1.6018963
B72: Age (per year) | C72: vhltdr_age | D72: 0.019917239 | E72: 0.0017528128 | F72: 11.363016 | J72: 0.019812079 | K72: 0.0017516872 | L72: 11.310284 | P72: 0.019917239 | Q72: 0.0017528128 | R72: 11.363016 | S72: 0.019917239 | T72: 0.0017528128 | U72: 11.363016 | V72: 0.019917239 | W72: 0.0017528128 | X72: 11.363016 | Y72: 0.019876605 | Z72: 0.00175966 | AA72: 11.295708 | AE72: 0.019876605 | AF72: 0.00175966 | AG72: 11.295708
A73: HH veh == persons 16+ (reference)
A74: HH veh > perspons 16+ | B74: Car
B75: Van | C75: vhgtdr_van | D75: -0.045294943 | E75: 0.022194502 | F75: -2.0408181 | J75: -0.047063737 | K75: 0.022269202 | L75: -2.1134002 | P75: -0.045294943 | Q75: 0.022194502 | R75: -2.0408181 | S75: -0.045294943 | T75: 0.022194502 | U75: -2.0408181 | V75: -0.045294943 | W75: 0.022194502 | X75: -2.0408181 | Y75: -0.046697585 | Z75: 0.022237944 | AA75: -2.0999056 | AE75: -0.046697585 | AF75: 0.022237944 | AG75: -2.0999056
B76: SUV | C76: vhgtdr_suv | D76: -0.055228952 | E76: 0.012078719 | F76: -4.572418 | J76: -0.056360437 | K76: 0.012077766 | L76: -4.6664621 | P76: -0.055228952 | Q76: 0.012078719 | R76: -4.572418 | S76: -0.055228952 | T76: 0.012078719 | U76: -4.572418 | V76: -0.055228952 | W76: 0.012078719 | X76: -4.572418 | Y76: -0.056143486 | Z76: 0.012072362 | AA76: -4.6505802 | AE76: -0.056143486 | AF76: 0.012072362 | AG76: -4.6505802
B77: Pickup | C77: vhgtdr_pu | D77: 0.29242321 | E77: 0.012842229 | F77: 22.770441 | J77: 0.29210281 | K77: 0.012848502 | L77: 22.734387 | P77: 0.29242321 | Q77: 0.012842229 | R77: 22.770441 | S77: 0.29242321 | T77: 0.012842229 | U77: 22.770441 | V77: 0.29242321 | W77: 0.012842229 | X77: 22.770441 | Y77: 0.29231505 | Z77: 0.012857141 | AA77: 22.735618 | AE77: 0.29231505 | AF77: 0.012857141 | AG77: 22.735618
B78: Motorcylce | C78: vhgtdr_mc | D78: 2.8540998 | E78: 0.05196435 | F78: 54.92419 | J78: 2.8549466 | K78: 0.051978219 | L78: 54.925826 | P78: 2.8540998 | Q78: 0.05196435 | R78: 54.92419 | S78: 2.8540998 | T78: 0.05196435 | U78: 54.92419 | V78: 2.8540998 | W78: 0.05196435 | X78: 54.92419 | Y78: 2.859305 | Z78: 0.052006949 | AA78: 54.979288 | AE78: 2.859305 | AF78: 0.052006949 | AG78: 54.979288
B79: Gas/Diesel
B80: Hybrid | C80: vhgtdr_hyb | D80: -0.191752 | E80: 0.03579216 | F80: -5.3573743 | J80: -0.19047342 | K80: 0.035714185 | L80: -5.3332708 | P80: -0.191752 | Q80: 0.03579216 | R80: -5.3573743 | S80: -0.191752 | T80: 0.03579216 | U80: -5.3573743 | V80: -0.191752 | W80: 0.03579216 | X80: -5.3573743 | Y80: -0.19033128 | Z80: 0.03571569 | AA80: -5.3290665 | AE80: -0.19033128 | AF80: 0.03571569 | AG80: -5.3290665
B81: Electric | C81: vhgtdr_ev | D81: 0.39325723 | E81: 0.073403905 | F81: 5.3574428 | J81: 0.39438172 | K81: 0.073225964 | L81: 5.3858181 | P81: 0.39325723 | Q81: 0.073403905 | R81: 5.3574428 | S81: 0.39325723 | T81: 0.073403905 | U81: 5.3574428 | V81: 0.39325723 | W81: 0.073403905 | X81: 5.3574428 | Y81: 0.39465828 | Z81: 0.073227787 | AA81: 5.3894607 | AE81: 0.39465828 | AF81: 0.073227787 | AG81: 5.3894607
B82: Age (per year) | C82: vhgtdr_age | D82: 0.069702353 | E82: 0.00086532753 | F82: 80.550255 | J82: 0.069560966 | K82: 0.00086323721 | L82: 80.581519 | P82: 0.069702353 | Q82: 0.00086532753 | R82: 80.550255 | S82: 0.069702353 | T82: 0.00086532753 | U82: 80.550255 | V82: 0.069702353 | W82: 0.00086532753 | X82: 80.550255 | Y82: 0.069616151 | Z82: 0.00086413562 | AA82: 80.561603 | AE82: 0.069616151 | AF82: 0.00086413562 | AG82: 80.561603
A83: Num children (capped at 3) | B83: Car
B84: Van | C84: nchld_van | D84: 0.57177663 | E84: 0.0098519916 | F84: 58.036653 | J84: 0.57201048 | K84: 0.0098557287 | L84: 58.038375 | P84: 0.57177663 | Q84: 0.0098519916 | R84: 58.036653 | S84: 0.57177663 | T84: 0.0098519916 | U84: 58.036653 | V84: 0.57177663 | W84: 0.0098519916 | X84: 58.036653 | Y84: 0.57198006 | Z84: 0.0098555948 | AA84: 58.036078 | AE84: 0.57198006 | AF84: 0.0098555948 | AG84: 58.036078
B85: SUV | C85: nchld_suv | D85: 0.18048737 | E85: 0.0064718451 | F85: 27.888086 | J85: 0.18075728 | K85: 0.0064740636 | L85: 27.92022 | P85: 0.18048737 | Q85: 0.0064718451 | R85: 27.888086 | S85: 0.18048737 | T85: 0.0064718451 | U85: 27.888086 | V85: 0.18048737 | W85: 0.0064718451 | X85: 27.888086 | Y85: 0.18071553 | Z85: 0.0064738004 | AA85: 27.914906 | AE85: 0.18071553 | AF85: 0.0064738004 | AG85: 27.914906
B86: Pickup | C86: nchld_pu | D86: 0.053846948 | E86: 0.0077962303 | F86: 6.9067929 | J86: 0.053843266 | K86: 0.007793418 | L86: 6.9088127 | P86: 0.053846948 | Q86: 0.0077962303 | R86: 6.9067929 | S86: 0.053846948 | T86: 0.0077962303 | U86: 6.9067929 | V86: 0.053846948 | W86: 0.0077962303 | X86: 6.9067929 | Y86: 0.053873451 | Z86: 0.0077920781 | AA86: 6.9138746 | AE86: 0.053873451 | AF86: 0.0077920781 | AG86: 6.9138746
B87: Motorcylce | C87: nchld_mc | D87: 0.023673004 | E87: 0.018341025 | F87: 1.2907132 | J87: 0.023694018 | K87: 0.018341115 | L87: 1.2918526 | P87: 0.023673004 | Q87: 0.018341025 | R87: 1.2907132 | S87: 0.023673004 | T87: 0.018341025 | U87: 1.2907132 | V87: 0.023673004 | W87: 0.018341025 | X87: 1.2907132 | Y87: 0.023717921 | Z87: 0.018340883 | AA87: 1.2931723 | AE87: 0.023717921 | AF87: 0.018340883 | AG87: 1.2931723
B88: Gas/Diesel
B89: Hybrid | C89: nchld_hyb | D89: -0.031880099 | E89: 0.019469475 | F89: -1.6374401 | J89: -0.029537633 | K89: 0.0194452 | L89: -1.5190192 | P89: -0.031880099 | Q89: 0.019469475 | R89: -1.6374401 | S89: -0.031880099 | T89: 0.019469475 | U89: -1.6374401 | V89: -0.031880099 | W89: 0.019469475 | X89: -1.6374401 | Y89: -0.029598806 | Z89: 0.019445932 | AA89: -1.5221079 | AE89: -0.029598806 | AF89: 0.019445932 | AG89: -1.5221079
B90: Electric | C90: nchld_ev | D90: 0.2052298 | E90: 0.035796067 | F90: 5.7333059 | J90: 0.20878965 | K90: 0.035786407 | L90: 5.8343283 | P90: 0.2052298 | Q90: 0.035796067 | R90: 5.7333059 | S90: 0.2052298 | T90: 0.035796067 | U90: 5.7333059 | V90: 0.2052298 | W90: 0.035796067 | X90: 5.7333059 | Y90: 0.20867457 | Z90: 0.035788083 | AA90: 5.8308394 | AE90: 0.20867457 | AF90: 0.035788083 | AG90: 5.8308394
B91: Age (per year) | C91: nchld_age | D91: -0.00061854864 | E91: 0.00047156372 | F91: -1.3116968 | J91: -0.00054237229 | K91: 0.00046699916 | L91: -1.1613989 | P91: -0.00061854864 | Q91: 0.00047156372 | R91: -1.3116968 | S91: -0.00061854864 | T91: 0.00047156372 | U91: -1.3116968 | V91: -0.00061854864 | W91: 0.00047156372 | X91: -1.3116968 | Y91: -0.00056201515 | Z91: 0.00046836575 | AA91: -1.1999493 | AE91: -0.00056201515 | AF91: 0.00046836575 | AG91: -1.1999493
A92: Total distance to work (capped at 100m/wkr) | B92: Car
B93: Van | C93: dstwkt_van | D93: -0.0060182411 | E93: 0.00052529752 | F93: -11.456824 | J93: -0.0060215384 | K93: 0.00052489077 | L93: -11.471984 | P93: -0.0060182411 | Q93: 0.00052529752 | R93: -11.456824 | S93: -0.0060182411 | T93: 0.00052529752 | U93: -11.456824 | V93: -0.0060182411 | W93: 0.00052529752 | X93: -11.456824 | Y93: -0.0060229126 | Z93: 0.00052507723 | AA93: -11.470527 | AE93: -0.0060229126 | AF93: 0.00052507723 | AG93: -11.470527
B94: SUV | C94: dstwkt_suv | D94: -0.0018534851 | E94: 0.00018521735 | F94: -10.007081 | J94: -0.0018577713 | K94: 0.00018542937 | L94: -10.018755 | P94: -0.0018534851 | Q94: 0.00018521735 | R94: -10.007081 | S94: -0.0018534851 | T94: 0.00018521735 | U94: -10.007081 | V94: -0.0018534851 | W94: 0.00018521735 | X94: -10.007081 | Y94: -0.0018565442 | Z94: 0.0001854024 | AA94: -10.013593 | AE94: -0.0018565442 | AF94: 0.0001854024 | AG94: -10.013593
B95: Pickup | C95: dstwkt_pu | D95: -0.00111387 | E95: 0.00020478866 | F95: -5.4391196 | J95: -0.0011168214 | K95: 0.00020451011 | L95: -5.4609591 | P95: -0.00111387 | Q95: 0.00020478866 | R95: -5.4391196 | S95: -0.00111387 | T95: 0.00020478866 | U95: -5.4391196 | V95: -0.00111387 | W95: 0.00020478866 | X95: -5.4391196 | Y95: -0.0011198382 | Z95: 0.00020434575 | AA95: -5.480115 | AE95: -0.0011198382 | AF95: 0.00020434575 | AG95: -5.480115
B96: Motorcylce | C96: dstwkt_mc | D96: -0.0018725001 | E96: 0.00043424317 | F96: -4.3121004 | J96: -0.0018745753 | K96: 0.00043414981 | L96: -4.3178075 | P96: -0.0018725001 | Q96: 0.00043424317 | R96: -4.3121004 | S96: -0.0018725001 | T96: 0.00043424317 | U96: -4.3121004 | V96: -0.0018725001 | W96: 0.00043424317 | X96: -4.3121004 | Y96: -0.0018830019 | Z96: 0.00043404478 | AA96: -4.3382664 | AE96: -0.0018830019 | AF96: 0.00043404478 | AG96: -4.3382664
B97: Gas/Diesel
B98: Hybrid | C98: dstwkt_hyb | D98: -0.0012975477 | E98: 0.0005307777 | F98: -2.4446161 | J98: -0.0013132022 | K98: 0.00053128017 | L98: -2.4717696 | P98: -0.0012975477 | Q98: 0.0005307777 | R98: -2.4446161 | S98: -0.0012975477 | T98: 0.0005307777 | U98: -2.4446161 | V98: -0.0012975477 | W98: 0.0005307777 | X98: -2.4446161 | Y98: -0.0013116092 | Z98: 0.00053127859 | AA98: -2.4687786 | AE98: -0.0013116092 | AF98: 0.00053127859 | AG98: -2.4687786
B99: Electric | C99: dstwkt_ev | D99: -0.0037659603 | E99: 0.0012594278 | F99: -2.9902154 | J99: -0.0037905326 | K99: 0.0012608279 | L99: -3.0063837 | P99: -0.0037659603 | Q99: 0.0012594278 | R99: -2.9902154 | S99: -0.0037659603 | T99: 0.0012594278 | U99: -2.9902154 | V99: -0.0037659603 | W99: 0.0012594278 | X99: -2.9902154 | Y99: -0.0037868047 | Z99: 0.0012608232 | AA99: -3.0034383 | AE99: -0.0037868047 | AF99: 0.0012608232 | AG99: -3.0034383
B100: Age (per year) | C100: dstwkt_age | D100: -0.00015725243 | E100: 1.368466e-05 | F100: -11.491146 | J100: -0.00015827192 | K100: 1.3735922e-05 | L100: -11.522483 | P100: -0.00015725243 | Q100: 1.368466e-05 | R100: -11.491146 | S100: -0.00015725243 | T100: 1.368466e-05 | U100: -11.491146 | V100: -0.00015725243 | W100: 1.368466e-05 | X100: -11.491146 | Y100: -0.00015750838 | Z100: 1.3700679e-05 | AA100: -11.496392 | AE100: -0.00015750838 | AF100: 1.3700679e-05 | AG100: -11.496392
...

Sheet Model 1B
B1: Base Model | J1: Model B | R1: Difference (Model B - Base) | Z1: Percent Difference (Model B - Base)/Base
C3: Age (years) | K3: Age (years) | S3: Age (years) | AA3: Age (years)
B4: Vehicle Type | C4: 1-5 | D4: 6-10 | E4: 11-15 | F4: 16-20+ | G4: Total | J4: Vehicle Type | K4: 1-5 | L4: 6-10 | M4: 11-15 | N4: 16-20+ | O4: Total | R4: Vehicle Type | S4: 1-5 | T4: 6-10 | U4: 11-15 | V4: 16-20+ | W4: Total | Z4: Vehicle Type | AA4: 1-5 | AB4: 6-10 | AC4: 11-15 | AD4: 16-20+ | AE4: Total
B5: Car-Gas | C5: =Paste!$H$8 -> 35293 | D5: =Paste!$H$13 -> 27082 | E5: =Paste!$H$18 -> 24524 | F5: =Paste!$H$23 -> 20678 | G5: =SUM(C5:F5) -> 107577 | J5: Car-Gas | K5: =Paste!$Q$8 -> 33562 | L5: =Paste!$Q$13 -> 25803 | M5: =Paste!$Q$18 -> 23409 | N5: =Paste!$Q$23 -> 19785 | O5: =SUM(K5:N5) -> 102559 | R5: Car-Gas | S5: =K5-C5 -> -1731 | T5: =L5-D5 -> -1279 | U5: =M5-E5 -> -1115 | V5: =N5-F5 -> -893 | W5: =O5-G5 -> -5018 | Z5: Car-Gas | AA5: =IF(C5>0,S5/C5,"") -> -0.049046553 | AB5: =IF(D5>0,T5/D5,"") -> -0.04722694 | AC5: =IF(E5>0,U5/E5,"") -> -0.045465666 | AD5: =IF(F5>0,V5/F5,"") -> -0.043185995 | AE5: =IF(G5>0,W5/G5,"") -> -0.046645658
B6: Car-Diesel | C6: =Paste!$H$28 -> 396 | D6: =Paste!$H$33 -> 279 | E6: =Paste!$H$38 -> 216 | F6: =Paste!$H$43 -> 160 | G6: =SUM(C6:F6) -> 1051 | J6: Car-Diesel | K6: =Paste!$Q$28 -> 392 | L6: =Paste!$Q$33 -> 301 | M6: =Paste!$Q$38 -> 273 | N6: =Paste!$Q$43 -> 231 | O6: =SUM(K6:N6) -> 1197 | R6: Car-Diesel | S6: =K6-C6 -> -4 | T6: =L6-D6 -> 22 | U6: =M6-E6 -> 57 | V6: =N6-F6 -> 71 | W6: =O6-G6 -> 146 | Z6: Car-Diesel | AA6: =IF(C6>0,S6/C6,"") -> -0.01010101 | AB6: =IF(D6>0,T6/D6,"") -> 0.078853047 | AC6: =IF(E6>0,U6/E6,"") -> 0.26388889 | AD6: =IF(F6>0,V6/F6,"") -> 0.44375 | AE6: =IF(G6>0,W6/G6,"") -> 0.13891532
B7: Car-Hybrid | C7: =Paste!$H$48 -> 2330 | D7: =Paste!$H$53 -> 972 | E7: =Paste!$H$58 -> 250 | F7: =Paste!$H$63 -> 71 | G7: =SUM(C7:F7) -> 3623 | J7: Car-Hybrid | K7: =Paste!$Q$48 -> 2885 | L7: =Paste!$Q$53 -> 2052 | M7: =Paste!$Q$58 -> 1712 | N7: =Paste!$Q$63 -> 1290 | O7: =SUM(K7:N7) -> 7939 | R7: Car-Hybrid | S7: =K7-C7 -> 555 | T7: =L7-D7 -> 1080 | U7: =M7-E7 -> 1462 | V7: =N7-F7 -> 1219 | W7: =O7-G7 -> 4316 | Z7: Car-Hybrid | AA7: =IF(C7>0,S7/C7,"") -> 0.23819742 | AB7: =IF(D7>0,T7/D7,"") -> 1.1111111 | AC7: =IF(E7>0,U7/E7,"") -> 5.848 | AD7: =IF(F7>0,V7/F7,"") -> 17.169014 | AE7: =IF(G7>0,W7/G7,"") -> 1.1912779
B8: Car-PEV | C8: =Paste!$H$68 -> 332 | D8: =Paste!$H$73 -> 42 | E8: =Paste!$H$78 -> 0 | F8: =Paste!$H$83 -> 1 | G8: =SUM(C8:F8) -> 375 | J8: Car-PEV | K8: =Paste!$Q$68 -> 867 | L8: =Paste!$Q$73 -> 625 | M8: =Paste!$Q$78 -> 531 | N8: =Paste!$Q$83 -> 409 | O8: =SUM(K8:N8) -> 2432 | R8: Car-PEV | S8: =K8-C8 -> 535 | T8: =L8-D8 -> 583 | U8: =M8-E8 -> 531 | V8: =N8-F8 -> 408 | W8: =O8-G8 -> 2057 | Z8: Car-PEV | AA8: =IF(C8>0,S8/C8,"") -> 1.6114458 | AB8: =IF(D8>0,T8/D8,"") -> 13.880952 | AC8: =IF(E8>0,U8/E8,"") | AD8: =IF(F8>0,V8/F8,"") -> 408 | AE8: =IF(G8>0,W8/G8,"") -> 5.4853333
B9: Car-BEV | C9: =Paste!$H$88 -> 336 | D9: =Paste!$H$93 -> 42 | E9: =Paste!$H$98 -> 0 | F9: =Paste!$H$203 -> 0 | G9: =SUM(C9:F9) -> 378 | J9: Car-BEV | K9: =Paste!$Q$88 -> 878 | L9: =Paste!$Q$93 -> 634 | M9: =Paste!$Q$98 -> 537 | N9: =Paste!$Q$203 -> 3 | O9: =SUM(K9:N9) -> 2052 | R9: Car-BEV | S9: =K9-C9 -> 542 | T9: =L9-D9 -> 592 | U9: =M9-E9 -> 537 | V9: =N9-F9 -> 3 | W9: =O9-G9 -> 1674 | Z9: Car-BEV | AA9: =IF(C9>0,S9/C9,"") -> 1.6130952 | AB9: =IF(D9>0,T9/D9,"") -> 14.095238 | AC9: =IF(E9>0,U9/E9,"") | AD9: =IF(F9>0,V9/F9,"") | AE9: =IF(G9>0,W9/G9,"") -> 4.4285714
B10: Van-Gas | C10: =Paste!$H$108 -> 3375 | D10: =Paste!$H$113 -> 3251 | E10: =Paste!$H$118 -> 4219 | F10: =Paste!$H$123 -> 3050 | G10: =SUM(C10:F10) -> 13895 | J10: Van-Gas | K10: =Paste!$Q$108 -> 3212 | L10: =Paste!$Q$113 -> 3102 | M10: =Paste!$Q$118 -> 4033 | N10: =Paste!$Q$123 -> 2922 | O10: =SUM(K10:N10) -> 13269 | R10: Van-Gas | S10: =K10-C10 -> -163 | T10: =L10-D10 -> -149 | U10: =M10-E10 -> -186 | V10: =N10-F10 -> -128 | W10: =O10-G10 -> -626 | Z10: Van-Gas | AA10: =IF(C10>0,S10/C10,"") -> -0.048296296 | AB10: =IF(D10>0,T10/D10,"") -> -0.045832052 | AC10: =IF(E10>0,U10/E10,"") -> -0.044086276 | AD10: =IF(F10>0,V10/F10,"") -> -0.041967213 | AE10: =IF(G10>0,W10/G10,"") -> -0.045052177
B11: Van-Diesel | C11: =Paste!$H$128 -> 27 | D11: =Paste!$H$133 -> 24 | E11: =Paste!$H$138 -> 27 | F11: =Paste!$H$143 -> 17 | G11: =SUM(C11:F11) -> 95 | J11: Van-Diesel | K11: =Paste!$Q$128 -> 27 | L11: =Paste!$Q$133 -> 26 | M11: =Paste!$Q$138 -> 34 | N11: =Paste!$Q$143 -> 25 | O11: =SUM(K11:N11) -> 112 | R11: Van-Diesel | S11: =K11-C11 -> 0 | T11: =L11-D11 -> 2 | U11: =M11-E11 -> 7 | V11: =N11-F11 -> 8 | W11: =O11-G11 -> 17 | Z11: Van-Diesel | AA11: =IF(C11>0,S11/C11,"") -> 0 | AB11: =IF(D11>0,T11/D11,"") -> 0.083333333 | AC11: =IF(E11>0,U11/E11,"") -> 0.25925926 | AD11: =IF(F11>0,V11/F11,"") -> 0.47058824 | AE11: =IF(G11>0,W11/G11,"") -> 0.17894737
B12: Van-Hybrid | C12: =Paste!$H$148 -> 7 | D12: =Paste!$H$153 -> 3 | E12: =Paste!$H$158 -> 1 | F12: =Paste!$H$163 -> 0 | G12: =SUM(C12:F12) -> 11 | J12: Van-Hybrid | K12: =Paste!$Q$148 -> 8 | L12: =Paste!$Q$153 -> 7 | M12: =Paste!$Q$158 -> 9 | N12: =Paste!$Q$163 -> 6 | O12: =SUM(K12:N12) -> 30 | R12: Van-Hybrid | S12: =K12-C12 -> 1 | T12: =L12-D12 -> 4 | U12: =M12-E12 -> 8 | V12: =N12-F12 -> 6 | W12: =O12-G12 -> 19 | Z12: Van-Hybrid | AA12: =IF(C12>0,S12/C12,"") -> 0.14285714 | AB12: =IF(D12>0,T12/D12,"") -> 1.3333333 | AC12: =IF(E12>0,U12/E12,"") -> 8 | AD12: =IF(F12>0,V12/F12,"") | AE12: =IF(G12>0,W12/G12,"") -> 1.7272727
B13: Van-PEV | C13: =Paste!$H$168 -> 1 | D13: =Paste!$H$173 -> 0 | E13: =Paste!$H$178 -> 0 | F13: =Paste!$H$183 -> 0 | G13: =SUM(C13:F13) -> 1 | J13: Van-PEV | K13: =Paste!$Q$168 -> 4 | L13: =Paste!$Q$173 -> 3 | M13: =Paste!$Q$178 -> 4 | N13: =Paste!$Q$183 -> 3 | O13: =SUM(K13:N13) -> 14 | R13: Van-PEV | S13: =K13-C13 -> 3 | T13: =L13-D13 -> 3 | U13: =M13-E13 -> 4 | V13: =N13-F13 -> 3 | W13: =O13-G13 -> 13 | Z13: Van-PEV | AA13: =IF(C13>0,S13/C13,"") -> 3 | AB13: =IF(D13>0,T13/D13,"") | AC13: =IF(E13>0,U13/E13,"") | AD13: =IF(F13>0,V13/F13,"") | AE13: =IF(G13>0,W13/G13,"") -> 13
B14: Van-BEV | C14: =Paste!$H$188 -> 2 | D14: =Paste!$H$193 -> 0 | E14: =Paste!$H$198 -> 0 | F14: =Paste!$H$203 -> 0 | G14: =SUM(C14:F14) -> 2 | J14: Van-BEV | K14: =Paste!$Q$188 -> 4 | L14: =Paste!$Q$193 -> 4 | M14: =Paste!$Q$198 -> 4 | N14: =Paste!$Q$203 -> 3 | O14: =SUM(K14:N14) -> 15 | R14: Van-BEV | S14: =K14-C14 -> 2 | T14: =L14-D14 -> 4 | U14: =M14-E14 -> 4 | V14: =N14-F14 -> 3 | W14: =O14-G14 -> 13 | Z14: Van-BEV | AA14: =IF(C14>0,S14/C14,"") -> 1 | AB14: =IF(D14>0,T14/D14,"") | AC14: =IF(E14>0,U14/E14,"") | AD14: =IF(F14>0,V14/F14,"") | AE14: =IF(G14>0,W14/G14,"") -> 6.5
B15: SUV-Gas | C15: =Paste!$H$208 -> 23914 | D15: =Paste!$H$213 -> 13673 | E15: =Paste!$H$218 -> 7035 | F15: =Paste!$H$223 -> 4740 | G15: =SUM(C15:F15) -> 49362 | J15: SUV-Gas | K15: =Paste!$Q$208 -> 22713 | L15: =Paste!$Q$213 -> 13009 | M15: =Paste!$Q$218 -> 6706 | N15: =Paste!$Q$223 -> 4530 | O15: =SUM(K15:N15) -> 46958 | R15: SUV-Gas | S15: =K15-C15 -> -1201 | T15: =L15-D15 -> -664 | U15: =M15-E15 -> -329 | V15: =N15-F15 -> -210 | W15: =O15-G15 -> -2404 | Z15: SUV-Gas | AA15: =IF(C15>0,S15/C15,"") -> -0.050221627 | AB15: =IF(D15>0,T15/D15,"") -> -0.048562861 | AC15: =IF(E15>0,U15/E15,"") -> -0.046766169 | AD15: =IF(F15>0,V15/F15,"") -> -0.044303797 | AE15: =IF(G15>0,W15/G15,"") -> -0.04870143
B16: SUV-Diesel | C16: =Paste!$H$228 -> 163 | D16: =Paste!$H$233 -> 87 | E16: =Paste!$H$238 -> 38 | F16: =Paste!$H$243 -> 22 | G16: =SUM(C16:F16) -> 310 | J16: SUV-Diesel | K16: =Paste!$Q$228 -> 161 | L16: =Paste!$Q$233 -> 92 | M16: =Paste!$Q$238 -> 48 | N16: =Paste!$Q$243 -> 32 | O16: =SUM(K16:N16) -> 333 | R16: SUV-Diesel | S16: =K16-C16 -> -2 | T16: =L16-D16 -> 5 | U16: =M16-E16 -> 10 | V16: =N16-F16 -> 10 | W16: =O16-G16 -> 23 | Z16: SUV-Diesel | AA16: =IF(C16>0,S16/C16,"") -> -0.012269939 | AB16: =IF(D16>0,T16/D16,"") -> 0.057471264 | AC16: =IF(E16>0,U16/E16,"") -> 0.26315789 | AD16: =IF(F16>0,V16/F16,"") -> 0.45454545 | AE16: =IF(G16>0,W16/G16,"") -> 0.074193548
B17: SUV-Hybrid | C17: =Paste!$H$248 -> 309 | D17: =Paste!$H$253 -> 102 | E17: =Paste!$H$258 -> 14 | F17: =Paste!$H$263 -> 3 | G17: =SUM(C17:F17) -> 428 | J17: SUV-Hybrid | K17: =Paste!$Q$248 -> 380 | L17: =Paste!$Q$253 -> 203 | M17: =Paste!$Q$258 -> 97 | N17: =Paste!$Q$263 -> 59 | O17: =SUM(K17:N17) -> 739 | R17: SUV-Hybrid | S17: =K17-C17 -> 71 | T17: =L17-D17 -> 101 | U17: =M17-E17 -> 83 | V17: =N17-F17 -> 56 | W17: =O17-G17 -> 311 | Z17: SUV-Hybrid | AA17: =IF(C17>0,S17/C17,"") -> 0.22977346 | AB17: =IF(D17>0,T17/D17,"") -> 0.99019608 | AC17: =IF(E17>0,U17/E17,"") -> 5.9285714 | AD17: =IF(F17>0,V17/F17,"") -> 18.666667 | AE17: =IF(G17>0,W17/G17,"") -> 0.72663551
B18: SUV-PEV | C18: =Paste!$H$268 -> 13 | D18: =Paste!$H$273 -> 1 | E18: =Paste!$H$278 -> 0 | F18: =Paste!$H$283 -> 0 | G18: =SUM(C18:F18) -> 14 | J18: SUV-PEV | K18: =Paste!$Q$268 -> 32 | L18: =Paste!$Q$273 -> 17 | M18: =Paste!$Q$278 -> 8 | N18: =Paste!$Q$283 -> 5 | O18: =SUM(K18:N18) -> 62 | R18: SUV-PEV | S18: =K18-C18 -> 19 | T18: =L18-D18 -> 16 | U18: =M18-E18 -> 8 | V18: =N18-F18 -> 5 | W18: =O18-G18 -> 48 | Z18: SUV-PEV | AA18: =IF(C18>0,S18/C18,"") -> 1.4615385 | AB18: =IF(D18>0,T18/D18,"") -> 16 | AC18: =IF(E18>0,U18/E18,"") | AD18: =IF(F18>0,V18/F18,"") | AE18: =IF(G18>0,W18/G18,"") -> 3.4285714
B19: SUV-BEV | C19: =Paste!$H$288 -> 13 | D19: =Paste!$H$293 -> 1 | E19: =Paste!$H$298 -> 0 | F19: =Paste!$H$303 -> 0 | G19: =SUM(C19:F19) -> 14 | J19: SUV-BEV | K19: =Paste!$Q$288 -> 33 | L19: =Paste!$Q$293 -> 18 | M19: =Paste!$Q$298 -> 9 | N19: =Paste!$Q$303 -> 5 | O19: =SUM(K19:N19) -> 65 | R19: SUV-BEV | S19: =K19-C19 -> 20 | T19: =L19-D19 -> 17 | U19: =M19-E19 -> 9 | V19: =N19-F19 -> 5 | W19: =O19-G19 -> 51 | Z19: SUV-BEV | AA19: =IF(C19>0,S19/C19,"") -> 1.5384615 | AB19: =IF(D19>0,T19/D19,"") -> 17 | AC19: =IF(E19>0,U19/E19,"") | AD19: =IF(F19>0,V19/F19,"") | AE19: =IF(G19>0,W19/G19,"") -> 3.6428571
B20: Pickup-Gas | C20: =Paste!$H$308 -> 8067 | D20: =Paste!$H$313 -> 9282 | E20: =Paste!$H$318 -> 15127 | F20: =Paste!$H$323 -> 15540 | G20: =SUM(C20:F20) -> 48016 | J20: Pickup-Gas | K20: =Paste!$Q$308 -> 7689 | L20: =Paste!$Q$313 -> 8863 | M20: =Paste!$Q$318 -> 14467 | N20: =Paste!$Q$323 -> 14894 | O20: =SUM(K20:N20) -> 45913 | R20: Pickup-Gas | S20: =K20-C20 -> -378 | T20: =L20-D20 -> -419 | U20: =M20-E20 -> -660 | V20: =N20-F20 -> -646 | W20: =O20-G20 -> -2103 | Z20: Pickup-Gas | AA20: =IF(C20>0,S20/C20,"") -> -0.046857568 | AB20: =IF(D20>0,T20/D20,"") -> -0.045141133 | AC20: =IF(E20>0,U20/E20,"") -> -0.043630594 | AD20: =IF(F20>0,V20/F20,"") -> -0.041570142 | AE20: =IF(G20>0,W20/G20,"") -> -0.043797901
B21: Pickup-Diesel | C21: =Paste!$H$328 -> 1146 | D21: =Paste!$H$333 -> 1189 | E21: =Paste!$H$338 -> 1683 | F21: =Paste!$H$343 -> 1528 | G21: =SUM(C21:F21) -> 5546 | J21: Pickup-Diesel | K21: =Paste!$Q$328 -> 1137 | L21: =Paste!$Q$333 -> 1311 | M21: =Paste!$Q$338 -> 2140 | N21: =Paste!$Q$343 -> 2203 | O21: =SUM(K21:N21) -> 6791 | R21: Pickup-Diesel | S21: =K21-C21 -> -9 | T21: =L21-D21 -> 122 | U21: =M21-E21 -> 457 | V21: =N21-F21 -> 675 | W21: =O21-G21 -> 1245 | Z21: Pickup-Diesel | AA21: =IF(C21>0,S21/C21,"") -> -0.0078534031 | AB21: =IF(D21>0,T21/D21,"") -> 0.10260723 | AC21: =IF(E21>0,U21/E21,"") -> 0.27153892 | AD21: =IF(F21>0,V21/F21,"") -> 0.44175393 | AE21: =IF(G21>0,W21/G21,"") -> 0.22448612
B22: Pickup-Hybrid | C22: =Paste!$H$348 -> 4 | D22: =Paste!$H$353 -> 2 | E22: =Paste!$H$358 -> 1 | F22: =Paste!$H$363 -> 0 | G22: =SUM(C22:F22) -> 7 | J22: Pickup-Hybrid | K22: =Paste!$Q$348 -> 5 | L22: =Paste!$Q$353 -> 6 | M22: =Paste!$Q$358 -> 9 | N22: =Paste!$Q$363 -> 8 | O22: =SUM(K22:N22) -> 28 | R22: Pickup-Hybrid | S22: =K22-C22 -> 1 | T22: =L22-D22 -> 4 | U22: =M22-E22 -> 8 | V22: =N22-F22 -> 8 | W22: =O22-G22 -> 21 | Z22: Pickup-Hybrid | AA22: =IF(C22>0,S22/C22,"") -> 0.25 | AB22: =IF(D22>0,T22/D22,"") -> 2 | AC22: =IF(E22>0,U22/E22,"") -> 8 | AD22: =IF(F22>0,V22/F22,"") | AE22: =IF(G22>0,W22/G22,"") -> 3
B23: Pickup-PEV | C23: =Paste!$H$368 -> 0 | D23: =Paste!$H$373 -> 0 | E23: =Paste!$H$378 -> 0 | F23: =Paste!$H$383 -> 0 | G23: =SUM(C23:F23) -> 0 | J23: Pickup-PEV | K23: =Paste!$Q$368 -> 1 | L23: =Paste!$Q$373 -> 1 | M23: =Paste!$Q$378 -> 2 | N23: =Paste!$Q$383 -> 1 | O23: =SUM(K23:N23) -> 5 | R23: Pickup-PEV | S23: =K23-C23 -> 1 | T23: =L23-D23 -> 1 | U23: =M23-E23 -> 2 | V23: =N23-F23 -> 1 | W23: =O23-G23 -> 5 | Z23: Pickup-PEV | AA23: =IF(C23>0,S23/C23,"") | AB23: =IF(D23>0,T23/D23,"") | AC23: =IF(E23>0,U23/E23,"") | AD23: =IF(F23>0,V23/F23,"") | AE23: =IF(G23>0,W23/G23,"")
B24: Pickup-BEV | C24: =Paste!$H$388 -> 0 | D24: =Paste!$H$393 -> 0 | E24: =Paste!$H$398 -> 0 | F24: =Paste!$H$403 -> 0 | G24: =SUM(C24:F24) -> 0 | J24: Pickup-BEV | K24: =Paste!$Q$388 -> 1 | L24: =Paste!$Q$393 -> 1 | M24: =Paste!$Q$398 -> 2 | N24: =Paste!$Q$403 -> 2 | O24: =SUM(K24:N24) -> 6 | R24: Pickup-BEV | S24: =K24-C24 -> 1 | T24: =L24-D24 -> 1 | U24: =M24-E24 -> 2 | V24: =N24-F24 -> 2 | W24: =O24-G24 -> 6 | Z24: Pickup-BEV | AA24: =IF(C24>0,S24/C24,"") | AB24: =IF(D24>0,T24/D24,"") | AC24: =IF(E24>0,U24/E24,"") | AD24: =IF(F24>0,V24/F24,"") | AE24: =IF(G24>0,W24/G24,"")
B25: Motorcycle-Gas | C25: =Paste!$H$408 -> 1425 | D25: =Paste!$H$413 -> 1468 | E25: =Paste!$H$418 -> 1855 | F25: =Paste!$H$423 -> 2103 | G25: =SUM(C25:F25) -> 6851 | J25: Motorcycle-Gas | K25: =Paste!$Q$408 -> 1346 | L25: =Paste!$Q$413 -> 1390 | M25: =Paste!$Q$418 -> 1760 | N25: =Paste!$Q$423 -> 2002 | O25: =SUM(K25:N25) -> 6498 | R25: Motorcycle-Gas | S25: =K25-C25 -> -79 | T25: =L25-D25 -> -78 | U25: =M25-E25 -> -95 | V25: =N25-F25 -> -101 | W25: =O25-G25 -> -353 | Z25: Motorcycle-Gas | AA25: =IF(C25>0,S25/C25,"") -> -0.055438596 | AB25: =IF(D25>0,T25/D25,"") -> -0.053133515 | AC25: =IF(E25>0,U25/E25,"") -> -0.051212938 | AD25: =IF(F25>0,V25/F25,"") -> -0.048026629 | AE25: =IF(G25>0,W25/G25,"") -> -0.051525325
B26: Motorcycle-Diesel | C26: =Paste!$H$428 -> 0 | D26: =Paste!$H$433 -> 0 | E26: =Paste!$H$438 -> 0 | F26: =Paste!$H$443 -> 0 | G26: =SUM(C26:F26) -> 0 | J26: Motorcycle-Diesel | K26: =Paste!$Q$428 -> 0 | L26: =Paste!$Q$433 -> 0 | M26: =Paste!$Q$438 -> 0 | N26: =Paste!$Q$443 -> 0 | O26: =SUM(K26:N26) -> 0 | R26: Motorcycle-Diesel | S26: =K26-C26 -> 0 | T26: =L26-D26 -> 0 | U26: =M26-E26 -> 0 | V26: =N26-F26 -> 0 | W26: =O26-G26 -> 0 | Z26: Motorcycle-Diesel | AA26: =IF(C26>0,S26/C26,"") | AB26: =IF(D26>0,T26/D26,"") | AC26: =IF(E26>0,U26/E26,"") | AD26: =IF(F26>0,V26/F26,"") | AE26: =IF(G26>0,W26/G26,"")
B27: Motorcycle-Hybrid | C27: =Paste!$H$448 -> 0 | D27: =Paste!$H$453 -> 0 | E27: =Paste!$H$458 -> 0 | F27: =Paste!$H$463 -> 0 | G27: =SUM(C27:F27) -> 0 | J27: Motorcycle-Hybrid | K27: =Paste!$Q$448 -> 0 | L27: =Paste!$Q$453 -> 0 | M27: =Paste!$Q$458 -> 0 | N27: =Paste!$Q$463 -> 0 | O27: =SUM(K27:N27) -> 0 | R27: Motorcycle-Hybrid | S27: =K27-C27 -> 0 | T27: =L27-D27 -> 0 | U27: =M27-E27 -> 0 | V27: =N27-F27 -> 0 | W27: =O27-G27 -> 0 | Z27: Motorcycle-Hybrid | AA27: =IF(C27>0,S27/C27,"") | AB27: =IF(D27>0,T27/D27,"") | AC27: =IF(E27>0,U27/E27,"") | AD27: =IF(F27>0,V27/F27,"") | AE27: =IF(G27>0,W27/G27,"")
B28: Motorcycle-PEV | C28: =Paste!$H$468 -> 0 | D28: =Paste!$H$473 -> 0 | E28: =Paste!$H$478 -> 0 | F28: =Paste!$H$483 -> 0 | G28: =SUM(C28:F28) -> 0 | J28: Motorcycle-PEV | K28: =Paste!$Q$468 -> 0 | L28: =Paste!$Q$473 -> 0 | M28: =Paste!$Q$478 -> 0 | N28: =Paste!$Q$483 -> 0 | O28: =SUM(K28:N28) -> 0 | R28: Motorcycle-PEV | S28: =K28-C28 -> 0 | T28: =L28-D28 -> 0 | U28: =M28-E28 -> 0 | V28: =N28-F28 -> 0 | W28: =O28-G28 -> 0 | Z28: Motorcycle-PEV | AA28: =IF(C28>0,S28/C28,"") | AB28: =IF(D28>0,T28/D28,"") | AC28: =IF(E28>0,U28/E28,"") | AD28: =IF(F28>0,V28/F28,"") | AE28: =IF(G28>0,W28/G28,"")
B29: Motorcycle-BEV | C29: =Paste!$H$488 -> 14 | D29: =Paste!$H$493 -> 2 | E29: =Paste!$H$498 -> 0 | F29: =Paste!$H$503 -> 0 | G29: =SUM(C29:F29) -> 16 | J29: Motorcycle-BEV | K29: =Paste!$Q$488 -> 37 | L29: =Paste!$Q$493 -> 35 | M29: =Paste!$Q$498 -> 41 | N29: =Paste!$Q$503 -> 41 | O29: =SUM(K29:N29) -> 154 | R29: Motorcycle-BEV | S29: =K29-C29 -> 23 | T29: =L29-D29 -> 33 | U29: =M29-E29 -> 41 | V29: =N29-F29 -> 41 | W29: =O29-G29 -> 138 | Z29: Motorcycle-BEV | AA29: =IF(C29>0,S29/C29,"") -> 1.6428571 | AB29: =IF(D29>0,T29/D29,"") -> 16.5 | AC29: =IF(E29>0,U29/E29,"") | AD29: =IF(F29>0,V29/F29,"") | AE29: =IF(G29>0,W29/G29,"") -> 8.625
B30: Total | C30: =SUM(C5:C29) -> 77167 | D30: =SUM(D5:D29) -> 57502 | E30: =SUM(E5:E29) -> 54990 | F30: =SUM(F5:F29) -> 47913 | G30: =SUM(C30:F30) -> 237572 | J30: Total | K30: =SUM(K5:K29) -> 75374 | L30: =SUM(L5:L29) -> 57503 | M30: =SUM(M5:M29) -> 55835 | N30: =SUM(N5:N29) -> 48459 | O30: =SUM(K30:N30) -> 237171 | R30: Total | S30: =K30-C30 -> -1793 | T30: =L30-D30 -> 1 | U30: =M30-E30 -> 845 | V30: =N30-F30 -> 546 | W30: =O30-G30 -> -401 | Z30: Total | AA30: =IF(C30>0,S30/C30,"") -> -0.023235321 | AB30: =IF(D30>0,T30/D30,"") -> 1.7390699e-05 | AC30: =IF(E30>0,U30/E30,"") -> 0.01536643 | AD30: =IF(F30>0,V30/F30,"") -> 0.011395655 | AE30: =IF(G30>0,W30/G30,"") -> -0.0016879093
C32: Fuel Type | K32: Fuel Type | S32: Fuel Type | AA32: Fuel Type
B33: Body Type | C33: Gas | D33: Diesel | E33: Hybrid | F33: PEV | G33: BEV | H33: Total | J33: Body Type | K33: Gas | L33: Diesel | M33: Hybrid | N33: PEV | O33: BEV | P33: Total | R33: Body Type | S33: Gas | T33: Diesel | U33: Hybrid | V33: PEV | W33: BEV | X33: Total | Z33: Body Type | AA33: Gas | AB33: Diesel | AC33: Hybrid | AD33: PEV | AE33: BEV | AF33: Total
B34: Car | C34: =G5 -> 107577 | D34: =G6 -> 1051 | E34: =G7 -> 3623 | F34: =G8 -> 375 | G34: =G9 -> 378 | H34: =SUM(C34:G34) -> 113004 | J34: Car | K34: =O5 -> 102559 | L34: =O6 -> 1197 | M34: =O7 -> 7939 | N34: =O8 -> 2432 | O34: =O9 -> 2052 | P34: =SUM(K34:O34) -> 116179 | R34: Car | S34: =K34-C34 -> -5018 | T34: =L34-D34 -> 146 | U34: =M34-E34 -> 4316 | V34: =N34-F34 -> 2057 | W34: =O34-G34 -> 1674 | X34: =P34-H34 -> 3175 | Z34: Car | AA34: =IF(C34>0,S34/C34,"") -> -0.046645658 | AB34: =IF(D34>0,T34/D34,"") -> 0.13891532 | AC34: =IF(E34>0,U34/E34,"") -> 1.1912779 | AD34: =IF(F34>0,V34/F34,"") -> 5.4853333 | AE34: =IF(G34>0,W34/G34,"") -> 4.4285714 | AF34: =IF(H34>0,X34/H34,"") -> 0.028096351
B35: Van | C35: =G10 -> 13895 | D35: =G11 -> 95 | E35: =G12 -> 11 | F35: =G13 -> 1 | G35: =G14 -> 2 | H35: =SUM(C35:G35) -> 14004 | J35: Van | K35: =O10 -> 13269 | L35: =O11 -> 112 | M35: =O12 -> 30 | N35: =O13 -> 14 | O35: =O14 -> 15 | P35: =SUM(K35:O35) -> 13440 | R35: Van | S35: =K35-C35 -> -626 | T35: =L35-D35 -> 17 | U35: =M35-E35 -> 19 | V35: =N35-F35 -> 13 | W35: =O35-G35 -> 13 | X35: =P35-H35 -> -564 | Z35: Van | AA35: =IF(C35>0,S35/C35,"") -> -0.045052177 | AB35: =IF(D35>0,T35/D35,"") -> 0.17894737 | AC35: =IF(E35>0,U35/E35,"") -> 1.7272727 | AD35: =IF(F35>0,V35/F35,"") -> 13 | AE35: =IF(G35>0,W35/G35,"") -> 6.5 | AF35: =IF(H35>0,X35/H35,"") -> -0.040274207
B36: SUV | C36: =G15 -> 49362 | D36: =G16 -> 310 | E36: =G17 -> 428 | F36: =G18 -> 14 | G36: =G19 -> 14 | H36: =SUM(C36:G36) -> 50128 | J36: SUV | K36: =O15 -> 46958 | L36: =O16 -> 333 | M36: =O17 -> 739 | N36: =O18 -> 62 | O36: =O19 -> 65 | P36: =SUM(K36:O36) -> 48157 | R36: SUV | S36: =K36-C36 -> -2404 | T36: =L36-D36 -> 23 | U36: =M36-E36 -> 311 | V36: =N36-F36 -> 48 | W36: =O36-G36 -> 51 | X36: =P36-H36 -> -1971 | Z36: SUV | AA36: =IF(C36>0,S36/C36,"") -> -0.04870143 | AB36: =IF(D36>0,T36/D36,"") -> 0.074193548 | AC36: =IF(E36>0,U36/E36,"") -> 0.72663551 | AD36: =IF(F36>0,V36/F36,"") -> 3.4285714 | AE36: =IF(G36>0,W36/G36,"") -> 3.6428571 | AF36: =IF(H36>0,X36/H36,"") -> -0.039319342
B37: Pickup | C37: =G20 -> 48016 | D37: =G21 -> 5546 | E37: =G22 -> 7 | F37: =G23 -> 0 | G37: =G24 -> 0 | H37: =SUM(C37:G37) -> 53569 | J37: Pickup | K37: =O20 -> 45913 | L37: =O21 -> 6791 | M37: =O22 -> 28 | N37: =O23 -> 5 | O37: =O24 -> 6 | P37: =SUM(K37:O37) -> 52743 | R37: Pickup | S37: =K37-C37 -> -2103 | T37: =L37-D37 -> 1245 | U37: =M37-E37 -> 21 | V37: =N37-F37 -> 5 | W37: =O37-G37 -> 6 | X37: =P37-H37 -> -826 | Z37: Pickup | AA37: =IF(C37>0,S37/C37,"") -> -0.043797901 | AB37: =IF(D37>0,T37/D37,"") -> 0.22448612 | AC37: =IF(E37>0,U37/E37,"") -> 3 | AD37: =IF(F37>0,V37/F37,"") | AE37: =IF(G37>0,W37/G37,"") | AF37: =IF(H37>0,X37/H37,"") -> -0.015419366
B38: Motorcycle | C38: =G25 -> 6851 | D38: =G26 -> 0 | E38: =G27 -> 0 | F38: =G28 -> 0 | G38: =G29 -> 16 | H38: =SUM(C38:G38) -> 6867 | J38: Motorcycle | K38: =O25 -> 6498 | L38: =O26 -> 0 | M38: =O27 -> 0 | N38: =O28 -> 0 | O38: =O29 -> 154 | P38: =SUM(K38:O38) -> 6652 | R38: Motorcycle | S38: =K38-C38 -> -353 | T38: =L38-D38 -> 0 | U38: =M38-E38 -> 0 | V38: =N38-F38 -> 0 | W38: =O38-G38 -> 138 | X38: =P38-H38 -> -215 | Z38: Motorcycle | AA38: =IF(C38>0,S38/C38,"") -> -0.051525325 | AB38: =IF(D38>0,T38/D38,"") | AC38: =IF(E38>0,U38/E38,"") | AD38: =IF(F38>0,V38/F38,"") | AE38: =IF(G38>0,W38/G38,"") -> 8.625 | AF38: =IF(H38>0,X38/H38,"") -> -0.03130916
B39: Total | C39: =SUM(C34:C38) -> 225701 | D39: =SUM(D34:D38) -> 7002 | E39: =SUM(E34:E38) -> 4069 | F39: =SUM(F34:F38) -> 390 | G39: =SUM(G34:G38) -> 410 | H39: =SUM(C39:G39) -> 237572 | J39: Total | K39: =SUM(K34:K38) -> 215197 | L39: =SUM(L34:L38) -> 8433 | M39: =SUM(M34:M38) -> 8736 | N39: =SUM(N34:N38) -> 2513 | O39: =SUM(O34:O38) -> 2292 | P39: =SUM(K39:O39) -> 237171 | R39: Total | S39: =K39-C39 -> -10504 | T39: =L39-D39 -> 1431 | U39: =M39-E39 -> 4667 | V39: =N39-F39 -> 2123 | W39: =O39-G39 -> 1882 | X39: =P39-H39 -> -401 | Z39: Total | AA39: =IF(C39>0,S39/C39,"") -> -0.046539448 | AB39: =IF(D39>0,T39/D39,"") -> 0.20437018 | AC39: =IF(E39>0,U39/E39,"") -> 1.1469649 | AD39: =IF(F39>0,V39/F39,"") -> 5.4435897 | AE39: =IF(G39>0,W39/G39,"") -> 4.5902439 | AF39: =IF(H39>0,X39/H39,"") -> -0.0016879093
C41: Age (years) | K41: Age (years) | S41: Age (years) | AA41: Age (years)
B42: Body Type | C42: 1-5 | D42: 6-10 | E42: 11-15 | F42: 16-20+ | G42: Total | J42: Body Type | K42: 1-5 | L42: 6-10 | M42: 11-15 | N42: 16-20+ | O42: Total | R42: Body Type | S42: 1-5 | T42: 6-10 | U42: 11-15 | V42: 16-20+ | W42: Total | Z42: Body Type | AA42: 1-5 | AB42: 6-10 | AC42: 11-15 | AD42: 16-20+ | AE42: Total
B43: Car | C43: =SUM(C5:C9) -> 38687 | D43: =SUM(D5:D9) -> 28417 | E43: =SUM(E5:E9) -> 24990 | F43: =SUM(F5:F9) -> 20910 | G43: =SUM(G5:G9) -> 113004 | J43: Car | K43: =SUM(K5:K9) -> 38584 | L43: =SUM(L5:L9) -> 29415 | M43: =SUM(M5:M9) -> 26462 | N43: =SUM(N5:N9) -> 21718 | O43: =SUM(O5:O9) -> 116179 | R43: Car | S43: =K43-C43 -> -103 | T43: =L43-D43 -> 998 | U43: =M43-E43 -> 1472 | V43: =N43-F43 -> 808 | W43: =O43-G43 -> 3175 | Z43: Car | AA43: =IF(C43>0,S43/C43,"") -> -0.0026623931 | AB43: =IF(D43>0,T43/D43,"") -> 0.035119823 | AC43: =IF(E43>0,U43/E43,"") -> 0.058903561 | AD43: =IF(F43>0,V43/F43,"") -> 0.038641798 | AE43: =IF(G43>0,W43/G43,"") -> 0.028096351
B44: Van | C44: =SUM(C10:C14) -> 3412 | D44: =SUM(D10:D14) -> 3278 | E44: =SUM(E10:E14) -> 4247 | F44: =SUM(F10:F14) -> 3067 | G44: =SUM(G10:G14) -> 14004 | J44: Van | K44: =SUM(K10:K14) -> 3255 | L44: =SUM(L10:L14) -> 3142 | M44: =SUM(M10:M14) -> 4084 | N44: =SUM(N10:N14) -> 2959 | O44: =SUM(O10:O14) -> 13440 | R44: Van | S44: =K44-C44 -> -157 | T44: =L44-D44 -> -136 | U44: =M44-E44 -> -163 | V44: =N44-F44 -> -108 | W44: =O44-G44 -> -564 | Z44: Van | AA44: =IF(C44>0,S44/C44,"") -> -0.046014068 | AB44: =IF(D44>0,T44/D44,"") -> -0.041488713 | AC44: =IF(E44>0,U44/E44,"") -> -0.038380033 | AD44: =IF(F44>0,V44/F44,"") -> -0.035213564 | AE44: =IF(G44>0,W44/G44,"") -> -0.040274207
B45: SUV | C45: =SUM(C15:C19) -> 24412 | D45: =SUM(D15:D19) -> 13864 | E45: =SUM(E15:E19) -> 7087 | F45: =SUM(F15:F19) -> 4765 | G45: =SUM(G15:G19) -> 50128 | J45: SUV | K45: =SUM(K15:K19) -> 23319 | L45: =SUM(L15:L19) -> 13339 | M45: =SUM(M15:M19) -> 6868 | N45: =SUM(N15:N19) -> 4631 | O45: =SUM(O15:O19) -> 48157 | R45: SUV | S45: =K45-C45 -> -1093 | T45: =L45-D45 -> -525 | U45: =M45-E45 -> -219 | V45: =N45-F45 -> -134 | W45: =O45-G45 -> -1971 | Z45: SUV | AA45: =IF(C45>0,S45/C45,"") -> -0.044773062 | AB45: =IF(D45>0,T45/D45,"") -> -0.037867859 | AC45: =IF(E45>0,U45/E45,"") -> -0.030901651 | AD45: =IF(F45>0,V45/F45,"") -> -0.028121721 | AE45: =IF(G45>0,W45/G45,"") -> -0.039319342
B46: Pickup | C46: =SUM(C20:C24) -> 9217 | D46: =SUM(D20:D24) -> 10473 | E46: =SUM(E20:E24) -> 16811 | F46: =SUM(F20:F24) -> 17068 | G46: =SUM(G20:G24) -> 53569 | J46: Pickup | K46: =SUM(K20:K24) -> 8833 | L46: =SUM(L20:L24) -> 10182 | M46: =SUM(M20:M24) -> 16620 | N46: =SUM(N20:N24) -> 17108 | O46: =SUM(O20:O24) -> 52743 | R46: Pickup | S46: =K46-C46 -> -384 | T46: =L46-D46 -> -291 | U46: =M46-E46 -> -191 | V46: =N46-F46 -> 40 | W46: =O46-G46 -> -826 | Z46: Pickup | AA46: =IF(C46>0,S46/C46,"") -> -0.041662146 | AB46: =IF(D46>0,T46/D46,"") -> -0.027785735 | AC46: =IF(E46>0,U46/E46,"") -> -0.011361608 | AD46: =IF(F46>0,V46/F46,"") -> 0.0023435669 | AE46: =IF(G46>0,W46/G46,"") -> -0.015419366
B47: Motorcycle | C47: =SUM(C25:C29) -> 1439 | D47: =SUM(D25:D29) -> 1470 | E47: =SUM(E25:E29) -> 1855 | F47: =SUM(F25:F29) -> 2103 | G47: =SUM(G25:G29) -> 6867 | J47: Motorcycle | K47: =SUM(K25:K29) -> 1383 | L47: =SUM(L25:L29) -> 1425 | M47: =SUM(M25:M29) -> 1801 | N47: =SUM(N25:N29) -> 2043 | O47: =SUM(O25:O29) -> 6652 | R47: Motorcycle | S47: =K47-C47 -> -56 | T47: =L47-D47 -> -45 | U47: =M47-E47 -> -54 | V47: =N47-F47 -> -60 | W47: =O47-G47 -> -215 | Z47: Motorcycle | AA47: =IF(C47>0,S47/C47,"") -> -0.038915914 | AB47: =IF(D47>0,T47/D47,"") -> -0.030612245 | AC47: =IF(E47>0,U47/E47,"") -> -0.029110512 | AD47: =IF(F47>0,V47/F47,"") -> -0.02853067 | AE47: =IF(G47>0,W47/G47,"") -> -0.03130916
B48: Total | C48: =SUM(C43:C47) -> 77167 | D48: =SUM(D43:D47) -> 57502 | E48: =SUM(E43:E47) -> 54990 | F48: =SUM(F43:F47) -> 47913 | G48: =SUM(G43:G47) -> 237572 | J48: Total | K48: =SUM(K43:K47) -> 75374 | L48: =SUM(L43:L47) -> 57503 | M48: =SUM(M43:M47) -> 55835 | N48: =SUM(N43:N47) -> 48459 | O48: =SUM(O43:O47) -> 237171 | R48: Total | S48: =K48-C48 -> -1793 | T48: =L48-D48 -> 1 | U48: =M48-E48 -> 845 | V48: =N48-F48 -> 546 | W48: =O48-G48 -> -401 | Z48: Total | AA48: =IF(C48>0,S48/C48,"") -> -0.023235321 | AB48: =IF(D48>0,T48/D48,"") -> 1.7390699e-05 | AC48: =IF(E48>0,U48/E48,"") -> 0.01536643 | AD48: =IF(F48>0,V48/F48,"") -> 0.011395655 | AE48: =IF(G48>0,W48/G48,"") -> -0.0016879093
C50: Age (years) | K50: Age (years) | S50: Age (years) | AA50: Age (years)
B51: Fuel Type | C51: 1-5 | D51: 6-10 | E51: 11-15 | F51: 16-20+ | G51: Total | J51: Fuel Type | K51: 1-5 | L51: 6-10 | M51: 11-15 | N51: 16-20+ | O51: Total | R51: Fuel Type | S51: 1-5 | T51: 6-10 | U51: 11-15 | V51: 16-20+ | W51: Total | Z51: Fuel Type | AA51: 1-5 | AB51: 6-10 | AC51: 11-15 | AD51: 16-20+ | AE51: Total
B52: Gas | C52: =SUM(C5,C10,C15,C20,C25) -> 72074 | D52: =SUM(D5,D10,D15,D20,D25) -> 54756 | E52: =SUM(E5,E10,E15,E20,E25) -> 52760 | F52: =SUM(F5,F10,F15,F20,F25) -> 46111 | G52: =SUM(G5,G10,G15,G20,G25) -> 225701 | J52: Gas | K52: =SUM(K5,K10,K15,K20,K25) -> 68522 | L52: =SUM(L5,L10,L15,L20,L25) -> 52167 | M52: =SUM(M5,M10,M15,M20,M25) -> 50375 | N52: =SUM(N5,N10,N15,N20,N25) -> 44133 | O52: =SUM(O5,O10,O15,O20,O25) -> 215197 | R52: Gas | S52: =K52-C52 -> -3552 | T52: =L52-D52 -> -2589 | U52: =M52-E52 -> -2385 | V52: =N52-F52 -> -1978 | W52: =O52-G52 -> -10504 | Z52: Gas | AA52: =IF(C52>0,S52/C52,"") -> -0.049282682 | AB52: =IF(D52>0,T52/D52,"") -> -0.04728249 | AC52: =IF(E52>0,U52/E52,"") -> -0.045204701 | AD52: =IF(F52>0,V52/F52,"") -> -0.042896489 | AE52: =IF(G52>0,W52/G52,"") -> -0.046539448
