Workbook

Sheet Base Model 1
B1: Observed | J1: Base Model | R1: Difference (Base - Observed) | Z1: Percent Difference (Base - Observed)/Observed
C3: Age (years) | K3: Age (years) | S3: Age (years) | AA3: Age (years)
B4: Vehicle Type | C4: 1-5 | D4: 6-10 | E4: 11-15 | F4: 16-20+ | G4: Total | J4: Vehicle Type | K4: 1-5 | L4: 6-10 | M4: 11-15 | N4: 16-20+ | O4: Total | R4: Vehicle Type | S4: 1-5 | T4: 6-10 | U4: 11-15 | V4: 16-20+ | W4: Total | Z4: Vehicle Type | AA4: 1-5 | AB4: 6-10 | AC4: 11-15 | AD4: 16-20+ | AE4: Total
B5: Car-Gas | C5: =Paste!$H$5 -> 35106 | D5: =Paste!$H$10 -> 29243 | E5: =Paste!$H$15 -> 24405 | F5: =Paste!$H$20 -> 21052 | G5: =SUM(C5:F5) -> 109806 | J5: Car-Gas | K5: =Paste!$H$8 -> 35293 | L5: =Paste!$H$13 -> 27082 | M5: =Paste!$H$18 -> 24524 | N5: =Paste!$H$23 -> 20678 | O5: =SUM(K5:N5) -> 107577 | R5: Car-Gas | S5: =K5-C5 -> 187 | T5: =L5-D5 -> -2161 | U5: =M5-E5 -> 119 | V5: =N5-F5 -> -374 | W5: =O5-G5 -> -2229 | Z5: Car-Gas | AA5: =IF(C5>0,S5/C5,"") -> 0.0053267248 | AB5: =IF(D5>0,T5/D5,"") -> -0.073898027 | AC5: =IF(E5>0,U5/E5,"") -> 0.00487605 | AD5: =IF(F5>0,V5/F5,"") -> -0.017765533 | AE5: =IF(G5>0,W5/G5,"") -> -0.020299437
B6: Car-Diesel | C6: =Paste!$H$25 -> 501 | D6: =Paste!$H$30 -> 241 | E6: =Paste!$H$35 -> 201 | F6: =Paste!$H$40 -> 183 | G6: =SUM(C6:F6) -> 1126 | J6: Car-Diesel | K6: =Paste!$H$28 -> 396 | L6: =Paste!$H$33 -> 279 | M6: =Paste!$H$38 -> 216 | N6: =Paste!$H$43 -> 160 | O6: =SUM(K6:N6) -> 1051 | R6: Car-Diesel | S6: =K6-C6 -> -105 | T6: =L6-D6 -> 38 | U6: =M6-E6 -> 15 | V6: =N6-F6 -> -23 | W6: =O6-G6 -> -75 | Z6: Car-Diesel | AA6: =IF(C6>0,S6/C6,"") -> -0.20958084 | AB6: =IF(D6>0,T6/D6,"") -> 0.15767635 | AC6: =IF(E6>0,U6/E6,"") -> 0.074626866 | AD6: =IF(F6>0,V6/F6,"") -> -0.12568306 | AE6: =IF(G6>0,W6/G6,"") -> -0.06660746
B7: Car-Hybrid | C7: =Paste!$H$45 -> 2305 | D7: =Paste!$H$50 -> 1497 | E7: =Paste!$H$55 -> 458 | F7: =Paste!$H$60 -> 27 | G7: =SUM(C7:F7) -> 4287 | J7: Car-Hybrid | K7: =Paste!$H$48 -> 2330 | L7: =Paste!$H$53 -> 972 | M7: =Paste!$H$58 -> 250 | N7: =Paste!$H$63 -> 71 | O7: =SUM(K7:N7) -> 3623 | R7: Car-Hybrid | S7: =K7-C7 -> 25 | T7: =L7-D7 -> -525 | U7: =M7-E7 -> -208 | V7: =N7-F7 -> 44 | W7: =O7-G7 -> -664 | Z7: Car-Hybrid | AA7: =IF(C7>0,S7/C7,"") -> 0.010845987 | AB7: =IF(D7>0,T7/D7,"") -> -0.3507014 | AC7: =IF(E7>0,U7/E7,"") -> -0.45414847 | AD7: =IF(F7>0,V7/F7,"") -> 1.6296296 | AE7: =IF(G7>0,W7/G7,"") -> -0.15488687
B8: Car-PEV | C8: =Paste!$H$65 -> 398 | D8: =Paste!$H$70 -> 24 | E8: =Paste!$H$75 -> 4 | F8: =Paste!$H$80 -> 0 | G8: =SUM(C8:F8) -> 426 | J8: Car-PEV | K8: =Paste!$H$68 -> 332 | L8: =Paste!$H$73 -> 42 | M8: =Paste!$H$78 -> 0 | N8: =Paste!$H$83 -> 1 | O8: =SUM(K8:N8) -> 375 | R8: Car-PEV | S8: =K8-C8 -> -66 | T8: =L8-D8 -> 18 | U8: =M8-E8 -> -4 | V8: =N8-F8 -> 1 | W8: =O8-G8 -> -51 | Z8: Car-PEV | AA8: =IF(C8>0,S8/C8,"") -> -0.16582915 | AB8: =IF(D8>0,T8/D8,"") -> 0.75 | AC8: =IF(E8>0,U8/E8,"") -> -1 | AD8: =IF(F8>0,V8/F8,"") | AE8: =IF(G8>0,W8/G8,"") -> -0.11971831
B9: Car-BEV | C9: =Paste!$H$85 -> 411 | D9: =Paste!$H$90 -> 27 | E9: =Paste!$H$95 -> 2 | F9: =Paste!$H$200 -> 0 | G9: =SUM(C9:F9) -> 440 | J9: Car-BEV | K9: =Paste!$H$88 -> 336 | L9: =Paste!$H$93 -> 42 | M9: =Paste!$H$98 -> 0 | N9: =Paste!$H$203 -> 0 | O9: =SUM(K9:N9) -> 378 | R9: Car-BEV | S9: =K9-C9 -> -75 | T9: =L9-D9 -> 15 | U9: =M9-E9 -> -2 | V9: =N9-F9 -> 0 | W9: =O9-G9 -> -62 | Z9: Car-BEV | AA9: =IF(C9>0,S9/C9,"") -> -0.18248175 | AB9: =IF(D9>0,T9/D9,"") -> 0.55555556 | AC9: =IF(E9>0,U9/E9,"") -> -1 | AD9: =IF(F9>0,V9/F9,"") | AE9: =IF(G9>0,W9/G9,"") -> -0.14090909
B10: Van-Gas | C10: =Paste!$H$105 -> 3344 | D10: =Paste!$H$110 -> 3076 | E10: =Paste!$H$115 -> 3513 | F10: =Paste!$H$120 -> 2489 | G10: =SUM(C10:F10) -> 12422 | J10: Van-Gas | K10: =Paste!$H$108 -> 3375 | L10: =Paste!$H$113 -> 3251 | M10: =Paste!$H$118 -> 4219 | N10: =Paste!$H$123 -> 3050 | O10: =SUM(K10:N10) -> 13895 | R10: Van-Gas | S10: =K10-C10 -> 31 | T10: =L10-D10 -> 175 | U10: =M10-E10 -> 706 | V10: =N10-F10 -> 561 | W10: =O10-G10 -> 1473 | Z10: Van-Gas | AA10: =IF(C10>0,S10/C10,"") -> 0.0092703349 | AB10: =IF(D10>0,T10/D10,"") -> 0.056892068 | AC10: =IF(E10>0,U10/E10,"") -> 0.20096783 | AD10: =IF(F10>0,V10/F10,"") -> 0.22539172 | AE10: =IF(G10>0,W10/G10,"") -> 0.11857994
B11: Van-Diesel | C11: =Paste!$H$125 -> 28 | D11: =Paste!$H$130 -> 13 | E11: =Paste!$H$135 -> 27 | F11: =Paste!$H$140 -> 23 | G11: =SUM(C11:F11) -> 91 | J11: Van-Diesel | K11: =Paste!$H$128 -> 27 | L11: =Paste!$H$133 -> 24 | M11: =Paste!$H$138 -> 27 | N11: =Paste!$H$143 -> 17 | O11: =SUM(K11:N11) -> 95 | R11: Van-Diesel | S11: =K11-C11 -> -1 | T11: =L11-D11 -> 11 | U11: =M11-E11 -> 0 | V11: =N11-F11 -> -6 | W11: =O11-G11 -> 4 | Z11: Van-Diesel | AA11: =IF(C11>0,S11/C11,"") -> -0.035714286 | AB11: =IF(D11>0,T11/D11,"") -> 0.84615385 | AC11: =IF(E11>0,U11/E11,"") -> 0 | AD11: =IF(F11>0,V11/F11,"") -> -0.26086957 | AE11: =IF(G11>0,W11/G11,"") -> 0.043956044
B12: Van-Hybrid | C12: =Paste!$H$145 -> 11 | D12: =Paste!$H$150 -> 1 | E12: =Paste!$H$155 -> 2 | F12: =Paste!$H$160 -> 0 | G12: =SUM(C12:F12) -> 14 | J12: Van-Hybrid | K12: =Paste!$H$148 -> 7 | L12: =Paste!$H$153 -> 3 | M12: =Paste!$H$158 -> 1 | N12: =Paste!$H$163 -> 0 | O12: =SUM(K12:N12) -> 11 | R12: Van-Hybrid | S12: =K12-C12 -> -4 | T12: =L12-D12 -> 2 | U12: =M12-E12 -> -1 | V12: =N12-F12 -> 0 | W12: =O12-G12 -> -3 | Z12: Van-Hybrid | AA12: =IF(C12>0,S12/C12,"") -> -0.36363636 | AB12: =IF(D12>0,T12/D12,"") -> 2 | AC12: =IF(E12>0,U12/E12,"") -> -0.5 | AD12: =IF(F12>0,V12/F12,"") | AE12: =IF(G12>0,W12/G12,"") -> -0.21428571
B13: Van-PEV | C13: =Paste!$H$165 -> 3 | D13: =Paste!$H$170 -> 0 | E13: =Paste!$H$175 -> 0 | F13: =Paste!$H$180 -> 0 | G13: =SUM(C13:F13) -> 3 | J13: Van-PEV | K13: =Paste!$H$168 -> 1 | L13: =Paste!$H$173 -> 0 | M13: =Paste!$H$178 -> 0 | N13: =Paste!$H$183 -> 0 | O13: =SUM(K13:N13) -> 1 | R13: Van-PEV | S13: =K13-C13 -> -2 | T13: =L13-D13 -> 0 | U13: =M13-E13 -> 0 | V13: =N13-F13 -> 0 | W13: =O13-G13 -> -2 | Z13: Van-PEV | AA13: =IF(C13>0,S13/C13,"") -> -0.66666667 | AB13: =IF(D13>0,T13/D13,"") | AC13: =IF(E13>0,U13/E13,"") | AD13: =IF(F13>0,V13/F13,"") | AE13: =IF(G13>0,W13/G13,"") -> -0.66666667
B14: Van-BEV | C14: =Paste!$H$185 -> 1 | D14: =Paste!$H$190 -> 0 | E14: =Paste!$H$195 -> 0 | F14: =Paste!$H$200 -> 0 | G14: =SUM(C14:F14) -> 1 | J14: Van-BEV | K14: =Paste!$H$188 -> 2 | L14: =Paste!$H$193 -> 0 | M14: =Paste!$H$198 -> 0 | N14: =Paste!$H$203 -> 0 | O14: =SUM(K14:N14) -> 2 | R14: Van-BEV | S14: =K14-C14 -> 1 | T14: =L14-D14 -> 0 | U14: =M14-E14 -> 0 | V14: =N14-F14 -> 0 | W14: =O14-G14 -> 1 | Z14: Van-BEV | AA14: =IF(C14>0,S14/C14,"") -> 1 | AB14: =IF(D14>0,T14/D14,"") | AC14: =IF(E14>0,U14/E14,"") | AD14: =IF(F14>0,V14/F14,"") | AE14: =IF(G14>0,W14/G14,"") -> 1
B15: SUV-Gas | C15: =Paste!$H$205 -> 24826 | D15: =Paste!$H$210 -> 14179 | E15: =Paste!$H$215 -> 11355 | F15: =Paste!$H$220 -> 6461 | G15: =SUM(C15:F15) -> 56821 | J15: SUV-Gas | K15: =Paste!$H$208 -> 23914 | L15: =Paste!$H$213 -> 13673 | M15: =Paste!$H$218 -> 7035 | N15: =Paste!$H$223 -> 4740 | O15: =SUM(K15:N15) -> 49362 | R15: SUV-Gas | S15: =K15-C15 -> -912 | T15: =L15-D15 -> -506 | U15: =M15-E15 -> -4320 | V15: =N15-F15 -> -1721 | W15: =O15-G15 -> -7459 | Z15: SUV-Gas | AA15: =IF(C15>0,S15/C15,"") -> -0.03673568 | AB15: =IF(D15>0,T15/D15,"") -> -0.035686579 | AC15: =IF(E15>0,U15/E15,"") -> -0.38044914 | AD15: =IF(F15>0,V15/F15,"") -> -0.26636744 | AE15: =IF(G15>0,W15/G15,"") -> -0.13127189
B16: SUV-Diesel | C16: =Paste!$H$225 -> 203 | D16: =Paste!$H$230 -> 46 | E16: =Paste!$H$235 -> 69 | F16: =Paste!$H$240 -> 43 | G16: =SUM(C16:F16) -> 361 | J16: SUV-Diesel | K16: =Paste!$H$228 -> 163 | L16: =Paste!$H$233 -> 87 | M16: =Paste!$H$238 -> 38 | N16: =Paste!$H$243 -> 22 | O16: =SUM(K16:N16) -> 310 | R16: SUV-Diesel | S16: =K16-C16 -> -40 | T16: =L16-D16 -> 41 | U16: =M16-E16 -> -31 | V16: =N16-F16 -> -21 | W16: =O16-G16 -> -51 | Z16: SUV-Diesel | AA16: =IF(C16>0,S16/C16,"") -> -0.19704433 | AB16: =IF(D16>0,T16/D16,"") -> 0.89130435 | AC16: =IF(E16>0,U16/E16,"") -> -0.44927536 | AD16: =IF(F16>0,V16/F16,"") -> -0.48837209 | AE16: =IF(G16>0,W16/G16,"") -> -0.14127424
B17: SUV-Hybrid | C17: =Paste!$H$245 -> 196 | D17: =Paste!$H$250 -> 217 | E17: =Paste!$H$255 -> 88 | F17: =Paste!$H$260 -> 4 | G17: =SUM(C17:F17) -> 505 | J17: SUV-Hybrid | K17: =Paste!$H$248 -> 309 | L17: =Paste!$H$253 -> 102 | M17: =Paste!$H$258 -> 14 | N17: =Paste!$H$263 -> 3 | O17: =SUM(K17:N17) -> 428 | R17: SUV-Hybrid | S17: =K17-C17 -> 113 | T17: =L17-D17 -> -115 | U17: =M17-E17 -> -74 | V17: =N17-F17 -> -1 | W17: =O17-G17 -> -77 | Z17: SUV-Hybrid | AA17: =IF(C17>0,S17/C17,"") -> 0.57653061 | AB17: =IF(D17>0,T17/D17,"") -> -0.52995392 | AC17: =IF(E17>0,U17/E17,"") -> -0.84090909 | AD17: =IF(F17>0,V17/F17,"") -> -0.25 | AE17: =IF(G17>0,W17/G17,"") -> -0.15247525
B18: SUV-PEV | C18: =Paste!$H$265 -> 16 | D18: =Paste!$H$270 -> 4 | E18: =Paste!$H$275 -> 0 | F18: =Paste!$H$280 -> 0 | G18: =SUM(C18:F18) -> 20 | J18: SUV-PEV | K18: =Paste!$H$268 -> 13 | L18: =Paste!$H$273 -> 1 | M18: =Paste!$H$278 -> 0 | N18: =Paste!$H$283 -> 0 | O18: =SUM(K18:N18) -> 14 | R18: SUV-PEV | S18: =K18-C18 -> -3 | T18: =L18-D18 -> -3 | U18: =M18-E18 -> 0 | V18: =N18-F18 -> 0 | W18: =O18-G18 -> -6 | Z18: SUV-PEV | AA18: =IF(C18>0,S18/C18,"") -> -0.1875 | AB18: =IF(D18>0,T18/D18,"") -> -0.75 | AC18: =IF(E18>0,U18/E18,"") | AD18: =IF(F18>0,V18/F18,"") | AE18: =IF(G18>0,W18/G18,"") -> -0.3
B19: SUV-BEV | C19: =Paste!$H$285 -> 11 | D19: =Paste!$H$290 -> 0 | E19: =Paste!$H$295 -> 0 | F19: =Paste!$H$300 -> 0 | G19: =SUM(C19:F19) -> 11 | J19: SUV-BEV | K19: =Paste!$H$288 -> 13 | L19: =Paste!$H$293 -> 1 | M19: =Paste!$H$298 -> 0 | N19: =Paste!$H$303 -> 0 | O19: =SUM(K19:N19) -> 14 | R19: SUV-BEV | S19: =K19-C19 -> 2 | T19: =L19-D19 -> 1 | U19: =M19-E19 -> 0 | V19: =N19-F19 -> 0 | W19: =O19-G19 -> 3 | Z19: SUV-BEV | AA19: =IF(C19>0,S19/C19,"") -> 0.18181818 | AB19: =IF(D19>0,T19/D19,"") | AC19: =IF(E19>0,U19/E19,"") | AD19: =IF(F19>0,V19/F19,"") | AE19: =IF(G19>0,W19/G19,"") -> 0.27272727
B20: Pickup-Gas | C20: =Paste!$H$305 -> 8781 | D20: =Paste!$H$310 -> 7487 | E20: =Paste!$H$315 -> 9934 | F20: =Paste!$H$320 -> 13399 | G20: =SUM(C20:F20) -> 39601 | J20: Pickup-Gas | K20: =Paste!$H$308 -> 8067 | L20: =Paste!$H$313 -> 9282 | M20: =Paste!$H$318 -> 15127 | N20: =Paste!$H$323 -> 15540 | O20: =SUM(K20:N20) -> 48016 | R20: Pickup-Gas | S20: =K20-C20 -> -714 | T20: =L20-D20 -> 1795 | U20: =M20-E20 -> 5193 | V20: =N20-F20 -> 2141 | W20: =O20-G20 -> 8415 | Z20: Pickup-Gas | AA20: =IF(C20>0,S20/C20,"") -> -0.081311923 | AB20: =IF(D20>0,T20/D20,"") -> 0.2397489 | AC20: =IF(E20>0,U20/E20,"") -> 0.52275015 | AD20: =IF(F20>0,V20/F20,"") -> 0.15978804 | AE20: =IF(G20>0,W20/G20,"") -> 0.21249463
B21: Pickup-Diesel | C21: =Paste!$H$325 -> 1160 | D21: =Paste!$H$330 -> 874 | E21: =Paste!$H$335 -> 1550 | F21: =Paste!$H$340 -> 1318 | G21: =SUM(C21:F21) -> 4902 | J21: Pickup-Diesel | K21: =Paste!$H$328 -> 1146 | L21: =Paste!$H$333 -> 1189 | M21: =Paste!$H$338 -> 1683 | N21: =Paste!$H$343 -> 1528 | O21: =SUM(K21:N21) -> 5546 | R21: Pickup-Diesel | S21: =K21-C21 -> -14 | T21: =L21-D21 -> 315 | U21: =M21-E21 -> 133 | V21: =N21-F21 -> 210 | W21: =O21-G21 -> 644 | Z21: Pickup-Diesel | AA21: =IF(C21>0,S21/C21,"") -> -0.012068966 | AB21: =IF(D21>0,T21/D21,"") -> 0.3604119 | AC21: =IF(E21>0,U21/E21,"") -> 0.085806452 | AD21: =IF(F21>0,V21/F21,"") -> 0.15933232 | AE21: =IF(G21>0,W21/G21,"") -> 0.13137495
B22: Pickup-Hybrid | C22: =Paste!$H$345 -> 3 | D22: =Paste!$H$350 -> 4 | E22: =Paste!$H$355 -> 2 | F22: =Paste!$H$360 -> 1 | G22: =SUM(C22:F22) -> 10 | J22: Pickup-Hybrid | K22: =Paste!$H$348 -> 4 | L22: =Paste!$H$353 -> 2 | M22: =Paste!$H$358 -> 1 | N22: =Paste!$H$363 -> 0 | O22: =SUM(K22:N22) -> 7 | R22: Pickup-Hybrid | S22: =K22-C22 -> 1 | T22: =L22-D22 -> -2 | U22: =M22-E22 -> -1 | V22: =N22-F22 -> -1 | W22: =O22-G22 -> -3 | Z22: Pickup-Hybrid | AA22: =IF(C22>0,S22/C22,"") -> 0.33333333 | AB22: =IF(D22>0,T22/D22,"") -> -0.5 | AC22: =IF(E22>0,U22/E22,"") -> -0.5 | AD22: =IF(F22>0,V22/F22,"") -> -1 | AE22: =IF(G22>0,W22/G22,"") -> -0.3
B23: Pickup-PEV | C23: =Paste!$H$365 -> 0 | D23: =Paste!$H$370 -> 0 | E23: =Paste!$H$375 -> 0 | F23: =Paste!$H$380 -> 0 | G23: =SUM(C23:F23) -> 0 | J23: Pickup-PEV | K23: =Paste!$H$368 -> 0 | L23: =Paste!$H$373 -> 0 | M23: =Paste!$H$378 -> 0 | N23: =Paste!$H$383 -> 0 | O23: =SUM(K23:N23) -> 0 | R23: Pickup-PEV | S23: =K23-C23 -> 0 | T23: =L23-D23 -> 0 | U23: =M23-E23 -> 0 | V23: =N23-F23 -> 0 | W23: =O23-G23 -> 0 | Z23: Pickup-PEV | AA23: =IF(C23>0,S23/C23,"") | AB23: =IF(D23>0,T23/D23,"") | AC23: =IF(E23>0,U23/E23,"") | AD23: =IF(F23>0,V23/F23,"") | AE23: =IF(G23>0,W23/G23,"")
B24: Pickup-BEV | C24: =Paste!$H$385 -> 1 | D24: =Paste!$H$390 -> 0 | E24: =Paste!$H$395 -> 0 | F24: =Paste!$H$400 -> 0 | G24: =SUM(C24:F24) -> 1 | J24: Pickup-BEV | K24: =Paste!$H$388 -> 0 | L24: =Paste!$H$393 -> 0 | M24: =Paste!$H$398 -> 0 | N24: =Paste!$H$403 -> 0 | O24: =SUM(K24:N24) -> 0 | R24: Pickup-BEV | S24: =K24-C24 -> -1 | T24: =L24-D24 -> 0 | U24: =M24-E24 -> 0 | V24: =N24-F24 -> 0 | W24: =O24-G24 -> -1 | Z24: Pickup-BEV | AA24: =IF(C24>0,S24/C24,"") -> -1 | AB24: =IF(D24>0,T24/D24,"") | AC24: =IF(E24>0,U24/E24,"") | AD24: =IF(F24>0,V24/F24,"") | AE24: =IF(G24>0,W24/G24,"") -> -1
B25: Motorcycle-Gas | C25: =Paste!$H$405 -> 1370 | D25: =Paste!$H$410 -> 1637 | E25: =Paste!$H$415 -> 1752 | F25: =Paste!$H$420 -> 1951 | G25: =SUM(C25:F25) -> 6710 | J25: Motorcycle-Gas | K25: =Paste!$H$408 -> 1425 | L25: =Paste!$H$413 -> 1468 | M25: =Paste!$H$418 -> 1855 | N25: =Paste!$H$423 -> 2103 | O25: =SUM(K25:N25) -> 6851 | R25: Motorcycle-Gas | S25: =K25-C25 -> 55 | T25: =L25-D25 -> -169 | U25: =M25-E25 -> 103 | V25: =N25-F25 -> 152 | W25: =O25-G25 -> 141 | Z25: Motorcycle-Gas | AA25: =IF(C25>0,S25/C25,"") -> 0.040145985 | AB25: =IF(D25>0,T25/D25,"") -> -0.10323763 | AC25: =IF(E25>0,U25/E25,"") -> 0.058789954 | AD25: =IF(F25>0,V25/F25,"") -> 0.077908765 | AE25: =IF(G25>0,W25/G25,"") -> 0.021013413
B26: Motorcycle-Diesel | C26: =Paste!$H$425 -> 0 | D26: =Paste!$H$430 -> 0 | E26: =Paste!$H$435 -> 0 | F26: =Paste!$H$440 -> 0 | G26: =SUM(C26:F26) -> 0 | J26: Motorcycle-Diesel | K26: =Paste!$H$428 -> 0 | L26: =Paste!$H$433 -> 0 | M26: =Paste!$H$438 -> 0 | N26: =Paste!$H$443 -> 0 | O26: =SUM(K26:N26) -> 0 | R26: Motorcycle-Diesel | S26: =K26-C26 -> 0 | T26: =L26-D26 -> 0 | U26: =M26-E26 -> 0 | V26: =N26-F26 -> 0 | W26: =O26-G26 -> 0 | Z26: Motorcycle-Diesel | AA26: =IF(C26>0,S26/C26,"") | AB26: =IF(D26>0,T26/D26,"") | AC26: =IF(E26>0,U26/E26,"") | AD26: =IF(F26>0,V26/F26,"") | AE26: =IF(G26>0,W26/G26,"")
B27: Motorcycle-Hybrid | C27: =Paste!$H$445 -> 0 | D27: =Paste!$H$450 -> 0 | E27: =Paste!$H$455 -> 0 | F27: =Paste!$H$460 -> 0 | G27: =SUM(C27:F27) -> 0 | J27: Motorcycle-Hybrid | K27: =Paste!$H$448 -> 0 | L27: =Paste!$H$453 -> 0 | M27: =Paste!$H$458 -> 0 | N27: =Paste!$H$463 -> 0 | O27: =SUM(K27:N27) -> 0 | R27: Motorcycle-Hybrid | S27: =K27-C27 -> 0 | T27: =L27-D27 -> 0 | U27: =M27-E27 -> 0 | V27: =N27-F27 -> 0 | W27: =O27-G27 -> 0 | Z27: Motorcycle-Hybrid | AA27: =IF(C27>0,S27/C27,"") | AB27: =IF(D27>0,T27/D27,"") | AC27: =IF(E27>0,U27/E27,"") | AD27: =IF(F27>0,V27/F27,"") | AE27: =IF(G27>0,W27/G27,"")
B28: Motorcycle-PEV | C28: =Paste!$H$465 -> 0 | D28: =Paste!$H$470 -> 0 | E28: =Paste!$H$475 -> 0 | F28: =Paste!$H$480 -> 0 | G28: =SUM(C28:F28) -> 0 | J28: Motorcycle-PEV | K28: =Paste!$H$468 -> 0 | L28: =Paste!$H$473 -> 0 | M28: =Paste!$H$478 -> 0 | N28: =Paste!$H$483 -> 0 | O28: =SUM(K28:N28) -> 0 | R28: Motorcycle-PEV | S28: =K28-C28 -> 0 | T28: =L28-D28 -> 0 | U28: =M28-E28 -> 0 | V28: =N28-F28 -> 0 | W28: =O28-G28 -> 0 | Z28: Motorcycle-PEV | AA28: =IF(C28>0,S28/C28,"") | AB28: =IF(D28>0,T28/D28,"") | AC28: =IF(E28>0,U28/E28,"") | AD28: =IF(F28>0,V28/F28,"") | AE28: =IF(G28>0,W28/G28,"")
B29: Motorcycle-BEV | C29: =Paste!$H$485 -> 12 | D29: =Paste!$H$490 -> 7 | E29: =Paste!$H$495 -> 0 | F29: =Paste!$H$500 -> 0 | G29: =SUM(C29:F29) -> 19 | J29: Motorcycle-BEV | K29: =Paste!$H$488 -> 14 | L29: =Paste!$H$493 -> 2 | M29: =Paste!$H$498 -> 0 | N29: =Paste!$H$503 -> 0 | O29: =SUM(K29:N29) -> 16 | R29: Motorcycle-BEV | S29: =K29-C29 -> 2 | T29: =L29-D29 -> -5 | U29: =M29-E29 -> 0 | V29: =N29-F29 -> 0 | W29: =O29-G29 -> -3 | Z29: Motorcycle-BEV | AA29: =IF(C29>0,S29/C29,"") -> 0.16666667 | AB29: =IF(D29>0,T29/D29,"") -> -0.71428571 | AC29: =IF(E29>0,U29/E29,"") | AD29: =IF(F29>0,V29/F29,"") | AE29: =IF(G29>0,W29/G29,"") -> -0.15789474
B30: Total | C30: =SUM(C5:C29) -> 78687 | D30: =SUM(D5:D29) -> 58577 | E30: =SUM(E5:E29) -> 53362 | F30: =SUM(F5:F29) -> 46951 | G30: =SUM(G5:G29) -> 237577 | J30: Total | K30: =SUM(K5:K29) -> 77167 | L30: =SUM(L5:L29) -> 57502 | M30: =SUM(M5:M29) -> 54990 | N30: =SUM(N5:N29) -> 47913 | O30: =SUM(K30:N30) -> 237572 | R30: Total | S30: =K30-C30 -> -1520 | T30: =L30-D30 -> -1075 | U30: =M30-E30 -> 1628 | V30: =N30-F30 -> 962 | W30: =O30-G30 -> -5 | Z30: Total | AA30: =IF(C30>0,S30/C30,"") -> -0.019317041 | AB30: =IF(D30>0,T30/D30,"") -> -0.018351913 | AC30: =IF(E30>0,U30/E30,"") -> 0.030508602 | AD30: =IF(F30>0,V30/F30,"") -> 0.020489446 | AE30: =IF(G30>0,W30/G30,"") -> -2.1045808e-05
C32: Fuel Type | K32: Fuel Type | S32: Fuel Type | AA32: Fuel Type
B33: Body Type | C33: Gas | D33: Diesel | E33: Hybrid | F33: PEV | G33: BEV | H33: Total | J33: Body Type | K33: Gas | L33: Diesel | M33: Hybrid | N33: PEV | O33: BEV | P33: Total | R33: Body Type | S33: Gas | T33: Diesel | U33: Hybrid | V33: PEV | W33: BEV | X33: Total | Z33: Body Type | AA33: Gas | AB33: Diesel | AC33: Hybrid | AD33: PEV | AE33: BEV | AF33: Total
B34: Car | C34: =G5 -> 109806 | D34: =G6 -> 1126 | E34: =G7 -> 4287 | F34: =G8 -> 426 | G34: =G9 -> 440 | H34: =SUM(C34:G34) -> 116085 | J34: Car | K34: =O5 -> 107577 | L34: =O6 -> 1051 | M34: =O7 -> 3623 | N34: =O8 -> 375 | O34: =O9 -> 378 | P34: =SUM(K34:O34) -> 113004 | R34: Car | S34: =K34-C34 -> -2229 | T34: =L34-D34 -> -75 | U34: =M34-E34 -> -664 | V34: =N34-F34 -> -51 | W34: =O34-G34 -> -62 | X34: =P34-H34 -> -3081 | Z34: Car | AA34: =IF(C34>0,S34/C34,"") -> -0.020299437 | AB34: =IF(D34>0,T34/D34,"") -> -0.06660746 | AC34: =IF(E34>0,U34/E34,"") -> -0.15488687 | AD34: =IF(F34>0,V34/F34,"") -> -0.11971831 | AE34: =IF(G34>0,W34/G34,"") -> -0.14090909 | AF34: =IF(H34>0,X34/H34,"") -> -0.026540897
B35: Van | C35: =G10 -> 12422 | D35: =G11 -> 91 | E35: =G12 -> 14 | F35: =G13 -> 3 | G35: =G14 -> 1 | H35: =SUM(C35:G35) -> 12531 | J35: Van | K35: =O10 -> 13895 | L35: =O11 -> 95 | M35: =O12 -> 11 | N35: =O13 -> 1 | O35: =O14 -> 2 | P35: =SUM(K35:O35) -> 14004 | R35: Van | S35: =K35-C35 -> 1473 | T35: =L35-D35 -> 4 | U35: =M35-E35 -> -3 | V35: =N35-F35 -> -2 | W35: =O35-G35 -> 1 | X35: =P35-H35 -> 1473 | Z35: Van | AA35: =IF(C35>0,S35/C35,"") -> 0.11857994 | AB35: =IF(D35>0,T35/D35,"") -> 0.043956044 | AC35: =IF(E35>0,U35/E35,"") -> -0.21428571 | AD35: =IF(F35>0,V35/F35,"") -> -0.66666667 | AE35: =IF(G35>0,W35/G35,"") -> 1 | AF35: =IF(H35>0,X35/H35,"") -> 0.11754848
B36: SUV | C36: =G15 -> 56821 | D36: =G16 -> 361 | E36: =G17 -> 505 | F36: =G18 -> 20 | G36: =G19 -> 11 | H36: =SUM(C36:G36) -> 57718 | J36: SUV | K36: =O15 -> 49362 | L36: =O16 -> 310 | M36: =O17 -> 428 | N36: =O18 -> 14 | O36: =O19 -> 14 | P36: =SUM(K36:O36) -> 50128 | R36: SUV | S36: =K36-C36 -> -7459 | T36: =L36-D36 -> -51 | U36: =M36-E36 -> -77 | V36: =N36-F36 -> -6 | W36: =O36-G36 -> 3 | X36: =P36-H36 -> -7590 | Z36: SUV | AA36: =IF(C36>0,S36/C36,"") -> -0.13127189 | AB36: =IF(D36>0,T36/D36,"") -> -0.14127424 | AC36: =IF(E36>0,U36/E36,"") -> -0.15247525 | AD36: =IF(F36>0,V36/F36,"") -> -0.3 | AE36: =IF(G36>0,W36/G36,"") -> 0.27272727 | AF36: =IF(H36>0,X36/H36,"") -> -0.13150144
B37: Pickup | C37: =G20 -> 39601 | D37: =G21 -> 4902 | E37: =G22 -> 10 | F37: =G23 -> 0 | G37: =G24 -> 1 | H37: =SUM(C37:G37) -> 44514 | J37: Pickup | K37: =O20 -> 48016 | L37: =O21 -> 5546 | M37: =O22 -> 7 | N37: =O23 -> 0 | O37: =O24 -> 0 | P37: =SUM(K37:O37) -> 53569 | R37: Pickup | S37: =K37-C37 -> 8415 | T37: =L37-D37 -> 644 | U37: =M37-E37 -> -3 | V37: =N37-F37 -> 0 | W37: =O37-G37 -> -1 | X37: =P37-H37 -> 9055 | Z37: Pickup | AA37: =IF(C37>0,S37/C37,"") -> 0.21249463 | AB37: =IF(D37>0,T37/D37,"") -> 0.13137495 | AC37: =IF(E37>0,U37/E37,"") -> -0.3 | AD37: =IF(F37>0,V37/F37,"") | AE37: =IF(G37>0,W37/G37,"") -> -1 | AF37: =IF(H37>0,X37/H37,"") -> 0.20341915
B38: Motorcycle | C38: =G25 -> 6710 | D38: =G26 -> 0 | E38: =G27 -> 0 | F38: =G28 -> 0 | G38: =G29 -> 19 | H38: =SUM(C38:G38) -> 6729 | J38: Motorcycle | K38: =O25 -> 6851 | L38: =O26 -> 0 | M38: =O27 -> 0 | N38: =O28 -> 0 | O38: =O29 -> 16 | P38: =SUM(K38:O38) -> 6867 | R38: Motorcycle | S38: =K38-C38 -> 141 | T38: =L38-D38 -> 0 | U38: =M38-E38 -> 0 | V38: =N38-F38 -> 0 | W38: =O38-G38 -> -3 | X38: =P38-H38 -> 138 | Z38: Motorcycle | AA38: =IF(C38>0,S38/C38,"") -> 0.021013413 | AB38: =IF(D38>0,T38/D38,"") | AC38: =IF(E38>0,U38/E38,"") | AD38: =IF(F38>0,V38/F38,"") | AE38: =IF(G38>0,W38/G38,"") -> -0.15789474 | AF38: =IF(H38>0,X38/H38,"") -> 0.020508248
B39: Total | C39: =SUM(C34:C38) -> 225360 | D39: =SUM(D34:D38) -> 6480 | E39: =SUM(E34:E38) -> 4816 | F39: =SUM(F34:F38) -> 449 | G39: =SUM(G34:G38) -> 472 | H39: =SUM(C39:G39) -> 237577 | J39: Total | K39: =SUM(K34:K38) -> 225701 | L39: =SUM(L34:L38) -> 7002 | M39: =SUM(M34:M38) -> 4069 | N39: =SUM(N34:N38) -> 390 | O39: =SUM(O34:O38) -> 410 | P39: =SUM(K39:O39) -> 237572 | R39: Total | S39: =K39-C39 -> 341 | T39: =L39-D39 -> 522 | U39: =M39-E39 -> -747 | V39: =N39-F39 -> -59 | W39: =O39-G39 -> -62 | X39: =P39-H39 -> -5 | Z39: Total | AA39: =IF(C39>0,S39/C39,"") -> 0.0015131345 | AB39: =IF(D39>0,T39/D39,"") -> 0.080555556 | AC39: =IF(E39>0,U39/E39,"") -> -0.15510797 | AD39: =IF(F39>0,V39/F39,"") -> -0.13140312 | AE39: =IF(G39>0,W39/G39,"") -> -0.13135593 | AF39: =IF(H39>0,X39/H39,"") -> -2.1045808e-05
C41: Age (years) | K41: Age (years) | S41: Age (years) | AA41: Age (years)
B42: Body Type | C42: 1-5 | D42: 6-10 | E42: 11-15 | F42: 16-20+ | G42: Total | J42: Body Type | K42: 1-5 | L42: 6-10 | M42: 11-15 | N42: 16-20+ | O42: Total | R42: Body Type | S42: 1-5 | T42: 6-10 | U42: 11-15 | V42: 16-20+ | W42: Total | Z42: Body Type | AA42: 1-5 | AB42: 6-10 | AC42: 11-15 | AD42: 16-20+ | AE42: Total
B43: Car | C43: =SUM(C5:C9) -> 38721 | D43: =SUM(D5:D9) -> 31032 | E43: =SUM(E5:E9) -> 25070 | F43: =SUM(F5:F9) -> 21262 | G43: =SUM(G5:G9) -> 116085 | J43: Car | K43: =SUM(K5:K9) -> 38687 | L43: =SUM(L5:L9) -> 28417 | M43: =SUM(M5:M9) -> 24990 | N43: =SUM(N5:N9) -> 20910 | O43: =SUM(O5:O9) -> 113004 | R43: Car | S43: =K43-C43 -> -34 | T43: =L43-D43 -> -2615 | U43: =M43-E43 -> -80 | V43: =N43-F43 -> -352 | W43: =O43-G43 -> -3081 | Z43: Car | AA43: =IF(C43>0,S43/C43,"") -> -0.0008780765 | AB43: =IF(D43>0,T43/D43,"") -> -0.084267853 | AC43: =IF(E43>0,U43/E43,"") -> -0.003191065 | AD43: =IF(F43>0,V43/F43,"") -> -0.016555357 | AE43: =IF(G43>0,W43/G43,"") -> -0.026540897
...

Sheet Base Model 2
B1: Observed | J1: Base Model | R1: Difference (Base - Observed) | Z1: Percent Difference (Base - Observed)/Observed
C3: Age (years) | K3: Age (years) | S3: Age (years) | AA3: Age (years)
B4: Vehicle Type | C4: 1-5 | D4: 6-10 | E4: 11-15 | F4: 16-20+ | G4: Total | J4: Vehicle Type | K4: 1-5 | L4: 6-10 | M4: 11-15 | N4: 16-20+ | O4: Total | R4: Vehicle Type | S4: 1-5 | T4: 6-10 | U4: 11-15 | V4: 16-20+ | W4: Total | Z4: Vehicle Type | AA4: 1-5 | AB4: 6-10 | AC4: 11-15 | AD4: 16-20+ | AE4: Total
B5: Car-Gas | C5: =Paste!$AR$5 -> 35106 | D5: =Paste!$AR$10 -> 29243 | E5: =Paste!$AR$15 -> 24405 | F5: =Paste!$AR$20 -> 21052 | G5: =SUM(C5:F5) -> 109806 | J5: Car-Gas | K5: =Paste!$AR$8 -> 34395 | L5: =Paste!$AR$13 -> 29101 | M5: =Paste!$AR$18 -> 26340 | N5: =Paste!$AR$23 -> 19866 | O5: =SUM(K5:N5) -> 109702 | R5: Car-Gas | S5: =K5-C5 -> -711 | T5: =L5-D5 -> -142 | U5: =M5-E5 -> 1935 | V5: =N5-F5 -> -1186 | W5: =O5-G5 -> -104 | Z5: Car-Gas | AA5: =IF(C5>0,S5/C5,"") -> -0.020252948 | AB5: =IF(D5>0,T5/D5,"") -> -0.0048558629 | AC5: =IF(E5>0,U5/E5,"") -> 0.079287031 | AD5: =IF(F5>0,V5/F5,"") -> -0.05633669 | AE5: =IF(G5>0,W5/G5,"") -> -0.00094712493
B6: Car-Diesel | C6: =Paste!$AR$25 -> 501 | D6: =Paste!$AR$30 -> 241 | E6: =Paste!$AR$35 -> 201 | F6: =Paste!$AR$40 -> 183 | G6: =SUM(C6:F6) -> 1126 | J6: Car-Diesel | K6: =Paste!$AR$28 -> 412 | L6: =Paste!$AR$33 -> 259 | M6: =Paste!$AR$38 -> 264 | N6: =Paste!$AR$43 -> 278 | O6: =SUM(K6:N6) -> 1213 | R6: Car-Diesel | S6: =K6-C6 -> -89 | T6: =L6-D6 -> 18 | U6: =M6-E6 -> 63 | V6: =N6-F6 -> 95 | W6: =O6-G6 -> 87 | Z6: Car-Diesel | AA6: =IF(C6>0,S6/C6,"") -> -0.17764471 | AB6: =IF(D6>0,T6/D6,"") -> 0.074688797 | AC6: =IF(E6>0,U6/E6,"") -> 0.31343284 | AD6: =IF(F6>0,V6/F6,"") -> 0.51912568 | AE6: =IF(G6>0,W6/G6,"") -> 0.077264654
B7: Car-Hybrid | C7: =Paste!$AR$45 -> 2305 | D7: =Paste!$AR$50 -> 1497 | E7: =Paste!$AR$55 -> 458 | F7: =Paste!$AR$60 -> 27 | G7: =SUM(C7:F7) -> 4287 | J7: Car-Hybrid | K7: =Paste!$AR$48 -> 2368 | L7: =Paste!$AR$53 -> 1097 | M7: =Paste!$AR$58 -> 835 | N7: =Paste!$AR$63 -> 0 | O7: =SUM(K7:N7) -> 4300 | R7: Car-Hybrid | S7: =K7-C7 -> 63 | T7: =L7-D7 -> -400 | U7: =M7-E7 -> 377 | V7: =N7-F7 -> -27 | W7: =O7-G7 -> 13 | Z7: Car-Hybrid | AA7: =IF(C7>0,S7/C7,"") -> 0.027331887 | AB7: =IF(D7>0,T7/D7,"") -> -0.26720107 | AC7: =IF(E7>0,U7/E7,"") -> 0.8231441 | AD7: =IF(F7>0,V7/F7,"") -> -1 | AE7: =IF(G7>0,W7/G7,"") -> 0.0030324236
B8: Car-PEV | C8: =Paste!$AR$65 -> 398 | D8: =Paste!$AR$70 -> 24 | E8: =Paste!$AR$75 -> 4 | F8: =Paste!$AR$80 -> 0 | G8: =SUM(C8:F8) -> 426 | J8: Car-PEV | K8: =Paste!$AR$68 -> 386 | L8: =Paste!$AR$73 -> 47 | M8: =Paste!$AR$78 -> 0 | N8: =Paste!$AR$83 -> 0 | O8: =SUM(K8:N8) -> 433 | R8: Car-PEV | S8: =K8-C8 -> -12 | T8: =L8-D8 -> 23 | U8: =M8-E8 -> -4 | V8: =N8-F8 -> 0 | W8: =O8-G8 -> 7 | Z8: Car-PEV | AA8: =IF(C8>0,S8/C8,"") -> -0.030150754 | AB8: =IF(D8>0,T8/D8,"") -> 0.95833333 | AC8: =IF(E8>0,U8/E8,"") -> -1 | AD8: =IF(F8>0,V8/F8,"") | AE8: =IF(G8>0,W8/G8,"") -> 0.016431925
B9: Car-BEV | C9: =Paste!$AR$85 -> 411 | D9: =Paste!$AR$90 -> 27 | E9: =Paste!$AR$95 -> 2 | F9: =Paste!$AR$200 -> 0 | G9: =SUM(C9:F9) -> 440 | J9: Car-BEV | K9: =Paste!$AR$88 -> 392 | L9: =Paste!$AR$93 -> 47 | M9: =Paste!$AR$98 -> 0 | N9: =Paste!$AR$203 -> 0 | O9: =SUM(K9:N9) -> 439 | R9: Car-BEV | S9: =K9-C9 -> -19 | T9: =L9-D9 -> 20 | U9: =M9-E9 -> -2 | V9: =N9-F9 -> 0 | W9: =O9-G9 -> -1 | Z9: Car-BEV | AA9: =IF(C9>0,S9/C9,"") -> -0.04622871 | AB9: =IF(D9>0,T9/D9,"") -> 0.74074074 | AC9: =IF(E9>0,U9/E9,"") -> -1 | AD9: =IF(F9>0,V9/F9,"") | AE9: =IF(G9>0,W9/G9,"") -> -0.0022727273
B10: Van-Gas | C10: =Paste!$AR$105 -> 3344 | D10: =Paste!$AR$110 -> 3076 | E10: =Paste!$AR$115 -> 3513 | F10: =Paste!$AR$120 -> 2489 | G10: =SUM(C10:F10) -> 12422 | J10: Van-Gas | K10: =Paste!$AR$108 -> 3759 | L10: =Paste!$AR$113 -> 2815 | M10: =Paste!$AR$118 -> 3055 | N10: =Paste!$AR$123 -> 2902 | O10: =SUM(K10:N10) -> 12531 | R10: Van-Gas | S10: =K10-C10 -> 415 | T10: =L10-D10 -> -261 | U10: =M10-E10 -> -458 | V10: =N10-F10 -> 413 | W10: =O10-G10 -> 109 | Z10: Van-Gas | AA10: =IF(C10>0,S10/C10,"") -> 0.12410287 | AB10: =IF(D10>0,T10/D10,"") -> -0.084850455 | AC10: =IF(E10>0,U10/E10,"") -> -0.1303729 | AD10: =IF(F10>0,V10/F10,"") -> 0.16593009 | AE10: =IF(G10>0,W10/G10,"") -> 0.0087747545
B11: Van-Diesel | C11: =Paste!$AR$125 -> 28 | D11: =Paste!$AR$130 -> 13 | E11: =Paste!$AR$135 -> 27 | F11: =Paste!$AR$140 -> 23 | G11: =SUM(C11:F11) -> 91 | J11: Van-Diesel | K11: =Paste!$AR$128 -> 0 | L11: =Paste!$AR$133 -> 0 | M11: =Paste!$AR$138 -> 0 | N11: =Paste!$AR$143 -> 0 | O11: =SUM(K11:N11) -> 0 | R11: Van-Diesel | S11: =K11-C11 -> -28 | T11: =L11-D11 -> -13 | U11: =M11-E11 -> -27 | V11: =N11-F11 -> -23 | W11: =O11-G11 -> -91 | Z11: Van-Diesel | AA11: =IF(C11>0,S11/C11,"") -> -1 | AB11: =IF(D11>0,T11/D11,"") -> -1 | AC11: =IF(E11>0,U11/E11,"") -> -1 | AD11: =IF(F11>0,V11/F11,"") -> -1 | AE11: =IF(G11>0,W11/G11,"") -> -1
B12: Van-Hybrid | C12: =Paste!$AR$145 -> 11 | D12: =Paste!$AR$150 -> 1 | E12: =Paste!$AR$155 -> 2 | F12: =Paste!$AR$160 -> 0 | G12: =SUM(C12:F12) -> 14 | J12: Van-Hybrid | K12: =Paste!$AR$148 -> 0 | L12: =Paste!$AR$153 -> 0 | M12: =Paste!$AR$158 -> 0 | N12: =Paste!$AR$163 -> 0 | O12: =SUM(K12:N12) -> 0 | R12: Van-Hybrid | S12: =K12-C12 -> -11 | T12: =L12-D12 -> -1 | U12: =M12-E12 -> -2 | V12: =N12-F12 -> 0 | W12: =O12-G12 -> -14 | Z12: Van-Hybrid | AA12: =IF(C12>0,S12/C12,"") -> -1 | AB12: =IF(D12>0,T12/D12,"") -> -1 | AC12: =IF(E12>0,U12/E12,"") -> -1 | AD12: =IF(F12>0,V12/F12,"") | AE12: =IF(G12>0,W12/G12,"") -> -1
B13: Van-PEV | C13: =Paste!$AR$165 -> 3 | D13: =Paste!$AR$170 -> 0 | E13: =Paste!$AR$175 -> 0 | F13: =Paste!$AR$180 -> 0 | G13: =SUM(C13:F13) -> 3 | J13: Van-PEV | K13: =Paste!$AR$168 -> 0 | L13: =Paste!$AR$173 -> 0 | M13: =Paste!$AR$178 -> 0 | N13: =Paste!$AR$183 -> 0 | O13: =SUM(K13:N13) -> 0 | R13: Van-PEV | S13: =K13-C13 -> -3 | T13: =L13-D13 -> 0 | U13: =M13-E13 -> 0 | V13: =N13-F13 -> 0 | W13: =O13-G13 -> -3 | Z13: Van-PEV | AA13: =IF(C13>0,S13/C13,"") -> -1 | AB13: =IF(D13>0,T13/D13,"") | AC13: =IF(E13>0,U13/E13,"") | AD13: =IF(F13>0,V13/F13,"") | AE13: =IF(G13>0,W13/G13,"") -> -1
B14: Van-BEV | C14: =Paste!$AR$185 -> 1 | D14: =Paste!$AR$190 -> 0 | E14: =Paste!$AR$195 -> 0 | F14: =Paste!$AR$200 -> 0 | G14: =SUM(C14:F14) -> 1 | J14: Van-BEV | K14: =Paste!$AR$188 -> 0 | L14: =Paste!$AR$193 -> 0 | M14: =Paste!$AR$198 -> 0 | N14: =Paste!$AR$203 -> 0 | O14: =SUM(K14:N14) -> 0 | R14: Van-BEV | S14: =K14-C14 -> -1 | T14: =L14-D14 -> 0 | U14: =M14-E14 -> 0 | V14: =N14-F14 -> 0 | W14: =O14-G14 -> -1 | Z14: Van-BEV | AA14: =IF(C14>0,S14/C14,"") -> -1 | AB14: =IF(D14>0,T14/D14,"") | AC14: =IF(E14>0,U14/E14,"") | AD14: =IF(F14>0,V14/F14,"") | AE14: =IF(G14>0,W14/G14,"") -> -1
B15: SUV-Gas | C15: =Paste!$AR$205 -> 24826 | D15: =Paste!$AR$210 -> 14179 | E15: =Paste!$AR$215 -> 11355 | F15: =Paste!$AR$220 -> 6461 | G15: =SUM(C15:F15) -> 56821 | J15: SUV-Gas | K15: =Paste!$AR$208 -> 23999 | L15: =Paste!$AR$213 -> 14883 | M15: =Paste!$AR$218 -> 10080 | N15: =Paste!$AR$223 -> 6263 | O15: =SUM(K15:N15) -> 55225 | R15: SUV-Gas | S15: =K15-C15 -> -827 | T15: =L15-D15 -> 704 | U15: =M15-E15 -> -1275 | V15: =N15-F15 -> -198 | W15: =O15-G15 -> -1596 | Z15: SUV-Gas | AA15: =IF(C15>0,S15/C15,"") -> -0.03331185 | AB15: =IF(D15>0,T15/D15,"") -> 0.049650892 | AC15: =IF(E15>0,U15/E15,"") -> -0.11228534 | AD15: =IF(F15>0,V15/F15,"") -> -0.030645411 | AE15: =IF(G15>0,W15/G15,"") -> -0.028088207
B16: SUV-Diesel | C16: =Paste!$AR$225 -> 203 | D16: =Paste!$AR$230 -> 46 | E16: =Paste!$AR$235 -> 69 | F16: =Paste!$AR$240 -> 43 | G16: =SUM(C16:F16) -> 361 | J16: SUV-Diesel | K16: =Paste!$AR$228 -> 749 | L16: =Paste!$AR$233 -> 428 | M16: =Paste!$AR$238 -> 403 | N16: =Paste!$AR$243 -> 363 | O16: =SUM(K16:N16) -> 1943 | R16: SUV-Diesel | S16: =K16-C16 -> 546 | T16: =L16-D16 -> 382 | U16: =M16-E16 -> 334 | V16: =N16-F16 -> 320 | W16: =O16-G16 -> 1582 | Z16: SUV-Diesel | AA16: =IF(C16>0,S16/C16,"") -> 2.6896552 | AB16: =IF(D16>0,T16/D16,"") -> 8.3043478 | AC16: =IF(E16>0,U16/E16,"") -> 4.8405797 | AD16: =IF(F16>0,V16/F16,"") -> 7.4418605 | AE16: =IF(G16>0,W16/G16,"") -> 4.3822715
B17: SUV-Hybrid | C17: =Paste!$AR$245 -> 196 | D17: =Paste!$AR$250 -> 217 | E17: =Paste!$AR$255 -> 88 | F17: =Paste!$AR$260 -> 4 | G17: =SUM(C17:F17) -> 505 | J17: SUV-Hybrid | K17: =Paste!$AR$248 -> 315 | L17: =Paste!$AR$253 -> 153 | M17: =Paste!$AR$258 -> 48 | N17: =Paste!$AR$263 -> 0 | O17: =SUM(K17:N17) -> 516 | R17: SUV-Hybrid | S17: =K17-C17 -> 119 | T17: =L17-D17 -> -64 | U17: =M17-E17 -> -40 | V17: =N17-F17 -> -4 | W17: =O17-G17 -> 11 | Z17: SUV-Hybrid | AA17: =IF(C17>0,S17/C17,"") -> 0.60714286 | AB17: =IF(D17>0,T17/D17,"") -> -0.29493088 | AC17: =IF(E17>0,U17/E17,"") -> -0.45454545 | AD17: =IF(F17>0,V17/F17,"") -> -1 | AE17: =IF(G17>0,W17/G17,"") -> 0.021782178
B18: SUV-PEV | C18: =Paste!$AR$265 -> 16 | D18: =Paste!$AR$270 -> 4 | E18: =Paste!$AR$275 -> 0 | F18: =Paste!$AR$280 -> 0 | G18: =SUM(C18:F18) -> 20 | J18: SUV-PEV | K18: =Paste!$AR$268 -> 17 | L18: =Paste!$AR$273 -> 0 | M18: =Paste!$AR$278 -> 0 | N18: =Paste!$AR$283 -> 0 | O18: =SUM(K18:N18) -> 17 | R18: SUV-PEV | S18: =K18-C18 -> 1 | T18: =L18-D18 -> -4 | U18: =M18-E18 -> 0 | V18: =N18-F18 -> 0 | W18: =O18-G18 -> -3 | Z18: SUV-PEV | AA18: =IF(C18>0,S18/C18,"") -> 0.0625 | AB18: =IF(D18>0,T18/D18,"") -> -1 | AC18: =IF(E18>0,U18/E18,"") | AD18: =IF(F18>0,V18/F18,"") | AE18: =IF(G18>0,W18/G18,"") -> -0.15
B19: SUV-BEV | C19: =Paste!$AR$285 -> 11 | D19: =Paste!$AR$290 -> 0 | E19: =Paste!$AR$295 -> 0 | F19: =Paste!$AR$300 -> 0 | G19: =SUM(C19:F19) -> 11 | J19: SUV-BEV | K19: =Paste!$AR$288 -> 17 | L19: =Paste!$AR$293 -> 0 | M19: =Paste!$AR$298 -> 0 | N19: =Paste!$AR$303 -> 0 | O19: =SUM(K19:N19) -> 17 | R19: SUV-BEV | S19: =K19-C19 -> 6 | T19: =L19-D19 -> 0 | U19: =M19-E19 -> 0 | V19: =N19-F19 -> 0 | W19: =O19-G19 -> 6 | Z19: SUV-BEV | AA19: =IF(C19>0,S19/C19,"") -> 0.54545455 | AB19: =IF(D19>0,T19/D19,"") | AC19: =IF(E19>0,U19/E19,"") | AD19: =IF(F19>0,V19/F19,"") | AE19: =IF(G19>0,W19/G19,"") -> 0.54545455
B20: Pickup-Gas | C20: =Paste!$AR$305 -> 8781 | D20: =Paste!$AR$310 -> 7487 | E20: =Paste!$AR$315 -> 9934 | F20: =Paste!$AR$320 -> 13399 | G20: =SUM(C20:F20) -> 39601 | J20: Pickup-Gas | K20: =Paste!$AR$308 -> 9489 | L20: =Paste!$AR$313 -> 7747 | M20: =Paste!$AR$318 -> 9948 | N20: =Paste!$AR$323 -> 14024 | O20: =SUM(K20:N20) -> 41208 | R20: Pickup-Gas | S20: =K20-C20 -> 708 | T20: =L20-D20 -> 260 | U20: =M20-E20 -> 14 | V20: =N20-F20 -> 625 | W20: =O20-G20 -> 1607 | Z20: Pickup-Gas | AA20: =IF(C20>0,S20/C20,"") -> 0.08062863 | AB20: =IF(D20>0,T20/D20,"") -> 0.03472686 | AC20: =IF(E20>0,U20/E20,"") -> 0.0014093014 | AD20: =IF(F20>0,V20/F20,"") -> 0.046645272 | AE20: =IF(G20>0,W20/G20,"") -> 0.040579783
B21: Pickup-Diesel | C21: =Paste!$AR$325 -> 1160 | D21: =Paste!$AR$330 -> 874 | E21: =Paste!$AR$335 -> 1550 | F21: =Paste!$AR$340 -> 1318 | G21: =SUM(C21:F21) -> 4902 | J21: Pickup-Diesel | K21: =Paste!$AR$328 -> 802 | L21: =Paste!$AR$333 -> 620 | M21: =Paste!$AR$338 -> 788 | N21: =Paste!$AR$343 -> 1096 | O21: =SUM(K21:N21) -> 3306 | R21: Pickup-Diesel | S21: =K21-C21 -> -358 | T21: =L21-D21 -> -254 | U21: =M21-E21 -> -762 | V21: =N21-F21 -> -222 | W21: =O21-G21 -> -1596 | Z21: Pickup-Diesel | AA21: =IF(C21>0,S21/C21,"") -> -0.30862069 | AB21: =IF(D21>0,T21/D21,"") -> -0.29061785 | AC21: =IF(E21>0,U21/E21,"") -> -0.4916129 | AD21: =IF(F21>0,V21/F21,"") -> -0.16843703 | AE21: =IF(G21>0,W21/G21,"") -> -0.3255814
B22: Pickup-Hybrid | C22: =Paste!$AR$345 -> 3 | D22: =Paste!$AR$350 -> 4 | E22: =Paste!$AR$355 -> 2 | F22: =Paste!$AR$360 -> 1 | G22: =SUM(C22:F22) -> 10 | J22: Pickup-Hybrid | K22: =Paste!$AR$348 -> 0 | L22: =Paste!$AR$353 -> 0 | M22: =Paste!$AR$358 -> 0 | N22: =Paste!$AR$363 -> 0 | O22: =SUM(K22:N22) -> 0 | R22: Pickup-Hybrid | S22: =K22-C22 -> -3 | T22: =L22-D22 -> -4 | U22: =M22-E22 -> -2 | V22: =N22-F22 -> -1 | W22: =O22-G22 -> -10 | Z22: Pickup-Hybrid | AA22: =IF(C22>0,S22/C22,"") -> -1 | AB22: =IF(D22>0,T22/D22,"") -> -1 | AC22: =IF(E22>0,U22/E22,"") -> -1 | AD22: =IF(F22>0,V22/F22,"") -> -1 | AE22: =IF(G22>0,W22/G22,"") -> -1
B23: Pickup-PEV | C23: =Paste!$AR$365 -> 0 | D23: =Paste!$AR$370 -> 0 | E23: =Paste!$AR$375 -> 0 | F23: =Paste!$AR$380 -> 0 | G23: =SUM(C23:F23) -> 0 | J23: Pickup-PEV | K23: =Paste!$AR$368 -> 0 | L23: =Paste!$AR$373 -> 0 | M23: =Paste!$AR$378 -> 0 | N23: =Paste!$AR$383 -> 0 | O23: =SUM(K23:N23) -> 0 | R23: Pickup-PEV | S23: =K23-C23 -> 0 | T23: =L23-D23 -> 0 | U23: =M23-E23 -> 0 | V23: =N23-F23 -> 0 | W23: =O23-G23 -> 0 | Z23: Pickup-PEV | AA23: =IF(C23>0,S23/C23,"") | AB23: =IF(D23>0,T23/D23,"") | AC23: =IF(E23>0,U23/E23,"") | AD23: =IF(F23>0,V23/F23,"") | AE23: =IF(G23>0,W23/G23,"")
B24: Pickup-BEV | C24: =Paste!$AR$385 -> 1 | D24: =Paste!$AR$390 -> 0 | E24: =Paste!$AR$395 -> 0 | F24: =Paste!$AR$400 -> 0 | G24: =SUM(C24:F24) -> 1 | J24: Pickup-BEV | K24: =Paste!$AR$388 -> 0 | L24: =Paste!$AR$393 -> 0 | M24: =Paste!$AR$398 -> 0 | N24: =Paste!$AR$403 -> 0 | O24: =SUM(K24:N24) -> 0 | R24: Pickup-BEV | S24: =K24-C24 -> -1 | T24: =L24-D24 -> 0 | U24: =M24-E24 -> 0 | V24: =N24-F24 -> 0 | W24: =O24-G24 -> -1 | Z24: Pickup-BEV | AA24: =IF(C24>0,S24/C24,"") -> -1 | AB24: =IF(D24>0,T24/D24,"") | AC24: =IF(E24>0,U24/E24,"") | AD24: =IF(F24>0,V24/F24,"") | AE24: =IF(G24>0,W24/G24,"") -> -1
B25: Motorcycle-Gas | C25: =Paste!$AR$405 -> 1370 | D25: =Paste!$AR$410 -> 1637 | E25: =Paste!$AR$415 -> 1752 | F25: =Paste!$AR$420 -> 1951 | G25: =SUM(C25:F25) -> 6710 | J25: Motorcycle-Gas | K25: =Paste!$AR$408 -> 1660 | L25: =Paste!$AR$413 -> 1275 | M25: =Paste!$AR$418 -> 1527 | N25: =Paste!$AR$423 -> 2248 | O25: =SUM(K25:N25) -> 6710 | R25: Motorcycle-Gas | S25: =K25-C25 -> 290 | T25: =L25-D25 -> -362 | U25: =M25-E25 -> -225 | V25: =N25-F25 -> 297 | W25: =O25-G25 -> 0 | Z25: Motorcycle-Gas | AA25: =IF(C25>0,S25/C25,"") -> 0.21167883 | AB25: =IF(D25>0,T25/D25,"") -> -0.22113622 | AC25: =IF(E25>0,U25/E25,"") -> -0.12842466 | AD25: =IF(F25>0,V25/F25,"") -> 0.15222963 | AE25: =IF(G25>0,W25/G25,"") -> 0
B26: Motorcycle-Diesel | C26: =Paste!$AR$425 -> 0 | D26: =Paste!$AR$430 -> 0 | E26: =Paste!$AR$435 -> 0 | F26: =Paste!$AR$440 -> 0 | G26: =SUM(C26:F26) -> 0 | J26: Motorcycle-Diesel | K26: =Paste!$AR$428 -> 0 | L26: =Paste!$AR$433 -> 0 | M26: =Paste!$AR$438 -> 0 | N26: =Paste!$AR$443 -> 0 | O26: =SUM(K26:N26) -> 0 | R26: Motorcycle-Diesel | S26: =K26-C26 -> 0 | T26: =L26-D26 -> 0 | U26: =M26-E26 -> 0 | V26: =N26-F26 -> 0 | W26: =O26-G26 -> 0 | Z26: Motorcycle-Diesel | AA26: =IF(C26>0,S26/C26,"") | AB26: =IF(D26>0,T26/D26,"") | AC26: =IF(E26>0,U26/E26,"") | AD26: =IF(F26>0,V26/F26,"") | AE26: =IF(G26>0,W26/G26,"")
B27: Motorcycle-Hybrid | C27: =Paste!$AR$445 -> 0 | D27: =Paste!$AR$450 -> 0 | E27: =Paste!$AR$455 -> 0 | F27: =Paste!$AR$460 -> 0 | G27: =SUM(C27:F27) -> 0 | J27: Motorcycle-Hybrid | K27: =Paste!$AR$448 -> 0 | L27: =Paste!$AR$453 -> 0 | M27: =Paste!$AR$458 -> 0 | N27: =Paste!$AR$463 -> 0 | O27: =SUM(K27:N27) -> 0 | R27: Motorcycle-Hybrid | S27: =K27-C27 -> 0 | T27: =L27-D27 -> 0 | U27: =M27-E27 -> 0 | V27: =N27-F27 -> 0 | W27: =O27-G27 -> 0 | Z27: Motorcycle-Hybrid | AA27: =IF(C27>0,S27/C27,"") | AB27: =IF(D27>0,T27/D27,"") | AC27: =IF(E27>0,U27/E27,"") | AD27: =IF(F27>0,V27/F27,"") | AE27: =IF(G27>0,W27/G27,"")
B28: Motorcycle-PEV | C28: =Paste!$AR$465 -> 0 | D28: =Paste!$AR$470 -> 0 | E28: =Paste!$AR$475 -> 0 | F28: =Paste!$AR$480 -> 0 | G28: =SUM(C28:F28) -> 0 | J28: Motorcycle-PEV | K28: =Paste!$AR$468 -> 0 | L28: =Paste!$AR$473 -> 0 | M28: =Paste!$AR$478 -> 0 | N28: =Paste!$AR$483 -> 0 | O28: =SUM(K28:N28) -> 0 | R28: Motorcycle-PEV | S28: =K28-C28 -> 0 | T28: =L28-D28 -> 0 | U28: =M28-E28 -> 0 | V28: =N28-F28 -> 0 | W28: =O28-G28 -> 0 | Z28: Motorcycle-PEV | AA28: =IF(C28>0,S28/C28,"") | AB28: =IF(D28>0,T28/D28,"") | AC28: =IF(E28>0,U28/E28,"") | AD28: =IF(F28>0,V28/F28,"") | AE28: =IF(G28>0,W28/G28,"")
B29: Motorcycle-BEV | C29: =Paste!$AR$485 -> 12 | D29: =Paste!$AR$490 -> 7 | E29: =Paste!$AR$495 -> 0 | F29: =Paste!$AR$500 -> 0 | G29: =SUM(C29:F29) -> 19 | J29: Motorcycle-BEV | K29: =Paste!$AR$488 -> 11 | L29: =Paste!$AR$493 -> 7 | M29: =Paste!$AR$498 -> 0 | N29: =Paste!$AR$503 -> 0 | O29: =SUM(K29:N29) -> 18 | R29: Motorcycle-BEV | S29: =K29-C29 -> -1 | T29: =L29-D29 -> 0 | U29: =M29-E29 -> 0 | V29: =N29-F29 -> 0 | W29: =O29-G29 -> -1 | Z29: Motorcycle-BEV | AA29: =IF(C29>0,S29/C29,"") -> -0.083333333 | AB29: =IF(D29>0,T29/D29,"") -> 0 | AC29: =IF(E29>0,U29/E29,"") | AD29: =IF(F29>0,V29/F29,"") | AE29: =IF(G29>0,W29/G29,"") -> -0.052631579
B30: Total | C30: =SUM(C5:C29) -> 78687 | D30: =SUM(D5:D29) -> 58577 | E30: =SUM(E5:E29) -> 53362 | F30: =SUM(F5:F29) -> 46951 | G30: =SUM(G5:G29) -> 237577 | J30: Total | K30: =SUM(K5:K29) -> 78771 | L30: =SUM(L5:L29) -> 58479 | M30: =SUM(M5:M29) -> 53288 | N30: =SUM(N5:N29) -> 47040 | O30: =SUM(K30:N30) -> 237578 | R30: Total | S30: =K30-C30 -> 84 | T30: =L30-D30 -> -98 | U30: =M30-E30 -> -74 | V30: =N30-F30 -> 89 | W30: =O30-G30 -> 1 | Z30: Total | AA30: =IF(C30>0,S30/C30,"") -> 0.0010675207 | AB30: =IF(D30>0,T30/D30,"") -> -0.0016730116 | AC30: =IF(E30>0,U30/E30,"") -> -0.0013867546 | AD30: =IF(F30>0,V30/F30,"") -> 0.0018955933 | AE30: =IF(G30>0,W30/G30,"") -> 4.2091617e-06
C32: Fuel Type | K32: Fuel Type | S32: Fuel Type | AA32: Fuel Type
B33: Body Type | C33: Gas | D33: Diesel | E33: Hybrid | F33: PEV | G33: BEV | H33: Total | J33: Body Type | K33: Gas | L33: Diesel | M33: Hybrid | N33: PEV | O33: BEV | P33: Total | R33: Body Type | S33: Gas | T33: Diesel | U33: Hybrid | V33: PEV | W33: BEV | X33: Total | Z33: Body Type | AA33: Gas | AB33: Diesel | AC33: Hybrid | AD33: PEV | AE33: BEV | AF33: Total
B34: Car | C34: =G5 -> 109806 | D34: =G6 -> 1126 | E34: =G7 -> 4287 | F34: =G8 -> 426 | G34: =G9 -> 440 | H34: =SUM(C34:G34) -> 116085 | J34: Car | K34: =O5 -> 109702 | L34: =O6 -> 1213 | M34: =O7 -> 4300 | N34: =O8 -> 433 | O34: =O9 -> 439 | P34: =SUM(K34:O34) -> 116087 | R34: Car | S34: =K34-C34 -> -104 | T34: =L34-D34 -> 87 | U34: =M34-E34 -> 13 | V34: =N34-F34 -> 7 | W34: =O34-G34 -> -1 | X34: =P34-H34 -> 2 | Z34: Car | AA34: =IF(C34>0,S34/C34,"") -> -0.00094712493 | AB34: =IF(D34>0,T34/D34,"") -> 0.077264654 | AC34: =IF(E34>0,U34/E34,"") -> 0.0030324236 | AD34: =IF(F34>0,V34/F34,"") -> 0.016431925 | AE34: =IF(G34>0,W34/G34,"") -> -0.0022727273 | AF34: =IF(H34>0,X34/H34,"") -> 1.7228755e-05
B35: Van | C35: =G10 -> 12422 | D35: =G11 -> 91 | E35: =G12 -> 14 | F35: =G13 -> 3 | G35: =G14 -> 1 | H35: =SUM(C35:G35) -> 12531 | J35: Van | K35: =O10 -> 12531 | L35: =O11 -> 0 | M35: =O12 -> 0 | N35: =O13 -> 0 | O35: =O14 -> 0 | P35: =SUM(K35:O35) -> 12531 | R35: Van | S35: =K35-C35 -> 109 | T35: =L35-D35 -> -91 | U35: =M35-E35 -> -14 | V35: =N35-F35 -> -3 | W35: =O35-G35 -> -1 | X35: =P35-H35 -> 0 | Z35: Van | AA35: =IF(C35>0,S35/C35,"") -> 0.0087747545 | AB35: =IF(D35>0,T35/D35,"") -> -1 | AC35: =IF(E35>0,U35/E35,"") -> -1 | AD35: =IF(F35>0,V35/F35,"") -> -1 | AE35: =IF(G35>0,W35/G35,"") -> -1 | AF35: =IF(H35>0,X35/H35,"") -> 0
B36: SUV | C36: =G15 -> 56821 | D36: =G16 -> 361 | E36: =G17 -> 505 | F36: =G18 -> 20 | G36: =G19 -> 11 | H36: =SUM(C36:G36) -> 57718 | J36: SUV | K36: =O15 -> 55225 | L36: =O16 -> 1943 | M36: =O17 -> 516 | N36: =O18 -> 17 | O36: =O19 -> 17 | P36: =SUM(K36:O36) -> 57718 | R36: SUV | S36: =K36-C36 -> -1596 | T36: =L36-D36 -> 1582 | U36: =M36-E36 -> 11 | V36: =N36-F36 -> -3 | W36: =O36-G36 -> 6 | X36: =P36-H36 -> 0 | Z36: SUV | AA36: =IF(C36>0,S36/C36,"") -> -0.028088207 | AB36: =IF(D36>0,T36/D36,"") -> 4.3822715 | AC36: =IF(E36>0,U36/E36,"") -> 0.021782178 | AD36: =IF(F36>0,V36/F36,"") -> -0.15 | AE36: =IF(G36>0,W36/G36,"") -> 0.54545455 | AF36: =IF(H36>0,X36/H36,"") -> 0
B37: Pickup | C37: =G20 -> 39601 | D37: =G21 -> 4902 | E37: =G22 -> 10 | F37: =G23 -> 0 | G37: =G24 -> 1 | H37: =SUM(C37:G37) -> 44514 | J37: Pickup | K37: =O20 -> 41208 | L37: =O21 -> 3306 | M37: =O22 -> 0 | N37: =O23 -> 0 | O37: =O24 -> 0 | P37: =SUM(K37:O37) -> 44514 | R37: Pickup | S37: =K37-C37 -> 1607 | T37: =L37-D37 -> -1596 | U37: =M37-E37 -> -10 | V37: =N37-F37 -> 0 | W37: =O37-G37 -> -1 | X37: =P37-H37 -> 0 | Z37: Pickup | AA37: =IF(C37>0,S37/C37,"") -> 0.040579783 | AB37: =IF(D37>0,T37/D37,"") -> -0.3255814 | AC37: =IF(E37>0,U37/E37,"") -> -1 | AD37: =IF(F37>0,V37/F37,"") | AE37: =IF(G37>0,W37/G37,"") -> -1 | AF37: =IF(H37>0,X37/H37,"") -> 0
B38: Motorcycle | C38: =G25 -> 6710 | D38: =G26 -> 0 | E38: =G27 -> 0 | F38: =G28 -> 0 | G38: =G29 -> 19 | H38: =SUM(C38:G38) -> 6729 | J38: Motorcycle | K38: =O25 -> 6710 | L38: =O26 -> 0 | M38: =O27 -> 0 | N38: =O28 -> 0 | O38: =O29 -> 18 | P38: =SUM(K38:O38) -> 6728 | R38: Motorcycle | S38: =K38-C38 -> 0 | T38: =L38-D38 -> 0 | U38: =M38-E38 -> 0 | V38: =N38-F38 -> 0 | W38: =O38-G38 -> -1 | X38: =P38-H38 -> -1 | Z38: Motorcycle | AA38: =IF(C38>0,S38/C38,"") -> 0 | AB38: =IF(D38>0,T38/D38,"") | AC38: =IF(E38>0,U38/E38,"") | AD38: =IF(F38>0,V38/F38,"") | AE38: =IF(G38>0,W38/G38,"") -> -0.052631579 | AF38: =IF(H38>0,X38/H38,"") -> -0.00014861049
B39: Total | C39: =SUM(C34:C38) -> 225360 | D39: =SUM(D34:D38) -> 6480 | E39: =SUM(E34:E38) -> 4816 | F39: =SUM(F34:F38) -> 449 | G39: =SUM(G34:G38) -> 472 | H39: =SUM(C39:G39) -> 237577 | J39: Total | K39: =SUM(K34:K38) -> 225376 | L39: =SUM(L34:L38) -> 6462 | M39: =SUM(M34:M38) -> 4816 | N39: =SUM(N34:N38) -> 450 | O39: =SUM(O34:O38) -> 474 | P39: =SUM(K39:O39) -> 237578 | R39: Total | S39: =K39-C39 -> 16 | T39: =L39-D39 -> -18 | U39: =M39-E39 -> 0 | V39: =N39-F39 -> 1 | W39: =O39-G39 -> 2 | X39: =P39-H39 -> 1 | Z39: Total | AA39: =IF(C39>0,S39/C39,"") -> 7.0997515e-05 | AB39: =IF(D39>0,T39/D39,"") -> -0.0027777778 | AC39: =IF(E39>0,U39/E39,"") -> 0 | AD39: =IF(F39>0,V39/F39,"") -> 0.0022271715 | AE39: =IF(G39>0,W39/G39,"") -> 0.0042372881 | AF39: =IF(H39>0,X39/H39,"") -> 4.2091617e-06
C41: Age (years) | K41: Age (years) | S41: Age (years) | AA41: Age (years)
B42: Body Type | C42: 1-5 | D42: 6-10 | E42: 11-15 | F42: 16-20+ | G42: Total | J42: Body Type | K42: 1-5 | L42: 6-10 | M42: 11-15 | N42: 16-20+ | O42: Total | R42: Body Type | S42: 1-5 | T42: 6-10 | U42: 11-15 | V42: 16-20+ | W42: Total | Z42: Body Type | AA42: 1-5 | AB42: 6-10 | AC42: 11-15 | AD42: 16-20+ | AE42: Total
B43: Car | C43: =SUM(C5:C9) -> 38721 | D43: =SUM(D5:D9) -> 31032 | E43: =SUM(E5:E9) -> 25070 | F43: =SUM(F5:F9) -> 21262 | G43: =SUM(G5:G9) -> 116085 | J43: Car | K43: =SUM(K5:K9) -> 37953 | L43: =SUM(L5:L9) -> 30551 | M43: =SUM(M5:M9) -> 27439 | N43: =SUM(N5:N9) -> 20144 | O43: =SUM(O5:O9) -> 116087 | R43: Car | S43: =K43-C43 -> -768 | T43: =L43-D43 -> -481 | U43: =M43-E43 -> 2369 | V43: =N43-F43 -> -1118 | W43: =O43-G43 -> 2 | Z43: Car | AA43: =IF(C43>0,S43/C43,"") -> -0.019834198 | AB43: =IF(D43>0,T43/D43,"") -> -0.015500129 | AC43: =IF(E43>0,U43/E43,"") -> 0.094495413 | AD43: =IF(F43>0,V43/F43,"") -> -0.052582071 | AE43: =IF(G43>0,W43/G43,"") -> 1.7228755e-05
...

Sheet Paste
A1: Base Model 1 | J1: Model 1B | S1: Model 1C | AB1: Model 1D | AK1: Base Model 2 | AT1: Model 2B | BC1: Model 2C | BL1: Model 2D
A2: ----------- | B2: - | C2: ------ | D2: ------ | E2: ------ | F2: ------ | G2: ------ | H2: ------- | J2: ----------- | K2: - | L2: ------ | M2: ------ | N2: ------ | O2: ------ | P2: ------ | Q2: ------- | S2: ----------- | T2: - | U2: ------ | V2: ------ | W2: ------ | X2: ------ | Y2: ------ | Z2: ------- | AB2: ----------- | AC2: - | AD2: ------ | AE2: ------ | AF2: ------ | AG2: ------ | AH2: ------ | AI2: ------- | AK2: ----------- | AL2: - | AM2: ------ | AN2: ------ | AO2: ------ | AP2: ------ | AQ2: ------ | AR2: ------- | AT2: ----------- | AU2: - | AV2: ------ | AW2: ------ | AX2: ------ | AY2: ------ | AZ2: ------ | BA2: ------- | BC2: ----------- | BD2: - | BE2: ------ | BF2: ------ | BG2: ------ | BH2: ------ | BI2: ------ | BJ2: ------- | BL2: ----------- | BM2: - | BN2: ------ | BO2: ------ | BP2: ------ | BQ2: ------ | BR2: ------ | BS2: -------
A3: Choice | B3: | | C3: 1 | D3: | 2 | E3: | 3 | F3: | 4 | G3: | 5 | H3: | Total | J3: Choice | K3: | | L3: 1 | M3: | 2 | N3: | 3 | O3: | 4 | P3: | 5 | Q3: | Total | S3: Choice | T3: | | U3: 1 | V3: | 2 | W3: | 3 | X3: | 4 | Y3: | 5 | Z3: | Total | AB3: Choice | AC3: | | AD3: 1 | AE3: | 2 | AF3: | 3 | AG3: | 4 | AH3: | 5 | AI3: | Total | AK3: Choice | AL3: | | AM3: 1 | AN3: | 2 | AO3: | 3 | AP3: | 4 | AQ3: | 5 | AR3: | Total | AT3: Choice | AU3: | | AV3: 1 | AW3: | 2 | AX3: | 3 | AY3: | 4 | AZ3: | 5 | BA3: | Total | BC3: Choice | BD3: | | BE3: 1 | BF3: | 2 | BG3: | 3 | BH3: | 4 | BI3: | 5 | BJ3: | Total | BL3: Choice | BM3: | | BN3: 1 | BO3: | 2 | BP3: | 3 | BQ3: | 4 | BR3: | 5 | BS3: | Total
A4: ----------- | B4: + | C4: ------ | D4: ------ | E4: ------ | F4: ------ | G4: ------ | H4: ------- | J4: ----------- | K4: + | L4: ------ | M4: ------ | N4: ------ | O4: ------ | P4: ------ | Q4: ------- | S4: ----------- | T4: + | U4: ------ | V4: ------ | W4: ------ | X4: ------ | Y4: ------ | Z4: ------- | AB4: ----------- | AC4: + | AD4: ------ | AE4: ------ | AF4: ------ | AG4: ------ | AH4: ------ | AI4: ------- | AK4: ----------- | AL4: + | AM4: ------ | AN4: ------ | AO4: ------ | AP4: ------ | AQ4: ------ | AR4: ------- | AT4: ----------- | AU4: + | AV4: ------ | AW4: ------ | AX4: ------ | AY4: ------ | AZ4: ------ | BA4: ------- | BC4: ----------- | BD4: + | BE4: ------ | BF4: ------ | BG4: ------ | BH4: ------ | BI4: ------ | BJ4: ------- | BL4: ----------- | BM4: + | BN4: ------ | BO4: ------ | BP4: ------ | BQ4: ------ | BR4: ------ | BS4: -------
A5: No. Chsn | B5: | | C5: 3027 | D5: 6325 | E5: 12078 | F5: 7482 | G5: 6194 | H5: 35106 | J5: No. Chsn | K5: | | L5: 3027 | M5: 6325 | N5: 12078 | O5: 7482 | P5: 6194 | Q5: 35106 | S5: No. Chsn | T5: | | U5: 3027 | V5: 6325 | W5: 12078 | X5: 7482 | Y5: 6194 | Z5: 35106 | AB5: No. Chsn | AC5: | | AD5: 3027 | AE5: 6325 | AF5: 12078 | AG5: 7482 | AH5: 6194 | AI5: 35106 | AK5: No. Chsn | AL5: | | AM5: 3027 | AN5: 6325 | AO5: 12078 | AP5: 7482 | AQ5: 6194 | AR5: 35106 | AT5: No. Chsn | AU5: | | AV5: 3027 | AW5: 6325 | AX5: 12078 | AY5: 7482 | AZ5: 6194 | BA5: 35106 | BC5: No. Chsn | BD5: | | BE5: 3027 | BF5: 6325 | BG5: 12078 | BH5: 7482 | BI5: 6194 | BJ5: 35106 | BL5: No. Chsn | BM5: | | BN5: 3027 | BO5: 6325 | BP5: 12078 | BQ5: 7482 | BR5: 6194 | BS5: 35106
A6: SD. Chsn | B6: | | C6: 52 | D6: 76 | E6: 107 | F6: 89 | G6: 78 | H6: 185 | J6: SD. Chsn | K6: | | L6: 52 | M6: 75 | N6: 105 | O6: 86 | P6: 75 | Q6: 180 | S6: SD. Chsn | T6: | | U6: 46 | V6: 66 | W6: 87 | X6: 66 | Y6: 57 | Z6: 147 | AB6: SD. Chsn | AC6: | | AD6: 51 | AE6: 72 | AF6: 98 | AG6: 78 | AH6: 68 | AI6: 168 | AK6: SD. Chsn | AL6: | | AM6: 52 | AN6: 76 | AO6: 106 | AP6: 88 | AQ6: 76 | AR6: 182 | AT6: SD. Chsn | AU6: | | AV6: 49 | AW6: 71 | AX6: 100 | AY6: 82 | AZ6: 71 | BA6: 171 | BC6: SD. Chsn | BD6: | | BE6: 36 | BF6: 52 | BG6: 69 | BH6: 55 | BI6: 47 | BJ6: 119 | BL6: SD. Chsn | BM6: | | BN6: 31 | BO6: 46 | BP6: 58 | BQ6: 39 | BR6: 34 | BS6: 95
A7: Car_Gas1 | B7: | | C7: ***- | D7: ***- | E7: *- | F7: ***+ | G7: + | H7: *+ | J7: Car_Gas1 | K7: | | L7: ***- | M7: ***- | N7: ***- | O7: ***+ | P7: ***- | Q7: ***- | S7: Car_Gas1 | T7: | | U7: ***- | V7: ***- | W7: ***- | X7: ***- | Y7: ***- | Z7: ***- | AB7: Car_Gas1 | AC7: | | AD7: ***- | AE7: ***- | AF7: ***- | AG7: ***- | AH7: ***- | AI7: ***- | AK7: Car_Gas1 | AL7: | | AM7: ***- | AN7: ***- | AO7: ***- | AP7: ***+ | AQ7: **- | AR7: ***- | AT7: Car_Gas1 | AU7: | | AV7: ***- | AW7: ***- | AX7: ***- | AY7: ***- | AZ7: ***- | BA7: ***- | BC7: Car_Gas1 | BD7: | | BE7: ***- | BF7: ***- | BG7: ***- | BH7: ***- | BI7: ***- | BJ7: ***- | BL7: Car_Gas1 | BM7: | | BN7: ***- | BO7: ***- | BP7: ***- | BQ7: ***- | BR7: ***- | BS7: ***-
A8: No. Pred | B8: | | C8: 2805 | D8: 5998 | E8: 11935 | F8: 8293 | G8: 6263 | H8: 35293 | J8: No. Pred | K8: | | L8: 2718 | M8: 5813 | N8: 11443 | O8: 7745 | P8: 5844 | Q8: 33562 | S8: No. Pred | T8: | | U8: 2177 | V8: 4429 | W8: 7782 | X8: 4446 | Y8: 3357 | Z8: 22190 | AB8: No. Pred | AC8: | | AD8: 2625 | AE8: 5365 | AF8: 9949 | AG8: 6219 | AH8: 4712 | AI8: 28871 | AK8: No. Pred | AL8: | | AM8: 2763 | AN8: 5917 | AO8: 11693 | AP8: 7998 | AQ8: 6024 | AR8: 34395 | AT8: No. Pred | AU8: | | AV8: 2402 | AW8: 5215 | AX8: 10280 | AY8: 6984 | AZ8: 5254 | BA8: 30136 | BC8: No. Pred | BD8: | | BE8: 1348 | BF8: 2718 | BG8: 4888 | BH8: 3043 | BI8: 2279 | BJ8: 14275 | BL8: No. Pred | BM8: | | BN8: 974 | BO8: 2102 | BP8: 3364 | BQ8: 1560 | BR8: 1152 | BS8: 9152
A9: ----------- | B9: + | C9: ------ | D9: ------ | E9: ------ | F9: ------ | G9: ------ | H9: ------- | J9: ----------- | K9: + | L9: ------ | M9: ------ | N9: ------ | O9: ------ | P9: ------ | Q9: ------- | S9: ----------- | T9: + | U9: ------ | V9: ------ | W9: ------ | X9: ------ | Y9: ------ | Z9: ------- | AB9: ----------- | AC9: + | AD9: ------ | AE9: ------ | AF9: ------ | AG9: ------ | AH9: ------ | AI9: ------- | AK9: ----------- | AL9: + | AM9: ------ | AN9: ------ | AO9: ------ | AP9: ------ | AQ9: ------ | AR9: ------- | AT9: ----------- | AU9: + | AV9: ------ | AW9: ------ | AX9: ------ | AY9: ------ | AZ9: ------ | BA9: ------- | BC9: ----------- | BD9: + | BE9: ------ | BF9: ------ | BG9: ------ | BH9: ------ | BI9: ------ | BJ9: ------- | BL9: ----------- | BM9: + | BN9: ------ | BO9: ------ | BP9: ------ | BQ9: ------ | BR9: ------ | BS9: -------
A10: No. Chsn | B10: | | C10: 3450 | D10: 5876 | E10: 9840 | F10: 5620 | G10: 4457 | H10: 29243 | J10: No. Chsn | K10: | | L10: 3450 | M10: 5876 | N10: 9840 | O10: 5620 | P10: 4457 | Q10: 29243 | S10: No. Chsn | T10: | | U10: 3450 | V10: 5876 | W10: 9840 | X10: 5620 | Y10: 4457 | Z10: 29243 | AB10: No. Chsn | AC10: | | AD10: 3450 | AE10: 5876 | AF10: 9840 | AG10: 5620 | AH10: 4457 | AI10: 29243 | AK10: No. Chsn | AL10: | | AM10: 3450 | AN10: 5876 | AO10: 9840 | AP10: 5620 | AQ10: 4457 | AR10: 29243 | AT10: No. Chsn | AU10: | | AV10: 3450 | AW10: 5876 | AX10: 9840 | AY10: 5620 | AZ10: 4457 | BA10: 29243 | BC10: No. Chsn | BD10: | | BE10: 3450 | BF10: 5876 | BG10: 9840 | BH10: 5620 | BI10: 4457 | BJ10: 29243 | BL10: No. Chsn | BM10: | | BN10: 3450 | BO10: 5876 | BP10: 9840 | BQ10: 5620 | BR10: 4457 | BS10: 29243
A11: SD. Chsn | B11: | | C11: 56 | D11: 72 | E11: 94 | F11: 72 | G11: 63 | H11: 163 | J11: SD. Chsn | K11: | | L11: 55 | M11: 71 | N11: 92 | O11: 70 | P11: 61 | Q11: 159 | S11: SD. Chsn | T11: | | U11: 49 | V11: 63 | W11: 77 | X11: 53 | Y11: 46 | Z11: 131 | AB11: SD. Chsn | AC11: | | AD11: 54 | AE11: 69 | AF11: 87 | AG11: 63 | AH11: 55 | AI11: 149 | AK11: SD. Chsn | AL11: | | AM11: 58 | AN11: 75 | AO11: 98 | AP11: 74 | AQ11: 65 | AR11: 168 | AT11: SD. Chsn | AU11: | | AV11: 48 | AW11: 62 | AX11: 81 | AY11: 61 | AZ11: 53 | BA11: 139 | BC11: SD. Chsn | BD11: | | BE11: 35 | BF11: 45 | BG11: 55 | BH11: 40 | BI11: 35 | BJ11: 96 | BL11: SD. Chsn | BM11: | | BN11: 30 | BO11: 39 | BP11: 46 | BQ11: 29 | BR11: 25 | BS11: 78
A12: Car_Gas2 | B12: | | C12: ***- | D12: ***- | E12: ***- | F12: ***- | G12: ***- | H12: ***- | J12: Car_Gas2 | K12: | | L12: ***- | M12: ***- | N12: ***- | O12: ***- | P12: ***- | Q12: ***- | S12: Car_Gas2 | T12: | | U12: ***- | V12: ***- | W12: ***- | X12: ***- | Y12: ***- | Z12: ***- | AB12: Car_Gas2 | AC12: | | AD12: ***- | AE12: ***- | AF12: ***- | AG12: ***- | AH12: ***- | AI12: ***- | AK12: Car_Gas2 | AL12: | | AM12: + | AN12: - | AO12: - | AP12: + | AQ12: **- | AR12: - | AT12: Car_Gas2 | AU12: | | AV12: ***- | AW12: ***- | AX12: ***- | AY12: ***- | AZ12: ***- | BA12: ***- | BC12: Car_Gas2 | BD12: | | BE12: ***- | BF12: ***- | BG12: ***- | BH12: ***- | BI12: ***- | BJ12: ***- | BL12: Car_Gas2 | BM12: | | BN12: ***- | BO12: ***- | BP12: ***- | BQ12: ***- | BR12: ***- | BS12: ***-
A13: No. Pred | B13: | | C13: 3201 | D13: 5384 | E13: 9117 | F13: 5331 | G13: 4049 | H13: 27082 | J13: No. Pred | K13: | | L13: 3101 | M13: 5217 | N13: 8738 | O13: 4973 | P13: 3773 | Q13: 25803 | S13: No. Pred | T13: | | U13: 2495 | V13: 4007 | W13: 6001 | X13: 2875 | Y13: 2179 | Z13: 17558 | AB13: No. Pred | AC13: | | AD13: 3004 | AE13: 4845 | AF13: 7671 | AG13: 4041 | AH13: 3077 | AI13: 22638 | AK13: No. Pred | AL13: | | AM13: 3466 | AN13: 5836 | AO13: 9833 | AP13: 5667 | AQ13: 4300 | AR13: 29101 | AT13: No. Pred | AU13: | | AV13: 2335 | AW13: 3973 | AX13: 6667 | AY13: 3811 | AZ13: 2888 | BA13: 19674 | BC13: No. Pred | BD13: | | BE13: 1273 | BF13: 2008 | BG13: 3086 | BH13: 1624 | BI13: 1225 | BJ13: 9216 | BL13: No. Pred | BM13: | | BN13: 919 | BO13: 1555 | BP13: 2124 | BQ13: 828 | BR13: 616 | BS13: 6043
A14: ----------- | B14: + | C14: ------ | D14: ------ | E14: ------ | F14: ------ | G14: ------ | H14: ------- | J14: ----------- | K14: + | L14: ------ | M14: ------ | N14: ------ | O14: ------ | P14: ------ | Q14: ------- | S14: ----------- | T14: + | U14: ------ | V14: ------ | W14: ------ | X14: ------ | Y14: ------ | Z14: ------- | AB14: ----------- | AC14: + | AD14: ------ | AE14: ------ | AF14: ------ | AG14: ------ | AH14: ------ | AI14: ------- | AK14: ----------- | AL14: + | AM14: ------ | AN14: ------ | AO14: ------ | AP14: ------ | AQ14: ------ | AR14: ------- | AT14: ----------- | AU14: + | AV14: ------ | AW14: ------ | AX14: ------ | AY14: ------ | AZ14: ------ | BA14: ------- | BC14: ----------- | BD14: + | BE14: ------ | BF14: ------ | BG14: ------ | BH14: ------ | BI14: ------ | BJ14: ------- | BL14: ----------- | BM14: + | BN14: ------ | BO14: ------ | BP14: ------ | BQ14: ------ | BR14: ------ | BS14: -------
A15: No. Chsn | B15: | | C15: 4253 | D15: 5569 | E15: 7840 | F15: 3910 | G15: 2833 | H15: 24405 | J15: No. Chsn | K15: | | L15: 4253 | M15: 5569 | N15: 7840 | O15: 3910 | P15: 2833 | Q15: 24405 | S15: No. Chsn | T15: | | U15: 4253 | V15: 5569 | W15: 7840 | X15: 3910 | Y15: 2833 | Z15: 24405 | AB15: No. Chsn | AC15: | | AD15: 4253 | AE15: 5569 | AF15: 7840 | AG15: 3910 | AH15: 2833 | AI15: 24405 | AK15: No. Chsn | AL15: | | AM15: 4253 | AN15: 5569 | AO15: 7840 | AP15: 3910 | AQ15: 2833 | AR15: 24405 | AT15: No. Chsn | AU15: | | AV15: 4253 | AW15: 5569 | AX15: 7840 | AY15: 3910 | AZ15: 2833 | BA15: 24405 | BC15: No. Chsn | BD15: | | BE15: 4253 | BF15: 5569 | BG15: 7840 | BH15: 3910 | BI15: 2833 | BJ15: 24405 | BL15: No. Chsn | BM15: | | BN15: 4253 | BO15: 5569 | BP15: 7840 | BQ15: 3910 | BR15: 2833 | BS15: 24405
A16: SD. Chsn | B16: | | C16: 63 | D16: 73 | E16: 88 | F16: 62 | G16: 55 | H16: 155 | J16: SD. Chsn | K16: | | L16: 62 | M16: 72 | N16: 87 | O16: 60 | P16: 53 | Q16: 151 | S16: SD. Chsn | T16: | | U16: 56 | V16: 64 | W16: 72 | X16: 46 | Y16: 40 | Z16: 127 | AB16: SD. Chsn | AC16: | | AD16: 61 | AE16: 70 | AF16: 82 | AG16: 55 | AH16: 48 | AI16: 143 | AK16: SD. Chsn | AL16: | | AM16: 65 | AN16: 76 | AO16: 92 | AP16: 65 | AQ16: 56 | AR16: 160 | AT16: SD. Chsn | AU16: | | AV16: 57 | AW16: 67 | AX16: 80 | AY16: 56 | AZ16: 49 | BA16: 140 | BC16: SD. Chsn | BD16: | | BE16: 41 | BF16: 46 | BG16: 53 | BH16: 35 | BI16: 31 | BJ16: 93 | BL16: SD. Chsn | BM16: | | BN16: 35 | BO16: 40 | BP16: 44 | BQ16: 25 | BR16: 22 | BS16: 77
A17: Car_Gas3 | B17: | | C17: ***- | D17: *- | E17: *+ | F17: *+ | G17: ***+ | H17: + | J17: Car_Gas3 | K17: | | L17: ***- | M17: ***- | N17: **- | O17: ***- | P17: - | Q17: ***- | S17: Car_Gas3 | T17: | | U17: ***- | V17: ***- | W17: ***- | X17: ***- | Y17: ***- | Z17: ***- | AB17: Car_Gas3 | AC17: | | AD17: ***- | AE17: ***- | AF17: ***- | AG17: ***- | AH17: ***- | AI17: ***- | AK17: Car_Gas3 | AL17: | | AM17: *+ | AN17: ***+ | AO17: ***+ | AP17: ***+ | AQ17: ***+ | AR17: ***+ | AT17: Car_Gas3 | AU17: | | AV17: ***- | AW17: ***- | AX17: ***- | AY17: ***- | AZ17: ***- | BA17: ***- | BC17: Car_Gas3 | BD17: | | BE17: ***- | BF17: ***- | BG17: ***- | BH17: ***- | BI17: ***- | BJ17: ***- | BL17: Car_Gas3 | BM17: | | BN17: ***- | BO17: ***- | BP17: ***- | BQ17: ***- | BR17: ***- | BS17: ***-
A18: No. Pred | B18: | | C18: 4047 | D18: 5474 | E18: 7989 | F18: 3976 | G18: 3038 | H18: 24524 | J18: No. Pred | K18: | | L18: 3918 | M18: 5304 | N18: 7656 | O18: 3705 | P18: 2827 | Q18: 23409 | S18: No. Pred | T18: | | U18: 3169 | V18: 4109 | W18: 5308 | X18: 2157 | Y18: 1642 | Z18: 16385 | AB18: No. Pred | AC18: | | AD18: 3809 | AE18: 4957 | AF18: 6784 | AG18: 3046 | AH18: 2331 | AI18: 20928 | AK18: No. Pred | AL18: | | AM18: 4332 | AN18: 5901 | AO18: 8615 | AP18: 4249 | AQ18: 3245 | AR18: 26340 | AT18: No. Pred | AU18: | | AV18: 3362 | AW18: 4529 | AX18: 6494 | AY18: 3127 | AZ18: 2388 | BA18: 19900 | BC18: No. Pred | BD18: | | BE18: 1684 | BF18: 2112 | BG18: 2796 | BH18: 1249 | BI18: 950 | BJ18: 8791 | BL18: No. Pred | BM18: | | BN18: 1217 | BO18: 1638 | BP18: 1925 | BQ18: 634 | BR18: 475 | BS18: 5889
